BEGIN:VCALENDAR
VERSION:2.0
PRODID:-//Mission 25 - ECPv6.0.8//NONSGML v1.0//EN
CALSCALE:GREGORIAN
METHOD:PUBLISH
X-ORIGINAL-URL:https://www.mission25cc.org
X-WR-CALDESC:Events for Mission 25
REFRESH-INTERVAL;VALUE=DURATION:PT1H
X-Robots-Tag:noindex
X-PUBLISHED-TTL:PT1H
BEGIN:VTIMEZONE
TZID:America/Indiana/Indianapolis
BEGIN:DAYLIGHT
TZOFFSETFROM:-0500
TZOFFSETTO:-0400
TZNAME:EDT
DTSTART:20240310T070000
END:DAYLIGHT
BEGIN:STANDARD
TZOFFSETFROM:-0400
TZOFFSETTO:-0500
TZNAME:EST
DTSTART:20241103T060000
END:STANDARD
END:VTIMEZONE
BEGIN:VEVENT
DTSTART;TZID=America/Indiana/Indianapolis:20240430T193000
DTEND;TZID=America/Indiana/Indianapolis:20240430T213000
DTSTAMP:20260425T160048
CREATED:20240425T195627Z
LAST-MODIFIED:20240425T200305Z
UID:10001277-1714505400-1714512600@www.mission25cc.org
SUMMARY:12-Step Recovery Group
DESCRIPTION:The Tuesday evening 12-Step Recovery Group is a peer-led group for those seeking and/or working on their recovery from drug and/or alcohol abuse. Join us for a 12-step environment with likeminded people and freshly brewed coffee.
URL:https://www.mission25cc.org/event/12-step-recovery-group-2/
LOCATION:Columbia City\, IN\, 46725\, United States
ATTACH;FMTTYPE=image/png:https://www.mission25cc.org/wp-content/uploads/2023/12/Making-Connections-4.png
END:VEVENT
END:VCALENDAR