BEGIN:VCALENDAR
VERSION:2.0
PRODID:-//Mission 25 - ECPv6.0.8//NONSGML v1.0//EN
CALSCALE:GREGORIAN
METHOD:PUBLISH
X-WR-CALNAME:Mission 25
X-ORIGINAL-URL:https://www.mission25cc.org
X-WR-CALDESC:Events for Mission 25
REFRESH-INTERVAL;VALUE=DURATION:PT1H
X-Robots-Tag:noindex
X-PUBLISHED-TTL:PT1H
BEGIN:VTIMEZONE
TZID:America/Indiana/Indianapolis
BEGIN:DAYLIGHT
TZOFFSETFROM:-0500
TZOFFSETTO:-0400
TZNAME:EDT
DTSTART:20240310T070000
END:DAYLIGHT
BEGIN:STANDARD
TZOFFSETFROM:-0400
TZOFFSETTO:-0500
TZNAME:EST
DTSTART:20241103T060000
END:STANDARD
END:VTIMEZONE
BEGIN:VEVENT
DTSTART;TZID=America/Indiana/Indianapolis:20241218T100000
DTEND;TZID=America/Indiana/Indianapolis:20241218T110000
DTSTAMP:20260419T094857
CREATED:20231204T035005Z
LAST-MODIFIED:20240424T213417Z
UID:10000216-1734516000-1734519600@www.mission25cc.org
SUMMARY:Making Connections Group
DESCRIPTION:Making Connections is a peer-led support group for women seeking the power of connection in their recovery. Join us in a safe space for a time of sharing\, connections and freshly brewed coffee.
URL:https://www.mission25cc.org/event/making-connections-group/2024-12-18/
LOCATION:Columbia City\, IN\, 46725\, United States
ATTACH;FMTTYPE=image/png:https://www.mission25cc.org/wp-content/uploads/2023/12/Making-Connections-1.png
END:VEVENT
BEGIN:VEVENT
DTSTART;TZID=America/Indiana/Indianapolis:20241218T180000
DTEND;TZID=America/Indiana/Indianapolis:20241218T190000
DTSTAMP:20260419T094857
CREATED:20241208T231504Z
LAST-MODIFIED:20241208T231505Z
UID:10001593-1734544800-1734548400@www.mission25cc.org
SUMMARY:A Blue Christmas: Candlelight Vigil
DESCRIPTION:For many\, the holiday season is not a time of joy but a time of deep longing and sorrow. If you have lost someone dear to you\, we invite you to join us for a Blue Christmas Candlelight Vigil—a time to honor your loved one and to find comfort in community. \nThrough moments of quiet reflection\, the glow of candlelight and shared understanding\, we will create space for grief—acknowledging that it’s okay to not be okay. This in-memoriam event provides an opportunity for expression\, remembrance\, healing and community during the holiday season. \nIn collaboration with Churubusco United Methodist Church\, Columbia City United Methodist Church and Mission 25\, A Blue Christmas Candlelight Vigil will be held at the Recovery Engagement Center. \nPlease enable JavaScript in your browser to complete this form.Name *Email *Phone *AddressAddress Line 1CityAlabamaAlaskaArizonaArkansasCaliforniaColoradoConnecticutDelawareDistrict of ColumbiaFloridaGeorgiaHawaiiIdahoIllinoisIndianaIowaKansasKentuckyLouisianaMaineMarylandMassachusettsMichiganMinnesotaMississippiMissouriMontanaNebraskaNevadaNew HampshireNew JerseyNew MexicoNew YorkNorth CarolinaNorth DakotaOhioOklahomaOregonPennsylvaniaRhode IslandSouth CarolinaSouth DakotaTennesseeTexasUtahVermontVirginiaWashingtonWest VirginiaWisconsinWyomingStateZip CodeRSVP Now
URL:https://www.mission25cc.org/event/a-blue-christmas-candlelight-vigil/
LOCATION:Columbia City\, IN\, 46725\, United States
ATTACH;FMTTYPE=image/png:https://www.mission25cc.org/wp-content/uploads/2024/12/A-Blue-Christmas-Candlelight-Vigil-Event.png
END:VEVENT
END:VCALENDAR