BEGIN:VCALENDAR
VERSION:2.0
PRODID:-//Mission 25 - ECPv6.0.8//NONSGML v1.0//EN
CALSCALE:GREGORIAN
METHOD:PUBLISH
X-WR-CALNAME:Mission 25
X-ORIGINAL-URL:https://www.mission25cc.org
X-WR-CALDESC:Events for Mission 25
REFRESH-INTERVAL;VALUE=DURATION:PT1H
X-Robots-Tag:noindex
X-PUBLISHED-TTL:PT1H
BEGIN:VTIMEZONE
TZID:America/Indiana/Indianapolis
BEGIN:DAYLIGHT
TZOFFSETFROM:-0500
TZOFFSETTO:-0400
TZNAME:EDT
DTSTART:20260308T070000
END:DAYLIGHT
BEGIN:STANDARD
TZOFFSETFROM:-0400
TZOFFSETTO:-0500
TZNAME:EST
DTSTART:20261101T060000
END:STANDARD
END:VTIMEZONE
BEGIN:VEVENT
DTSTART;TZID=America/Indiana/Indianapolis:20260422T100000
DTEND;TZID=America/Indiana/Indianapolis:20260422T110000
DTSTAMP:20260420T233957
CREATED:20231204T035005Z
LAST-MODIFIED:20240424T213417Z
UID:10000286-1776852000-1776855600@www.mission25cc.org
SUMMARY:Making Connections Group
DESCRIPTION:Making Connections is a peer-led support group for women seeking the power of connection in their recovery. Join us in a safe space for a time of sharing\, connections and freshly brewed coffee.
URL:https://www.mission25cc.org/event/making-connections-group/2026-04-22/
LOCATION:Columbia City\, IN\, 46725\, United States
ATTACH;FMTTYPE=image/png:https://www.mission25cc.org/wp-content/uploads/2023/12/Making-Connections-1.png
END:VEVENT
BEGIN:VEVENT
DTSTART;TZID=America/Indiana/Indianapolis:20260429T100000
DTEND;TZID=America/Indiana/Indianapolis:20260429T110000
DTSTAMP:20260420T233957
CREATED:20231204T035005Z
LAST-MODIFIED:20240424T213417Z
UID:10000287-1777456800-1777460400@www.mission25cc.org
SUMMARY:Making Connections Group
DESCRIPTION:Making Connections is a peer-led support group for women seeking the power of connection in their recovery. Join us in a safe space for a time of sharing\, connections and freshly brewed coffee.
URL:https://www.mission25cc.org/event/making-connections-group/2026-04-29/
LOCATION:Columbia City\, IN\, 46725\, United States
ATTACH;FMTTYPE=image/png:https://www.mission25cc.org/wp-content/uploads/2023/12/Making-Connections-1.png
END:VEVENT
BEGIN:VEVENT
DTSTART;TZID=America/Indiana/Indianapolis:20260426T173000
DTEND;TZID=America/Indiana/Indianapolis:20260426T203000
DTSTAMP:20260420T233957
CREATED:20231205T135534Z
LAST-MODIFIED:20231205T135734Z
UID:10001069-1777224600-1777235400@www.mission25cc.org
SUMMARY:Celebrate Recovery
DESCRIPTION:Join us for Celebrate Recovery on Sunday evenings. Bring your hurts\, habits and hang-ups into a safe environment with likeminded people. We have a time of fellowship between 5:30 PM – 6:00 PM (come for a freshly brewed cup of coffee) and then come together in a large group format beginning at 6:00 PM. We have small groups immediately following the large group time. \nCelebrate Recovery is led by CR Leaders from The Warehouse Church.
URL:https://www.mission25cc.org/event/celebrate-recovery-2/2026-04-26/
LOCATION:Columbia City\, IN\, 46725\, United States
END:VEVENT
BEGIN:VEVENT
DTSTART;TZID=America/Indiana/Indianapolis:20260420T093000
DTEND;TZID=America/Indiana/Indianapolis:20260420T103000
DTSTAMP:20260420T233957
CREATED:20231202T200711Z
LAST-MODIFIED:20231205T140111Z
UID:10001224-1776677400-1776681000@www.mission25cc.org
SUMMARY:Journaling Through Recovery
DESCRIPTION:Join us in a safe environment on Monday mornings at the Mission 25 Recovery Engagement Center as we journal our way through recovery. Explore journal writing and/or drawing as a recovery tool in expressing feelings in a healthy\, safe and non-judgmental way. We will provide prompts for those who choose to write or draw in their journals. The tools will be provided\, along with freshly brewed coffee.
URL:https://www.mission25cc.org/event/journaling-through-recovery/2026-04-20/
LOCATION:Columbia City\, IN\, 46725\, United States
END:VEVENT
BEGIN:VEVENT
DTSTART;TZID=America/Indiana/Indianapolis:20260427T093000
DTEND;TZID=America/Indiana/Indianapolis:20260427T103000
DTSTAMP:20260420T233957
CREATED:20231202T200711Z
LAST-MODIFIED:20231205T140111Z
UID:10001225-1777282200-1777285800@www.mission25cc.org
SUMMARY:Journaling Through Recovery
DESCRIPTION:Join us in a safe environment on Monday mornings at the Mission 25 Recovery Engagement Center as we journal our way through recovery. Explore journal writing and/or drawing as a recovery tool in expressing feelings in a healthy\, safe and non-judgmental way. We will provide prompts for those who choose to write or draw in their journals. The tools will be provided\, along with freshly brewed coffee.
URL:https://www.mission25cc.org/event/journaling-through-recovery/2026-04-27/
LOCATION:Columbia City\, IN\, 46725\, United States
END:VEVENT
BEGIN:VEVENT
DTSTART;TZID=America/Indiana/Indianapolis:20260421T193000
DTEND;TZID=America/Indiana/Indianapolis:20260421T203000
DTSTAMP:20260420T233957
CREATED:20251016T141538Z
LAST-MODIFIED:20251016T142135Z
UID:10001629-1776799800-1776803400@www.mission25cc.org
SUMMARY:Recovery Group
DESCRIPTION:
URL:https://www.mission25cc.org/event/recovery-group/2026-04-21/
LOCATION:Columbia City\, IN\, 46725\, United States
END:VEVENT
BEGIN:VEVENT
DTSTART;TZID=America/Indiana/Indianapolis:20260428T193000
DTEND;TZID=America/Indiana/Indianapolis:20260428T203000
DTSTAMP:20260420T233957
CREATED:20251016T141538Z
LAST-MODIFIED:20251016T142135Z
UID:10001630-1777404600-1777408200@www.mission25cc.org
SUMMARY:Recovery Group
DESCRIPTION:
URL:https://www.mission25cc.org/event/recovery-group/2026-04-28/
LOCATION:Columbia City\, IN\, 46725\, United States
END:VEVENT
BEGIN:VEVENT
DTSTART;TZID=America/Indiana/Indianapolis:20260420T183000
DTEND;TZID=America/Indiana/Indianapolis:20260420T200000
DTSTAMP:20260420T233957
CREATED:20251215T210346Z
LAST-MODIFIED:20260122T155334Z
UID:10001779-1776709800-1776715200@www.mission25cc.org
SUMMARY:NA: Free to Be
DESCRIPTION:Hosted by Northeastern Indiana Area of Narcotics Anonymous\, Free to Be NA meets at Mission 25 Recovery Engagement Center. \nOpen to addicts and non-addicts alike\, beginner friendly\, discussion is invited by all attendees\, wheelchair accessible.
URL:https://www.mission25cc.org/event/na-free-to-be/2026-04-20/
LOCATION:Columbia City\, IN\, 46725\, United States
END:VEVENT
BEGIN:VEVENT
DTSTART;TZID=America/Indiana/Indianapolis:20260427T183000
DTEND;TZID=America/Indiana/Indianapolis:20260427T200000
DTSTAMP:20260420T233957
CREATED:20251215T210346Z
LAST-MODIFIED:20260122T155334Z
UID:10001780-1777314600-1777320000@www.mission25cc.org
SUMMARY:NA: Free to Be
DESCRIPTION:Hosted by Northeastern Indiana Area of Narcotics Anonymous\, Free to Be NA meets at Mission 25 Recovery Engagement Center. \nOpen to addicts and non-addicts alike\, beginner friendly\, discussion is invited by all attendees\, wheelchair accessible.
URL:https://www.mission25cc.org/event/na-free-to-be/2026-04-27/
LOCATION:Columbia City\, IN\, 46725\, United States
END:VEVENT
BEGIN:VEVENT
DTSTART;TZID=America/Indiana/Indianapolis:20260424T183000
DTEND;TZID=America/Indiana/Indianapolis:20260424T203000
DTSTAMP:20260420T233957
CREATED:20260415T183930Z
LAST-MODIFIED:20260415T184127Z
UID:10001988-1777055400-1777062600@www.mission25cc.org
SUMMARY:Rooted Together: Growing Past Our Addictions & Traumas
DESCRIPTION:Celebrate Arbor Day 2026 with a hands-on recovery experience at the Recovery Engagement Center! Growth starts small\, and this event will help the growth spring into action. \nLearn to connect the process of plant growth with the reality of recovery—both take time\, consistency\, and the right environment to prosper. \nAt this event\, you’ll start something from seed\, work with plant cuttings\, and leave with a visual reminder that progress is happening even when results are not yet visible. \nEvening Activities: \n\nLearn the basics of plant propagation with seeds and cuttings\nDecorate your own terra cotta pot\nPlant something to take home and grow on your own\nJOIN A PLANT SWAP — Swap a plant cutting with someone else\nFeel refreshed with fruits\, veggies\, and infused water\n\nPlease enable JavaScript in your browser to complete this form.Name *Email *Phone *AddressAddress Line 1CityAlabamaAlaskaArizonaArkansasCaliforniaColoradoConnecticutDelawareDistrict of ColumbiaFloridaGeorgiaHawaiiIdahoIllinoisIndianaIowaKansasKentuckyLouisianaMaineMarylandMassachusettsMichiganMinnesotaMississippiMissouriMontanaNebraskaNevadaNew HampshireNew JerseyNew MexicoNew YorkNorth CarolinaNorth DakotaOhioOklahomaOregonPennsylvaniaRhode IslandSouth CarolinaSouth DakotaTennesseeTexasUtahVermontVirginiaWashingtonWest VirginiaWisconsinWyomingStateZip CodeHow many people are attending? *Do you plan to bring a plant propagation or cutting? *YesNoNot sureWhat are your top reasons for attending? Select all that apply.Gathering with community!Something to do on Friday!I was invited!I love plants!I just need to be loved on right now.Entertaining the kids.It sounded interesting!I love the Recovery Engagement Center!Do you or anyone in your party have any food allergies? If so\, please specify.RSVP Now
URL:https://www.mission25cc.org/event/rooted-together-growing-past-our-addictions-traumas/
LOCATION:Columbia City\, IN\, 46725\, United States
ATTACH;FMTTYPE=image/png:https://www.mission25cc.org/wp-content/uploads/2026/04/Rooted-Together-Growing-Past-Our-Addictions-and-Traumas-Event-at-the-REC-April-2026.png
END:VEVENT
END:VCALENDAR