BEGIN:VCALENDAR
VERSION:2.0
PRODID:-//Mission 25 - ECPv6.0.8//NONSGML v1.0//EN
CALSCALE:GREGORIAN
METHOD:PUBLISH
X-WR-CALNAME:Mission 25
X-ORIGINAL-URL:https://www.mission25cc.org
X-WR-CALDESC:Events for Mission 25
REFRESH-INTERVAL;VALUE=DURATION:PT1H
X-Robots-Tag:noindex
X-PUBLISHED-TTL:PT1H
BEGIN:VTIMEZONE
TZID:America/Indiana/Indianapolis
BEGIN:DAYLIGHT
TZOFFSETFROM:-0500
TZOFFSETTO:-0400
TZNAME:EDT
DTSTART:20230312T070000
END:DAYLIGHT
BEGIN:STANDARD
TZOFFSETFROM:-0400
TZOFFSETTO:-0500
TZNAME:EST
DTSTART:20231105T060000
END:STANDARD
END:VTIMEZONE
BEGIN:VEVENT
DTSTART;TZID=America/Indiana/Indianapolis:20231204T093000
DTEND;TZID=America/Indiana/Indianapolis:20231204T103000
DTSTAMP:20260425T222119
CREATED:20231202T200711Z
LAST-MODIFIED:20231205T140111Z
UID:10000002-1701682200-1701685800@www.mission25cc.org
SUMMARY:Journaling Through Recovery
DESCRIPTION:Join us in a safe environment on Monday mornings at the Mission 25 Recovery Engagement Center as we journal our way through recovery. Explore journal writing and/or drawing as a recovery tool in expressing feelings in a healthy\, safe and non-judgmental way. We will provide prompts for those who choose to write or draw in their journals. The tools will be provided\, along with freshly brewed coffee.
URL:https://www.mission25cc.org/event/journaling-through-recovery/2023-12-04/
LOCATION:Columbia City\, IN\, 46725\, United States
END:VEVENT
BEGIN:VEVENT
DTSTART;TZID=America/Indiana/Indianapolis:20231204T193000
DTEND;TZID=America/Indiana/Indianapolis:20231204T210000
DTSTAMP:20260425T222119
CREATED:20231202T200944Z
LAST-MODIFIED:20231204T040335Z
UID:10000003-1701718200-1701723600@www.mission25cc.org
SUMMARY:AA Meeting
DESCRIPTION:Join us on Monday evenings for a 12-Step AA meeting.
URL:https://www.mission25cc.org/event/aa-meeting/2023-12-04/
LOCATION:Columbia City\, IN\, 46725\, United States
END:VEVENT
BEGIN:VEVENT
DTSTART;TZID=America/Indiana/Indianapolis:20231204T173000
DTEND;TZID=America/Indiana/Indianapolis:20231204T190000
DTSTAMP:20260425T222119
CREATED:20231202T201422Z
LAST-MODIFIED:20231204T155859Z
UID:10000004-1701711000-1701716400@www.mission25cc.org
SUMMARY:PAL - Parent/People of Addicted Loved Ones
DESCRIPTION:Join us on the first Monday of every month in a safe environment with likeminded people. We come together in a time of sharing and supporting of each other.
URL:https://www.mission25cc.org/event/aa-meeting-2/
LOCATION:Columbia City\, IN\, 46725\, United States
END:VEVENT
BEGIN:VEVENT
DTSTART;TZID=America/Indiana/Indianapolis:20231203T173000
DTEND;TZID=America/Indiana/Indianapolis:20231203T203000
DTSTAMP:20260425T222119
CREATED:20231202T202155Z
LAST-MODIFIED:20231202T202251Z
UID:10000005-1701624600-1701635400@www.mission25cc.org
SUMMARY:Celebrate Recovery
DESCRIPTION:Join us for Celebrate Recovery on Sunday evenings. Bring your hurts\, habits and hang-ups into a safe environment with likeminded people. We have a time of fellowship between 5:30 PM – 6:00 PM (come for a freshly brewed cup of coffee) and then come together in a large group format beginning at 6:00 PM. We have small groups immediately following the large group time. \nCelebrate Recovery is led by CR Leaders from The Warehouse Church.
URL:https://www.mission25cc.org/event/celebrate-recovery/
LOCATION:Columbia City\, IN\, 46725\, United States
END:VEVENT
BEGIN:VEVENT
DTSTART;TZID=America/Indiana/Indianapolis:20231210T173000
DTEND;TZID=America/Indiana/Indianapolis:20231210T203000
DTSTAMP:20260425T222119
CREATED:20231205T135534Z
LAST-MODIFIED:20231205T135734Z
UID:10000006-1702229400-1702240200@www.mission25cc.org
SUMMARY:Celebrate Recovery
DESCRIPTION:Join us for Celebrate Recovery on Sunday evenings. Bring your hurts\, habits and hang-ups into a safe environment with likeminded people. We have a time of fellowship between 5:30 PM – 6:00 PM (come for a freshly brewed cup of coffee) and then come together in a large group format beginning at 6:00 PM. We have small groups immediately following the large group time. \nCelebrate Recovery is led by CR Leaders from The Warehouse Church.
URL:https://www.mission25cc.org/event/celebrate-recovery-2/2023-12-10/
LOCATION:Columbia City\, IN\, 46725\, United States
END:VEVENT
BEGIN:VEVENT
DTSTART;TZID=America/Indiana/Indianapolis:20231206T100000
DTEND;TZID=America/Indiana/Indianapolis:20231206T110000
DTSTAMP:20260425T222119
CREATED:20231204T035005Z
LAST-MODIFIED:20240424T213417Z
UID:10000162-1701856800-1701860400@www.mission25cc.org
SUMMARY:Making Connections Group
DESCRIPTION:Making Connections is a peer-led support group for women seeking the power of connection in their recovery. Join us in a safe space for a time of sharing\, connections and freshly brewed coffee.
URL:https://www.mission25cc.org/event/making-connections-group/2023-12-06/
LOCATION:Columbia City\, IN\, 46725\, United States
ATTACH;FMTTYPE=image/png:https://www.mission25cc.org/wp-content/uploads/2023/12/Making-Connections-1.png
END:VEVENT
BEGIN:VEVENT
DTSTART;TZID=America/Indiana/Indianapolis:20231213T100000
DTEND;TZID=America/Indiana/Indianapolis:20231213T110000
DTSTAMP:20260425T222119
CREATED:20231204T035005Z
LAST-MODIFIED:20240424T213417Z
UID:10000163-1702461600-1702465200@www.mission25cc.org
SUMMARY:Making Connections Group
DESCRIPTION:Making Connections is a peer-led support group for women seeking the power of connection in their recovery. Join us in a safe space for a time of sharing\, connections and freshly brewed coffee.
URL:https://www.mission25cc.org/event/making-connections-group/2023-12-13/
LOCATION:Columbia City\, IN\, 46725\, United States
ATTACH;FMTTYPE=image/png:https://www.mission25cc.org/wp-content/uploads/2023/12/Making-Connections-1.png
END:VEVENT
BEGIN:VEVENT
DTSTART;TZID=America/Indiana/Indianapolis:20231220T100000
DTEND;TZID=America/Indiana/Indianapolis:20231220T110000
DTSTAMP:20260425T222119
CREATED:20231204T035005Z
LAST-MODIFIED:20240424T213417Z
UID:10000164-1703066400-1703070000@www.mission25cc.org
SUMMARY:Making Connections Group
DESCRIPTION:Making Connections is a peer-led support group for women seeking the power of connection in their recovery. Join us in a safe space for a time of sharing\, connections and freshly brewed coffee.
URL:https://www.mission25cc.org/event/making-connections-group/2023-12-20/
LOCATION:Columbia City\, IN\, 46725\, United States
ATTACH;FMTTYPE=image/png:https://www.mission25cc.org/wp-content/uploads/2023/12/Making-Connections-1.png
END:VEVENT
BEGIN:VEVENT
DTSTART;TZID=America/Indiana/Indianapolis:20231227T100000
DTEND;TZID=America/Indiana/Indianapolis:20231227T110000
DTSTAMP:20260425T222119
CREATED:20231204T035005Z
LAST-MODIFIED:20240424T213417Z
UID:10000165-1703671200-1703674800@www.mission25cc.org
SUMMARY:Making Connections Group
DESCRIPTION:Making Connections is a peer-led support group for women seeking the power of connection in their recovery. Join us in a safe space for a time of sharing\, connections and freshly brewed coffee.
URL:https://www.mission25cc.org/event/making-connections-group/2023-12-27/
LOCATION:Columbia City\, IN\, 46725\, United States
ATTACH;FMTTYPE=image/png:https://www.mission25cc.org/wp-content/uploads/2023/12/Making-Connections-1.png
END:VEVENT
BEGIN:VEVENT
DTSTART;TZID=America/Indiana/Indianapolis:20231206T190000
DTEND;TZID=America/Indiana/Indianapolis:20231206T203000
DTSTAMP:20260425T222119
CREATED:20231204T035244Z
LAST-MODIFIED:20240424T213304Z
UID:10000319-1701889200-1701894600@www.mission25cc.org
SUMMARY:Making Connections Group
DESCRIPTION:Making Connections is a peer-led support group for women seeking the power of connection in their recovery. Join us for a time of sharing\, connections and freshly brewed coffee.
URL:https://www.mission25cc.org/event/making-connections-group-2/
LOCATION:Columbia City\, IN\, 46725\, United States
ATTACH;FMTTYPE=image/png:https://www.mission25cc.org/wp-content/uploads/2023/12/Making-Connections-1.png
END:VEVENT
BEGIN:VEVENT
DTSTART;TZID=America/Indiana/Indianapolis:20231205T193000
DTEND;TZID=America/Indiana/Indianapolis:20231205T213000
DTSTAMP:20260425T222119
CREATED:20231204T035958Z
LAST-MODIFIED:20231205T142053Z
UID:10000476-1701804600-1701811800@www.mission25cc.org
SUMMARY:12-Step Recovery Group
DESCRIPTION:The Tuesday evening 12-Step Recovery Group is a peer-led group for those seeking and/or working on their recovery from drug and/or alcohol abuse. Join us for a 12-step environment with likeminded people and freshly brewed coffee.
URL:https://www.mission25cc.org/event/12-step-recovery-group/2023-12-05/
LOCATION:Columbia City\, IN\, 46725\, United States
END:VEVENT
BEGIN:VEVENT
DTSTART;TZID=America/Indiana/Indianapolis:20231211T193000
DTEND;TZID=America/Indiana/Indianapolis:20231211T210000
DTSTAMP:20260425T222119
CREATED:20231202T200944Z
LAST-MODIFIED:20231204T040335Z
UID:10000789-1702323000-1702328400@www.mission25cc.org
SUMMARY:AA Meeting
DESCRIPTION:Join us on Monday evenings for a 12-Step AA meeting.
URL:https://www.mission25cc.org/event/aa-meeting/2023-12-11/
LOCATION:Columbia City\, IN\, 46725\, United States
END:VEVENT
BEGIN:VEVENT
DTSTART;TZID=America/Indiana/Indianapolis:20231218T193000
DTEND;TZID=America/Indiana/Indianapolis:20231218T210000
DTSTAMP:20260425T222119
CREATED:20231202T200944Z
LAST-MODIFIED:20231204T040335Z
UID:10000790-1702927800-1702933200@www.mission25cc.org
SUMMARY:AA Meeting
DESCRIPTION:Join us on Monday evenings for a 12-Step AA meeting.
URL:https://www.mission25cc.org/event/aa-meeting/2023-12-18/
LOCATION:Columbia City\, IN\, 46725\, United States
END:VEVENT
BEGIN:VEVENT
DTSTART;TZID=America/Indiana/Indianapolis:20231225T193000
DTEND;TZID=America/Indiana/Indianapolis:20231225T210000
DTSTAMP:20260425T222119
CREATED:20231202T200944Z
LAST-MODIFIED:20231204T040335Z
UID:10000791-1703532600-1703538000@www.mission25cc.org
SUMMARY:AA Meeting
DESCRIPTION:Join us on Monday evenings for a 12-Step AA meeting.
URL:https://www.mission25cc.org/event/aa-meeting/2023-12-25/
LOCATION:Columbia City\, IN\, 46725\, United States
END:VEVENT
BEGIN:VEVENT
DTSTART;TZID=America/Indiana/Indianapolis:20231224T170000
DTEND;TZID=America/Indiana/Indianapolis:20231224T180000
DTSTAMP:20260425T222119
CREATED:20231204T041030Z
LAST-MODIFIED:20231205T150110Z
UID:10000945-1703437200-1703440800@www.mission25cc.org
SUMMARY:Christmas Eve Service - Led by The Warehouse
DESCRIPTION:Join The Warehouse Church for Christmas Eve Service at the Mission 25 Recovery Engagement Center. \n  \n 
URL:https://www.mission25cc.org/event/christmas-eve-service-led-by-the-warehouse/
LOCATION:Columbia City\, IN\, 46725\, United States
END:VEVENT
BEGIN:VEVENT
DTSTART;TZID=America/Indiana/Indianapolis:20231217T173000
DTEND;TZID=America/Indiana/Indianapolis:20231217T203000
DTSTAMP:20260425T222119
CREATED:20231205T135534Z
LAST-MODIFIED:20231205T135734Z
UID:10000946-1702834200-1702845000@www.mission25cc.org
SUMMARY:Celebrate Recovery
DESCRIPTION:Join us for Celebrate Recovery on Sunday evenings. Bring your hurts\, habits and hang-ups into a safe environment with likeminded people. We have a time of fellowship between 5:30 PM – 6:00 PM (come for a freshly brewed cup of coffee) and then come together in a large group format beginning at 6:00 PM. We have small groups immediately following the large group time. \nCelebrate Recovery is led by CR Leaders from The Warehouse Church.
URL:https://www.mission25cc.org/event/celebrate-recovery-2/2023-12-17/
LOCATION:Columbia City\, IN\, 46725\, United States
END:VEVENT
BEGIN:VEVENT
DTSTART;TZID=America/Indiana/Indianapolis:20231224T173000
DTEND;TZID=America/Indiana/Indianapolis:20231224T203000
DTSTAMP:20260425T222119
CREATED:20231205T135534Z
LAST-MODIFIED:20231205T135734Z
UID:10000947-1703439000-1703449800@www.mission25cc.org
SUMMARY:Celebrate Recovery
DESCRIPTION:Join us for Celebrate Recovery on Sunday evenings. Bring your hurts\, habits and hang-ups into a safe environment with likeminded people. We have a time of fellowship between 5:30 PM – 6:00 PM (come for a freshly brewed cup of coffee) and then come together in a large group format beginning at 6:00 PM. We have small groups immediately following the large group time. \nCelebrate Recovery is led by CR Leaders from The Warehouse Church.
URL:https://www.mission25cc.org/event/celebrate-recovery-2/2023-12-24/
LOCATION:Columbia City\, IN\, 46725\, United States
END:VEVENT
BEGIN:VEVENT
DTSTART;TZID=America/Indiana/Indianapolis:20231231T173000
DTEND;TZID=America/Indiana/Indianapolis:20231231T203000
DTSTAMP:20260425T222119
CREATED:20231205T135534Z
LAST-MODIFIED:20231205T135734Z
UID:10000948-1704043800-1704054600@www.mission25cc.org
SUMMARY:Celebrate Recovery
DESCRIPTION:Join us for Celebrate Recovery on Sunday evenings. Bring your hurts\, habits and hang-ups into a safe environment with likeminded people. We have a time of fellowship between 5:30 PM – 6:00 PM (come for a freshly brewed cup of coffee) and then come together in a large group format beginning at 6:00 PM. We have small groups immediately following the large group time. \nCelebrate Recovery is led by CR Leaders from The Warehouse Church.
URL:https://www.mission25cc.org/event/celebrate-recovery-2/2023-12-31/
LOCATION:Columbia City\, IN\, 46725\, United States
END:VEVENT
BEGIN:VEVENT
DTSTART;TZID=America/Indiana/Indianapolis:20231211T093000
DTEND;TZID=America/Indiana/Indianapolis:20231211T103000
DTSTAMP:20260425T222119
CREATED:20231202T200711Z
LAST-MODIFIED:20231205T140111Z
UID:10001101-1702287000-1702290600@www.mission25cc.org
SUMMARY:Journaling Through Recovery
DESCRIPTION:Join us in a safe environment on Monday mornings at the Mission 25 Recovery Engagement Center as we journal our way through recovery. Explore journal writing and/or drawing as a recovery tool in expressing feelings in a healthy\, safe and non-judgmental way. We will provide prompts for those who choose to write or draw in their journals. The tools will be provided\, along with freshly brewed coffee.
URL:https://www.mission25cc.org/event/journaling-through-recovery/2023-12-11/
LOCATION:Columbia City\, IN\, 46725\, United States
END:VEVENT
BEGIN:VEVENT
DTSTART;TZID=America/Indiana/Indianapolis:20231218T093000
DTEND;TZID=America/Indiana/Indianapolis:20231218T103000
DTSTAMP:20260425T222119
CREATED:20231202T200711Z
LAST-MODIFIED:20231205T140111Z
UID:10001102-1702891800-1702895400@www.mission25cc.org
SUMMARY:Journaling Through Recovery
DESCRIPTION:Join us in a safe environment on Monday mornings at the Mission 25 Recovery Engagement Center as we journal our way through recovery. Explore journal writing and/or drawing as a recovery tool in expressing feelings in a healthy\, safe and non-judgmental way. We will provide prompts for those who choose to write or draw in their journals. The tools will be provided\, along with freshly brewed coffee.
URL:https://www.mission25cc.org/event/journaling-through-recovery/2023-12-18/
LOCATION:Columbia City\, IN\, 46725\, United States
END:VEVENT
BEGIN:VEVENT
DTSTART;TZID=America/Indiana/Indianapolis:20231225T093000
DTEND;TZID=America/Indiana/Indianapolis:20231225T103000
DTSTAMP:20260425T222119
CREATED:20231202T200711Z
LAST-MODIFIED:20231205T140111Z
UID:10001103-1703496600-1703500200@www.mission25cc.org
SUMMARY:Journaling Through Recovery
DESCRIPTION:Join us in a safe environment on Monday mornings at the Mission 25 Recovery Engagement Center as we journal our way through recovery. Explore journal writing and/or drawing as a recovery tool in expressing feelings in a healthy\, safe and non-judgmental way. We will provide prompts for those who choose to write or draw in their journals. The tools will be provided\, along with freshly brewed coffee.
URL:https://www.mission25cc.org/event/journaling-through-recovery/2023-12-25/
LOCATION:Columbia City\, IN\, 46725\, United States
END:VEVENT
BEGIN:VEVENT
DTSTART;TZID=America/Indiana/Indianapolis:20231212T193000
DTEND;TZID=America/Indiana/Indianapolis:20231212T213000
DTSTAMP:20260425T222119
CREATED:20231204T035958Z
LAST-MODIFIED:20231205T142053Z
UID:10001257-1702409400-1702416600@www.mission25cc.org
SUMMARY:12-Step Recovery Group
DESCRIPTION:The Tuesday evening 12-Step Recovery Group is a peer-led group for those seeking and/or working on their recovery from drug and/or alcohol abuse. Join us for a 12-step environment with likeminded people and freshly brewed coffee.
URL:https://www.mission25cc.org/event/12-step-recovery-group/2023-12-12/
LOCATION:Columbia City\, IN\, 46725\, United States
END:VEVENT
BEGIN:VEVENT
DTSTART;TZID=America/Indiana/Indianapolis:20231219T193000
DTEND;TZID=America/Indiana/Indianapolis:20231219T213000
DTSTAMP:20260425T222119
CREATED:20231204T035958Z
LAST-MODIFIED:20231205T142053Z
UID:10001258-1703014200-1703021400@www.mission25cc.org
SUMMARY:12-Step Recovery Group
DESCRIPTION:The Tuesday evening 12-Step Recovery Group is a peer-led group for those seeking and/or working on their recovery from drug and/or alcohol abuse. Join us for a 12-step environment with likeminded people and freshly brewed coffee.
URL:https://www.mission25cc.org/event/12-step-recovery-group/2023-12-19/
LOCATION:Columbia City\, IN\, 46725\, United States
END:VEVENT
BEGIN:VEVENT
DTSTART;TZID=America/Indiana/Indianapolis:20231226T193000
DTEND;TZID=America/Indiana/Indianapolis:20231226T213000
DTSTAMP:20260425T222119
CREATED:20231204T035958Z
LAST-MODIFIED:20231205T142053Z
UID:10001259-1703619000-1703626200@www.mission25cc.org
SUMMARY:12-Step Recovery Group
DESCRIPTION:The Tuesday evening 12-Step Recovery Group is a peer-led group for those seeking and/or working on their recovery from drug and/or alcohol abuse. Join us for a 12-step environment with likeminded people and freshly brewed coffee.
URL:https://www.mission25cc.org/event/12-step-recovery-group/2023-12-26/
LOCATION:Columbia City\, IN\, 46725\, United States
END:VEVENT
END:VCALENDAR