BEGIN:VCALENDAR
VERSION:2.0
PRODID:-//Mission 25 - ECPv6.0.8//NONSGML v1.0//EN
CALSCALE:GREGORIAN
METHOD:PUBLISH
X-WR-CALNAME:Mission 25
X-ORIGINAL-URL:https://www.mission25cc.org
X-WR-CALDESC:Events for Mission 25
REFRESH-INTERVAL;VALUE=DURATION:PT1H
X-Robots-Tag:noindex
X-PUBLISHED-TTL:PT1H
BEGIN:VTIMEZONE
TZID:America/Indiana/Indianapolis
BEGIN:DAYLIGHT
TZOFFSETFROM:-0500
TZOFFSETTO:-0400
TZNAME:EDT
DTSTART:20240310T070000
END:DAYLIGHT
BEGIN:STANDARD
TZOFFSETFROM:-0400
TZOFFSETTO:-0500
TZNAME:EST
DTSTART:20241103T060000
END:STANDARD
END:VTIMEZONE
BEGIN:VEVENT
DTSTART;TZID=America/Indiana/Indianapolis:20240103T100000
DTEND;TZID=America/Indiana/Indianapolis:20240103T110000
DTSTAMP:20260425T203424
CREATED:20231204T035005Z
LAST-MODIFIED:20240424T213417Z
UID:10000166-1704276000-1704279600@www.mission25cc.org
SUMMARY:Making Connections Group
DESCRIPTION:Making Connections is a peer-led support group for women seeking the power of connection in their recovery. Join us in a safe space for a time of sharing\, connections and freshly brewed coffee.
URL:https://www.mission25cc.org/event/making-connections-group/2024-01-03/
LOCATION:Columbia City\, IN\, 46725\, United States
ATTACH;FMTTYPE=image/png:https://www.mission25cc.org/wp-content/uploads/2023/12/Making-Connections-1.png
END:VEVENT
BEGIN:VEVENT
DTSTART;TZID=America/Indiana/Indianapolis:20240110T100000
DTEND;TZID=America/Indiana/Indianapolis:20240110T110000
DTSTAMP:20260425T203424
CREATED:20231204T035005Z
LAST-MODIFIED:20240424T213417Z
UID:10000167-1704880800-1704884400@www.mission25cc.org
SUMMARY:Making Connections Group
DESCRIPTION:Making Connections is a peer-led support group for women seeking the power of connection in their recovery. Join us in a safe space for a time of sharing\, connections and freshly brewed coffee.
URL:https://www.mission25cc.org/event/making-connections-group/2024-01-10/
LOCATION:Columbia City\, IN\, 46725\, United States
ATTACH;FMTTYPE=image/png:https://www.mission25cc.org/wp-content/uploads/2023/12/Making-Connections-1.png
END:VEVENT
BEGIN:VEVENT
DTSTART;TZID=America/Indiana/Indianapolis:20240117T100000
DTEND;TZID=America/Indiana/Indianapolis:20240117T110000
DTSTAMP:20260425T203424
CREATED:20231204T035005Z
LAST-MODIFIED:20240424T213417Z
UID:10000168-1705485600-1705489200@www.mission25cc.org
SUMMARY:Making Connections Group
DESCRIPTION:Making Connections is a peer-led support group for women seeking the power of connection in their recovery. Join us in a safe space for a time of sharing\, connections and freshly brewed coffee.
URL:https://www.mission25cc.org/event/making-connections-group/2024-01-17/
LOCATION:Columbia City\, IN\, 46725\, United States
ATTACH;FMTTYPE=image/png:https://www.mission25cc.org/wp-content/uploads/2023/12/Making-Connections-1.png
END:VEVENT
BEGIN:VEVENT
DTSTART;TZID=America/Indiana/Indianapolis:20240124T100000
DTEND;TZID=America/Indiana/Indianapolis:20240124T110000
DTSTAMP:20260425T203424
CREATED:20231204T035005Z
LAST-MODIFIED:20240424T213417Z
UID:10000169-1706090400-1706094000@www.mission25cc.org
SUMMARY:Making Connections Group
DESCRIPTION:Making Connections is a peer-led support group for women seeking the power of connection in their recovery. Join us in a safe space for a time of sharing\, connections and freshly brewed coffee.
URL:https://www.mission25cc.org/event/making-connections-group/2024-01-24/
LOCATION:Columbia City\, IN\, 46725\, United States
ATTACH;FMTTYPE=image/png:https://www.mission25cc.org/wp-content/uploads/2023/12/Making-Connections-1.png
END:VEVENT
BEGIN:VEVENT
DTSTART;TZID=America/Indiana/Indianapolis:20240131T100000
DTEND;TZID=America/Indiana/Indianapolis:20240131T110000
DTSTAMP:20260425T203424
CREATED:20231204T035005Z
LAST-MODIFIED:20240424T213417Z
UID:10000170-1706695200-1706698800@www.mission25cc.org
SUMMARY:Making Connections Group
DESCRIPTION:Making Connections is a peer-led support group for women seeking the power of connection in their recovery. Join us in a safe space for a time of sharing\, connections and freshly brewed coffee.
URL:https://www.mission25cc.org/event/making-connections-group/2024-01-31/
LOCATION:Columbia City\, IN\, 46725\, United States
ATTACH;FMTTYPE=image/png:https://www.mission25cc.org/wp-content/uploads/2023/12/Making-Connections-1.png
END:VEVENT
BEGIN:VEVENT
DTSTART;TZID=America/Indiana/Indianapolis:20240101T193000
DTEND;TZID=America/Indiana/Indianapolis:20240101T210000
DTSTAMP:20260425T203424
CREATED:20231202T200944Z
LAST-MODIFIED:20231204T040335Z
UID:10000792-1704137400-1704142800@www.mission25cc.org
SUMMARY:AA Meeting
DESCRIPTION:Join us on Monday evenings for a 12-Step AA meeting.
URL:https://www.mission25cc.org/event/aa-meeting/2024-01-01/
LOCATION:Columbia City\, IN\, 46725\, United States
END:VEVENT
BEGIN:VEVENT
DTSTART;TZID=America/Indiana/Indianapolis:20240108T193000
DTEND;TZID=America/Indiana/Indianapolis:20240108T210000
DTSTAMP:20260425T203424
CREATED:20231202T200944Z
LAST-MODIFIED:20231204T040335Z
UID:10000793-1704742200-1704747600@www.mission25cc.org
SUMMARY:AA Meeting
DESCRIPTION:Join us on Monday evenings for a 12-Step AA meeting.
URL:https://www.mission25cc.org/event/aa-meeting/2024-01-08/
LOCATION:Columbia City\, IN\, 46725\, United States
END:VEVENT
BEGIN:VEVENT
DTSTART;TZID=America/Indiana/Indianapolis:20240115T193000
DTEND;TZID=America/Indiana/Indianapolis:20240115T210000
DTSTAMP:20260425T203424
CREATED:20231202T200944Z
LAST-MODIFIED:20231204T040335Z
UID:10000794-1705347000-1705352400@www.mission25cc.org
SUMMARY:AA Meeting
DESCRIPTION:Join us on Monday evenings for a 12-Step AA meeting.
URL:https://www.mission25cc.org/event/aa-meeting/2024-01-15/
LOCATION:Columbia City\, IN\, 46725\, United States
END:VEVENT
BEGIN:VEVENT
DTSTART;TZID=America/Indiana/Indianapolis:20240122T193000
DTEND;TZID=America/Indiana/Indianapolis:20240122T210000
DTSTAMP:20260425T203424
CREATED:20231202T200944Z
LAST-MODIFIED:20231204T040335Z
UID:10000795-1705951800-1705957200@www.mission25cc.org
SUMMARY:AA Meeting
DESCRIPTION:Join us on Monday evenings for a 12-Step AA meeting.
URL:https://www.mission25cc.org/event/aa-meeting/2024-01-22/
LOCATION:Columbia City\, IN\, 46725\, United States
END:VEVENT
BEGIN:VEVENT
DTSTART;TZID=America/Indiana/Indianapolis:20240129T193000
DTEND;TZID=America/Indiana/Indianapolis:20240129T210000
DTSTAMP:20260425T203424
CREATED:20231202T200944Z
LAST-MODIFIED:20231204T040335Z
UID:10000796-1706556600-1706562000@www.mission25cc.org
SUMMARY:AA Meeting
DESCRIPTION:Join us on Monday evenings for a 12-Step AA meeting.
URL:https://www.mission25cc.org/event/aa-meeting/2024-01-29/
LOCATION:Columbia City\, IN\, 46725\, United States
END:VEVENT
BEGIN:VEVENT
DTSTART;TZID=America/Indiana/Indianapolis:20240107T173000
DTEND;TZID=America/Indiana/Indianapolis:20240107T203000
DTSTAMP:20260425T203424
CREATED:20231205T135534Z
LAST-MODIFIED:20231205T135734Z
UID:10000949-1704648600-1704659400@www.mission25cc.org
SUMMARY:Celebrate Recovery
DESCRIPTION:Join us for Celebrate Recovery on Sunday evenings. Bring your hurts\, habits and hang-ups into a safe environment with likeminded people. We have a time of fellowship between 5:30 PM – 6:00 PM (come for a freshly brewed cup of coffee) and then come together in a large group format beginning at 6:00 PM. We have small groups immediately following the large group time. \nCelebrate Recovery is led by CR Leaders from The Warehouse Church.
URL:https://www.mission25cc.org/event/celebrate-recovery-2/2024-01-07/
LOCATION:Columbia City\, IN\, 46725\, United States
END:VEVENT
BEGIN:VEVENT
DTSTART;TZID=America/Indiana/Indianapolis:20240114T173000
DTEND;TZID=America/Indiana/Indianapolis:20240114T203000
DTSTAMP:20260425T203424
CREATED:20231205T135534Z
LAST-MODIFIED:20231205T135734Z
UID:10000950-1705253400-1705264200@www.mission25cc.org
SUMMARY:Celebrate Recovery
DESCRIPTION:Join us for Celebrate Recovery on Sunday evenings. Bring your hurts\, habits and hang-ups into a safe environment with likeminded people. We have a time of fellowship between 5:30 PM – 6:00 PM (come for a freshly brewed cup of coffee) and then come together in a large group format beginning at 6:00 PM. We have small groups immediately following the large group time. \nCelebrate Recovery is led by CR Leaders from The Warehouse Church.
URL:https://www.mission25cc.org/event/celebrate-recovery-2/2024-01-14/
LOCATION:Columbia City\, IN\, 46725\, United States
END:VEVENT
BEGIN:VEVENT
DTSTART;TZID=America/Indiana/Indianapolis:20240121T173000
DTEND;TZID=America/Indiana/Indianapolis:20240121T203000
DTSTAMP:20260425T203424
CREATED:20231205T135534Z
LAST-MODIFIED:20231205T135734Z
UID:10000951-1705858200-1705869000@www.mission25cc.org
SUMMARY:Celebrate Recovery
DESCRIPTION:Join us for Celebrate Recovery on Sunday evenings. Bring your hurts\, habits and hang-ups into a safe environment with likeminded people. We have a time of fellowship between 5:30 PM – 6:00 PM (come for a freshly brewed cup of coffee) and then come together in a large group format beginning at 6:00 PM. We have small groups immediately following the large group time. \nCelebrate Recovery is led by CR Leaders from The Warehouse Church.
URL:https://www.mission25cc.org/event/celebrate-recovery-2/2024-01-21/
LOCATION:Columbia City\, IN\, 46725\, United States
END:VEVENT
BEGIN:VEVENT
DTSTART;TZID=America/Indiana/Indianapolis:20240128T173000
DTEND;TZID=America/Indiana/Indianapolis:20240128T203000
DTSTAMP:20260425T203424
CREATED:20231205T135534Z
LAST-MODIFIED:20231205T135734Z
UID:10000952-1706463000-1706473800@www.mission25cc.org
SUMMARY:Celebrate Recovery
DESCRIPTION:Join us for Celebrate Recovery on Sunday evenings. Bring your hurts\, habits and hang-ups into a safe environment with likeminded people. We have a time of fellowship between 5:30 PM – 6:00 PM (come for a freshly brewed cup of coffee) and then come together in a large group format beginning at 6:00 PM. We have small groups immediately following the large group time. \nCelebrate Recovery is led by CR Leaders from The Warehouse Church.
URL:https://www.mission25cc.org/event/celebrate-recovery-2/2024-01-28/
LOCATION:Columbia City\, IN\, 46725\, United States
END:VEVENT
BEGIN:VEVENT
DTSTART;TZID=America/Indiana/Indianapolis:20240101T093000
DTEND;TZID=America/Indiana/Indianapolis:20240101T103000
DTSTAMP:20260425T203424
CREATED:20231202T200711Z
LAST-MODIFIED:20231205T140111Z
UID:10001104-1704101400-1704105000@www.mission25cc.org
SUMMARY:Journaling Through Recovery
DESCRIPTION:Join us in a safe environment on Monday mornings at the Mission 25 Recovery Engagement Center as we journal our way through recovery. Explore journal writing and/or drawing as a recovery tool in expressing feelings in a healthy\, safe and non-judgmental way. We will provide prompts for those who choose to write or draw in their journals. The tools will be provided\, along with freshly brewed coffee.
URL:https://www.mission25cc.org/event/journaling-through-recovery/2024-01-01/
LOCATION:Columbia City\, IN\, 46725\, United States
END:VEVENT
BEGIN:VEVENT
DTSTART;TZID=America/Indiana/Indianapolis:20240108T093000
DTEND;TZID=America/Indiana/Indianapolis:20240108T103000
DTSTAMP:20260425T203424
CREATED:20231202T200711Z
LAST-MODIFIED:20231205T140111Z
UID:10001105-1704706200-1704709800@www.mission25cc.org
SUMMARY:Journaling Through Recovery
DESCRIPTION:Join us in a safe environment on Monday mornings at the Mission 25 Recovery Engagement Center as we journal our way through recovery. Explore journal writing and/or drawing as a recovery tool in expressing feelings in a healthy\, safe and non-judgmental way. We will provide prompts for those who choose to write or draw in their journals. The tools will be provided\, along with freshly brewed coffee.
URL:https://www.mission25cc.org/event/journaling-through-recovery/2024-01-08/
LOCATION:Columbia City\, IN\, 46725\, United States
END:VEVENT
BEGIN:VEVENT
DTSTART;TZID=America/Indiana/Indianapolis:20240115T093000
DTEND;TZID=America/Indiana/Indianapolis:20240115T103000
DTSTAMP:20260425T203424
CREATED:20231202T200711Z
LAST-MODIFIED:20231205T140111Z
UID:10001106-1705311000-1705314600@www.mission25cc.org
SUMMARY:Journaling Through Recovery
DESCRIPTION:Join us in a safe environment on Monday mornings at the Mission 25 Recovery Engagement Center as we journal our way through recovery. Explore journal writing and/or drawing as a recovery tool in expressing feelings in a healthy\, safe and non-judgmental way. We will provide prompts for those who choose to write or draw in their journals. The tools will be provided\, along with freshly brewed coffee.
URL:https://www.mission25cc.org/event/journaling-through-recovery/2024-01-15/
LOCATION:Columbia City\, IN\, 46725\, United States
END:VEVENT
BEGIN:VEVENT
DTSTART;TZID=America/Indiana/Indianapolis:20240122T093000
DTEND;TZID=America/Indiana/Indianapolis:20240122T103000
DTSTAMP:20260425T203424
CREATED:20231202T200711Z
LAST-MODIFIED:20231205T140111Z
UID:10001107-1705915800-1705919400@www.mission25cc.org
SUMMARY:Journaling Through Recovery
DESCRIPTION:Join us in a safe environment on Monday mornings at the Mission 25 Recovery Engagement Center as we journal our way through recovery. Explore journal writing and/or drawing as a recovery tool in expressing feelings in a healthy\, safe and non-judgmental way. We will provide prompts for those who choose to write or draw in their journals. The tools will be provided\, along with freshly brewed coffee.
URL:https://www.mission25cc.org/event/journaling-through-recovery/2024-01-22/
LOCATION:Columbia City\, IN\, 46725\, United States
END:VEVENT
BEGIN:VEVENT
DTSTART;TZID=America/Indiana/Indianapolis:20240129T093000
DTEND;TZID=America/Indiana/Indianapolis:20240129T103000
DTSTAMP:20260425T203424
CREATED:20231202T200711Z
LAST-MODIFIED:20231205T140111Z
UID:10001108-1706520600-1706524200@www.mission25cc.org
SUMMARY:Journaling Through Recovery
DESCRIPTION:Join us in a safe environment on Monday mornings at the Mission 25 Recovery Engagement Center as we journal our way through recovery. Explore journal writing and/or drawing as a recovery tool in expressing feelings in a healthy\, safe and non-judgmental way. We will provide prompts for those who choose to write or draw in their journals. The tools will be provided\, along with freshly brewed coffee.
URL:https://www.mission25cc.org/event/journaling-through-recovery/2024-01-29/
LOCATION:Columbia City\, IN\, 46725\, United States
END:VEVENT
BEGIN:VEVENT
DTSTART;TZID=America/Indiana/Indianapolis:20240102T193000
DTEND;TZID=America/Indiana/Indianapolis:20240102T213000
DTSTAMP:20260425T203424
CREATED:20231204T035958Z
LAST-MODIFIED:20231205T142053Z
UID:10001260-1704223800-1704231000@www.mission25cc.org
SUMMARY:12-Step Recovery Group
DESCRIPTION:The Tuesday evening 12-Step Recovery Group is a peer-led group for those seeking and/or working on their recovery from drug and/or alcohol abuse. Join us for a 12-step environment with likeminded people and freshly brewed coffee.
URL:https://www.mission25cc.org/event/12-step-recovery-group/2024-01-02/
LOCATION:Columbia City\, IN\, 46725\, United States
END:VEVENT
BEGIN:VEVENT
DTSTART;TZID=America/Indiana/Indianapolis:20240109T193000
DTEND;TZID=America/Indiana/Indianapolis:20240109T213000
DTSTAMP:20260425T203424
CREATED:20231204T035958Z
LAST-MODIFIED:20231205T142053Z
UID:10001261-1704828600-1704835800@www.mission25cc.org
SUMMARY:12-Step Recovery Group
DESCRIPTION:The Tuesday evening 12-Step Recovery Group is a peer-led group for those seeking and/or working on their recovery from drug and/or alcohol abuse. Join us for a 12-step environment with likeminded people and freshly brewed coffee.
URL:https://www.mission25cc.org/event/12-step-recovery-group/2024-01-09/
LOCATION:Columbia City\, IN\, 46725\, United States
END:VEVENT
BEGIN:VEVENT
DTSTART;TZID=America/Indiana/Indianapolis:20240116T193000
DTEND;TZID=America/Indiana/Indianapolis:20240116T213000
DTSTAMP:20260425T203424
CREATED:20231204T035958Z
LAST-MODIFIED:20231205T142053Z
UID:10001262-1705433400-1705440600@www.mission25cc.org
SUMMARY:12-Step Recovery Group
DESCRIPTION:The Tuesday evening 12-Step Recovery Group is a peer-led group for those seeking and/or working on their recovery from drug and/or alcohol abuse. Join us for a 12-step environment with likeminded people and freshly brewed coffee.
URL:https://www.mission25cc.org/event/12-step-recovery-group/2024-01-16/
LOCATION:Columbia City\, IN\, 46725\, United States
END:VEVENT
BEGIN:VEVENT
DTSTART;TZID=America/Indiana/Indianapolis:20240123T193000
DTEND;TZID=America/Indiana/Indianapolis:20240123T213000
DTSTAMP:20260425T203424
CREATED:20231204T035958Z
LAST-MODIFIED:20231205T142053Z
UID:10001263-1706038200-1706045400@www.mission25cc.org
SUMMARY:12-Step Recovery Group
DESCRIPTION:The Tuesday evening 12-Step Recovery Group is a peer-led group for those seeking and/or working on their recovery from drug and/or alcohol abuse. Join us for a 12-step environment with likeminded people and freshly brewed coffee.
URL:https://www.mission25cc.org/event/12-step-recovery-group/2024-01-23/
LOCATION:Columbia City\, IN\, 46725\, United States
END:VEVENT
BEGIN:VEVENT
DTSTART;TZID=America/Indiana/Indianapolis:20240130T193000
DTEND;TZID=America/Indiana/Indianapolis:20240130T213000
DTSTAMP:20260425T203424
CREATED:20231204T035958Z
LAST-MODIFIED:20231205T142053Z
UID:10001264-1706643000-1706650200@www.mission25cc.org
SUMMARY:12-Step Recovery Group
DESCRIPTION:The Tuesday evening 12-Step Recovery Group is a peer-led group for those seeking and/or working on their recovery from drug and/or alcohol abuse. Join us for a 12-step environment with likeminded people and freshly brewed coffee.
URL:https://www.mission25cc.org/event/12-step-recovery-group/2024-01-30/
LOCATION:Columbia City\, IN\, 46725\, United States
END:VEVENT
END:VCALENDAR