BEGIN:VCALENDAR
VERSION:2.0
PRODID:-//Mission 25 - ECPv6.0.8//NONSGML v1.0//EN
CALSCALE:GREGORIAN
METHOD:PUBLISH
X-ORIGINAL-URL:https://www.mission25cc.org
X-WR-CALDESC:Events for Mission 25
REFRESH-INTERVAL;VALUE=DURATION:PT1H
X-Robots-Tag:noindex
X-PUBLISHED-TTL:PT1H
BEGIN:VTIMEZONE
TZID:America/Indiana/Indianapolis
BEGIN:DAYLIGHT
TZOFFSETFROM:-0500
TZOFFSETTO:-0400
TZNAME:EDT
DTSTART:20240310T070000
END:DAYLIGHT
BEGIN:STANDARD
TZOFFSETFROM:-0400
TZOFFSETTO:-0500
TZNAME:EST
DTSTART:20241103T060000
END:STANDARD
END:VTIMEZONE
BEGIN:VEVENT
DTSTART;TZID=America/Indiana/Indianapolis:20240306T100000
DTEND;TZID=America/Indiana/Indianapolis:20240306T110000
DTSTAMP:20260425T172831
CREATED:20231204T035005Z
LAST-MODIFIED:20240424T213417Z
UID:10000175-1709719200-1709722800@www.mission25cc.org
SUMMARY:Making Connections Group
DESCRIPTION:Making Connections is a peer-led support group for women seeking the power of connection in their recovery. Join us in a safe space for a time of sharing\, connections and freshly brewed coffee.
URL:https://www.mission25cc.org/event/making-connections-group/2024-03-06/
LOCATION:Columbia City\, IN\, 46725\, United States
ATTACH;FMTTYPE=image/png:https://www.mission25cc.org/wp-content/uploads/2023/12/Making-Connections-1.png
END:VEVENT
BEGIN:VEVENT
DTSTART;TZID=America/Indiana/Indianapolis:20240313T100000
DTEND;TZID=America/Indiana/Indianapolis:20240313T110000
DTSTAMP:20260425T172831
CREATED:20231204T035005Z
LAST-MODIFIED:20240424T213417Z
UID:10000176-1710324000-1710327600@www.mission25cc.org
SUMMARY:Making Connections Group
DESCRIPTION:Making Connections is a peer-led support group for women seeking the power of connection in their recovery. Join us in a safe space for a time of sharing\, connections and freshly brewed coffee.
URL:https://www.mission25cc.org/event/making-connections-group/2024-03-13/
LOCATION:Columbia City\, IN\, 46725\, United States
ATTACH;FMTTYPE=image/png:https://www.mission25cc.org/wp-content/uploads/2023/12/Making-Connections-1.png
END:VEVENT
BEGIN:VEVENT
DTSTART;TZID=America/Indiana/Indianapolis:20240320T100000
DTEND;TZID=America/Indiana/Indianapolis:20240320T110000
DTSTAMP:20260425T172831
CREATED:20231204T035005Z
LAST-MODIFIED:20240424T213417Z
UID:10000177-1710928800-1710932400@www.mission25cc.org
SUMMARY:Making Connections Group
DESCRIPTION:Making Connections is a peer-led support group for women seeking the power of connection in their recovery. Join us in a safe space for a time of sharing\, connections and freshly brewed coffee.
URL:https://www.mission25cc.org/event/making-connections-group/2024-03-20/
LOCATION:Columbia City\, IN\, 46725\, United States
ATTACH;FMTTYPE=image/png:https://www.mission25cc.org/wp-content/uploads/2023/12/Making-Connections-1.png
END:VEVENT
BEGIN:VEVENT
DTSTART;TZID=America/Indiana/Indianapolis:20240327T100000
DTEND;TZID=America/Indiana/Indianapolis:20240327T110000
DTSTAMP:20260425T172831
CREATED:20231204T035005Z
LAST-MODIFIED:20240424T213417Z
UID:10000178-1711533600-1711537200@www.mission25cc.org
SUMMARY:Making Connections Group
DESCRIPTION:Making Connections is a peer-led support group for women seeking the power of connection in their recovery. Join us in a safe space for a time of sharing\, connections and freshly brewed coffee.
URL:https://www.mission25cc.org/event/making-connections-group/2024-03-27/
LOCATION:Columbia City\, IN\, 46725\, United States
ATTACH;FMTTYPE=image/png:https://www.mission25cc.org/wp-content/uploads/2023/12/Making-Connections-1.png
END:VEVENT
BEGIN:VEVENT
DTSTART;TZID=America/Indiana/Indianapolis:20240304T193000
DTEND;TZID=America/Indiana/Indianapolis:20240304T210000
DTSTAMP:20260425T172831
CREATED:20231202T200944Z
LAST-MODIFIED:20231204T040335Z
UID:10000801-1709580600-1709586000@www.mission25cc.org
SUMMARY:AA Meeting
DESCRIPTION:Join us on Monday evenings for a 12-Step AA meeting.
URL:https://www.mission25cc.org/event/aa-meeting/2024-03-04/
LOCATION:Columbia City\, IN\, 46725\, United States
END:VEVENT
BEGIN:VEVENT
DTSTART;TZID=America/Indiana/Indianapolis:20240311T193000
DTEND;TZID=America/Indiana/Indianapolis:20240311T210000
DTSTAMP:20260425T172831
CREATED:20231202T200944Z
LAST-MODIFIED:20231204T040335Z
UID:10000802-1710185400-1710190800@www.mission25cc.org
SUMMARY:AA Meeting
DESCRIPTION:Join us on Monday evenings for a 12-Step AA meeting.
URL:https://www.mission25cc.org/event/aa-meeting/2024-03-11/
LOCATION:Columbia City\, IN\, 46725\, United States
END:VEVENT
BEGIN:VEVENT
DTSTART;TZID=America/Indiana/Indianapolis:20240318T193000
DTEND;TZID=America/Indiana/Indianapolis:20240318T210000
DTSTAMP:20260425T172831
CREATED:20231202T200944Z
LAST-MODIFIED:20231204T040335Z
UID:10000803-1710790200-1710795600@www.mission25cc.org
SUMMARY:AA Meeting
DESCRIPTION:Join us on Monday evenings for a 12-Step AA meeting.
URL:https://www.mission25cc.org/event/aa-meeting/2024-03-18/
LOCATION:Columbia City\, IN\, 46725\, United States
END:VEVENT
BEGIN:VEVENT
DTSTART;TZID=America/Indiana/Indianapolis:20240325T193000
DTEND;TZID=America/Indiana/Indianapolis:20240325T210000
DTSTAMP:20260425T172831
CREATED:20231202T200944Z
LAST-MODIFIED:20231204T040335Z
UID:10000804-1711395000-1711400400@www.mission25cc.org
SUMMARY:AA Meeting
DESCRIPTION:Join us on Monday evenings for a 12-Step AA meeting.
URL:https://www.mission25cc.org/event/aa-meeting/2024-03-25/
LOCATION:Columbia City\, IN\, 46725\, United States
END:VEVENT
BEGIN:VEVENT
DTSTART;TZID=America/Indiana/Indianapolis:20240303T173000
DTEND;TZID=America/Indiana/Indianapolis:20240303T203000
DTSTAMP:20260425T172831
CREATED:20231205T135534Z
LAST-MODIFIED:20231205T135734Z
UID:10000957-1709487000-1709497800@www.mission25cc.org
SUMMARY:Celebrate Recovery
DESCRIPTION:Join us for Celebrate Recovery on Sunday evenings. Bring your hurts\, habits and hang-ups into a safe environment with likeminded people. We have a time of fellowship between 5:30 PM – 6:00 PM (come for a freshly brewed cup of coffee) and then come together in a large group format beginning at 6:00 PM. We have small groups immediately following the large group time. \nCelebrate Recovery is led by CR Leaders from The Warehouse Church.
URL:https://www.mission25cc.org/event/celebrate-recovery-2/2024-03-03/
LOCATION:Columbia City\, IN\, 46725\, United States
END:VEVENT
BEGIN:VEVENT
DTSTART;TZID=America/Indiana/Indianapolis:20240310T173000
DTEND;TZID=America/Indiana/Indianapolis:20240310T203000
DTSTAMP:20260425T172831
CREATED:20231205T135534Z
LAST-MODIFIED:20231205T135734Z
UID:10000958-1710091800-1710102600@www.mission25cc.org
SUMMARY:Celebrate Recovery
DESCRIPTION:Join us for Celebrate Recovery on Sunday evenings. Bring your hurts\, habits and hang-ups into a safe environment with likeminded people. We have a time of fellowship between 5:30 PM – 6:00 PM (come for a freshly brewed cup of coffee) and then come together in a large group format beginning at 6:00 PM. We have small groups immediately following the large group time. \nCelebrate Recovery is led by CR Leaders from The Warehouse Church.
URL:https://www.mission25cc.org/event/celebrate-recovery-2/2024-03-10/
LOCATION:Columbia City\, IN\, 46725\, United States
END:VEVENT
BEGIN:VEVENT
DTSTART;TZID=America/Indiana/Indianapolis:20240317T173000
DTEND;TZID=America/Indiana/Indianapolis:20240317T203000
DTSTAMP:20260425T172831
CREATED:20231205T135534Z
LAST-MODIFIED:20231205T135734Z
UID:10000959-1710696600-1710707400@www.mission25cc.org
SUMMARY:Celebrate Recovery
DESCRIPTION:Join us for Celebrate Recovery on Sunday evenings. Bring your hurts\, habits and hang-ups into a safe environment with likeminded people. We have a time of fellowship between 5:30 PM – 6:00 PM (come for a freshly brewed cup of coffee) and then come together in a large group format beginning at 6:00 PM. We have small groups immediately following the large group time. \nCelebrate Recovery is led by CR Leaders from The Warehouse Church.
URL:https://www.mission25cc.org/event/celebrate-recovery-2/2024-03-17/
LOCATION:Columbia City\, IN\, 46725\, United States
END:VEVENT
BEGIN:VEVENT
DTSTART;TZID=America/Indiana/Indianapolis:20240324T173000
DTEND;TZID=America/Indiana/Indianapolis:20240324T203000
DTSTAMP:20260425T172831
CREATED:20231205T135534Z
LAST-MODIFIED:20231205T135734Z
UID:10000960-1711301400-1711312200@www.mission25cc.org
SUMMARY:Celebrate Recovery
DESCRIPTION:Join us for Celebrate Recovery on Sunday evenings. Bring your hurts\, habits and hang-ups into a safe environment with likeminded people. We have a time of fellowship between 5:30 PM – 6:00 PM (come for a freshly brewed cup of coffee) and then come together in a large group format beginning at 6:00 PM. We have small groups immediately following the large group time. \nCelebrate Recovery is led by CR Leaders from The Warehouse Church.
URL:https://www.mission25cc.org/event/celebrate-recovery-2/2024-03-24/
LOCATION:Columbia City\, IN\, 46725\, United States
END:VEVENT
BEGIN:VEVENT
DTSTART;TZID=America/Indiana/Indianapolis:20240331T173000
DTEND;TZID=America/Indiana/Indianapolis:20240331T203000
DTSTAMP:20260425T172831
CREATED:20231205T135534Z
LAST-MODIFIED:20231205T135734Z
UID:10000961-1711906200-1711917000@www.mission25cc.org
SUMMARY:Celebrate Recovery
DESCRIPTION:Join us for Celebrate Recovery on Sunday evenings. Bring your hurts\, habits and hang-ups into a safe environment with likeminded people. We have a time of fellowship between 5:30 PM – 6:00 PM (come for a freshly brewed cup of coffee) and then come together in a large group format beginning at 6:00 PM. We have small groups immediately following the large group time. \nCelebrate Recovery is led by CR Leaders from The Warehouse Church.
URL:https://www.mission25cc.org/event/celebrate-recovery-2/2024-03-31/
LOCATION:Columbia City\, IN\, 46725\, United States
END:VEVENT
BEGIN:VEVENT
DTSTART;TZID=America/Indiana/Indianapolis:20240304T093000
DTEND;TZID=America/Indiana/Indianapolis:20240304T103000
DTSTAMP:20260425T172831
CREATED:20231202T200711Z
LAST-MODIFIED:20231205T140111Z
UID:10001113-1709544600-1709548200@www.mission25cc.org
SUMMARY:Journaling Through Recovery
DESCRIPTION:Join us in a safe environment on Monday mornings at the Mission 25 Recovery Engagement Center as we journal our way through recovery. Explore journal writing and/or drawing as a recovery tool in expressing feelings in a healthy\, safe and non-judgmental way. We will provide prompts for those who choose to write or draw in their journals. The tools will be provided\, along with freshly brewed coffee.
URL:https://www.mission25cc.org/event/journaling-through-recovery/2024-03-04/
LOCATION:Columbia City\, IN\, 46725\, United States
END:VEVENT
BEGIN:VEVENT
DTSTART;TZID=America/Indiana/Indianapolis:20240311T093000
DTEND;TZID=America/Indiana/Indianapolis:20240311T103000
DTSTAMP:20260425T172831
CREATED:20231202T200711Z
LAST-MODIFIED:20231205T140111Z
UID:10001114-1710149400-1710153000@www.mission25cc.org
SUMMARY:Journaling Through Recovery
DESCRIPTION:Join us in a safe environment on Monday mornings at the Mission 25 Recovery Engagement Center as we journal our way through recovery. Explore journal writing and/or drawing as a recovery tool in expressing feelings in a healthy\, safe and non-judgmental way. We will provide prompts for those who choose to write or draw in their journals. The tools will be provided\, along with freshly brewed coffee.
URL:https://www.mission25cc.org/event/journaling-through-recovery/2024-03-11/
LOCATION:Columbia City\, IN\, 46725\, United States
END:VEVENT
BEGIN:VEVENT
DTSTART;TZID=America/Indiana/Indianapolis:20240318T093000
DTEND;TZID=America/Indiana/Indianapolis:20240318T103000
DTSTAMP:20260425T172831
CREATED:20231202T200711Z
LAST-MODIFIED:20231205T140111Z
UID:10001115-1710754200-1710757800@www.mission25cc.org
SUMMARY:Journaling Through Recovery
DESCRIPTION:Join us in a safe environment on Monday mornings at the Mission 25 Recovery Engagement Center as we journal our way through recovery. Explore journal writing and/or drawing as a recovery tool in expressing feelings in a healthy\, safe and non-judgmental way. We will provide prompts for those who choose to write or draw in their journals. The tools will be provided\, along with freshly brewed coffee.
URL:https://www.mission25cc.org/event/journaling-through-recovery/2024-03-18/
LOCATION:Columbia City\, IN\, 46725\, United States
END:VEVENT
BEGIN:VEVENT
DTSTART;TZID=America/Indiana/Indianapolis:20240325T093000
DTEND;TZID=America/Indiana/Indianapolis:20240325T103000
DTSTAMP:20260425T172832
CREATED:20231202T200711Z
LAST-MODIFIED:20231205T140111Z
UID:10001116-1711359000-1711362600@www.mission25cc.org
SUMMARY:Journaling Through Recovery
DESCRIPTION:Join us in a safe environment on Monday mornings at the Mission 25 Recovery Engagement Center as we journal our way through recovery. Explore journal writing and/or drawing as a recovery tool in expressing feelings in a healthy\, safe and non-judgmental way. We will provide prompts for those who choose to write or draw in their journals. The tools will be provided\, along with freshly brewed coffee.
URL:https://www.mission25cc.org/event/journaling-through-recovery/2024-03-25/
LOCATION:Columbia City\, IN\, 46725\, United States
END:VEVENT
BEGIN:VEVENT
DTSTART;TZID=America/Indiana/Indianapolis:20240305T193000
DTEND;TZID=America/Indiana/Indianapolis:20240305T213000
DTSTAMP:20260425T172832
CREATED:20231204T035958Z
LAST-MODIFIED:20231205T142053Z
UID:10001269-1709667000-1709674200@www.mission25cc.org
SUMMARY:12-Step Recovery Group
DESCRIPTION:The Tuesday evening 12-Step Recovery Group is a peer-led group for those seeking and/or working on their recovery from drug and/or alcohol abuse. Join us for a 12-step environment with likeminded people and freshly brewed coffee.
URL:https://www.mission25cc.org/event/12-step-recovery-group/2024-03-05/
LOCATION:Columbia City\, IN\, 46725\, United States
END:VEVENT
BEGIN:VEVENT
DTSTART;TZID=America/Indiana/Indianapolis:20240312T193000
DTEND;TZID=America/Indiana/Indianapolis:20240312T213000
DTSTAMP:20260425T172832
CREATED:20231204T035958Z
LAST-MODIFIED:20231205T142053Z
UID:10001270-1710271800-1710279000@www.mission25cc.org
SUMMARY:12-Step Recovery Group
DESCRIPTION:The Tuesday evening 12-Step Recovery Group is a peer-led group for those seeking and/or working on their recovery from drug and/or alcohol abuse. Join us for a 12-step environment with likeminded people and freshly brewed coffee.
URL:https://www.mission25cc.org/event/12-step-recovery-group/2024-03-12/
LOCATION:Columbia City\, IN\, 46725\, United States
END:VEVENT
BEGIN:VEVENT
DTSTART;TZID=America/Indiana/Indianapolis:20240319T193000
DTEND;TZID=America/Indiana/Indianapolis:20240319T213000
DTSTAMP:20260425T172832
CREATED:20231204T035958Z
LAST-MODIFIED:20231205T142053Z
UID:10001271-1710876600-1710883800@www.mission25cc.org
SUMMARY:12-Step Recovery Group
DESCRIPTION:The Tuesday evening 12-Step Recovery Group is a peer-led group for those seeking and/or working on their recovery from drug and/or alcohol abuse. Join us for a 12-step environment with likeminded people and freshly brewed coffee.
URL:https://www.mission25cc.org/event/12-step-recovery-group/2024-03-19/
LOCATION:Columbia City\, IN\, 46725\, United States
END:VEVENT
BEGIN:VEVENT
DTSTART;TZID=America/Indiana/Indianapolis:20240326T193000
DTEND;TZID=America/Indiana/Indianapolis:20240326T213000
DTSTAMP:20260425T172832
CREATED:20231204T035958Z
LAST-MODIFIED:20231205T142053Z
UID:10001272-1711481400-1711488600@www.mission25cc.org
SUMMARY:12-Step Recovery Group
DESCRIPTION:The Tuesday evening 12-Step Recovery Group is a peer-led group for those seeking and/or working on their recovery from drug and/or alcohol abuse. Join us for a 12-step environment with likeminded people and freshly brewed coffee.
URL:https://www.mission25cc.org/event/12-step-recovery-group/2024-03-26/
LOCATION:Columbia City\, IN\, 46725\, United States
END:VEVENT
BEGIN:VEVENT
DTSTART;TZID=America/Indiana/Indianapolis:20240304T170000
DTEND;TZID=America/Indiana/Indianapolis:20240304T180000
DTSTAMP:20260425T172832
CREATED:20240213T192249Z
LAST-MODIFIED:20260204T223412Z
UID:10001926-1709571600-1709575200@www.mission25cc.org
SUMMARY:Parents/People of Addicted Loved Ones (PAL)
DESCRIPTION:Join other parents or people of addicted loved ones as we navigate coping with loved ones who are dealing with substance use disorder involving either drugs or alcohol. Find hope and support in this group.
URL:https://www.mission25cc.org/event/parents-people-of-addicted-loved-ones-pal/2024-03-04/
LOCATION:Columbia City\, IN\, 46725\, United States
ATTACH;FMTTYPE=image/png:https://www.mission25cc.org/wp-content/uploads/2023/12/Making-Connections-5.png
END:VEVENT
END:VCALENDAR