BEGIN:VCALENDAR
VERSION:2.0
PRODID:-//Mission 25 - ECPv6.0.8//NONSGML v1.0//EN
CALSCALE:GREGORIAN
METHOD:PUBLISH
X-ORIGINAL-URL:https://www.mission25cc.org
X-WR-CALDESC:Events for Mission 25
REFRESH-INTERVAL;VALUE=DURATION:PT1H
X-Robots-Tag:noindex
X-PUBLISHED-TTL:PT1H
BEGIN:VTIMEZONE
TZID:America/Indiana/Indianapolis
BEGIN:DAYLIGHT
TZOFFSETFROM:-0500
TZOFFSETTO:-0400
TZNAME:EDT
DTSTART:20240310T070000
END:DAYLIGHT
BEGIN:STANDARD
TZOFFSETFROM:-0400
TZOFFSETTO:-0500
TZNAME:EST
DTSTART:20241103T060000
END:STANDARD
END:VTIMEZONE
BEGIN:VEVENT
DTSTART;TZID=America/Indiana/Indianapolis:20241106T100000
DTEND;TZID=America/Indiana/Indianapolis:20241106T110000
DTSTAMP:20260419T095331
CREATED:20231204T035005Z
LAST-MODIFIED:20240424T213417Z
UID:10000210-1730887200-1730890800@www.mission25cc.org
SUMMARY:Making Connections Group
DESCRIPTION:Making Connections is a peer-led support group for women seeking the power of connection in their recovery. Join us in a safe space for a time of sharing\, connections and freshly brewed coffee.
URL:https://www.mission25cc.org/event/making-connections-group/2024-11-06/
LOCATION:Columbia City\, IN\, 46725\, United States
ATTACH;FMTTYPE=image/png:https://www.mission25cc.org/wp-content/uploads/2023/12/Making-Connections-1.png
END:VEVENT
BEGIN:VEVENT
DTSTART;TZID=America/Indiana/Indianapolis:20241113T100000
DTEND;TZID=America/Indiana/Indianapolis:20241113T110000
DTSTAMP:20260419T095331
CREATED:20231204T035005Z
LAST-MODIFIED:20240424T213417Z
UID:10000211-1731492000-1731495600@www.mission25cc.org
SUMMARY:Making Connections Group
DESCRIPTION:Making Connections is a peer-led support group for women seeking the power of connection in their recovery. Join us in a safe space for a time of sharing\, connections and freshly brewed coffee.
URL:https://www.mission25cc.org/event/making-connections-group/2024-11-13/
LOCATION:Columbia City\, IN\, 46725\, United States
ATTACH;FMTTYPE=image/png:https://www.mission25cc.org/wp-content/uploads/2023/12/Making-Connections-1.png
END:VEVENT
BEGIN:VEVENT
DTSTART;TZID=America/Indiana/Indianapolis:20241120T100000
DTEND;TZID=America/Indiana/Indianapolis:20241120T110000
DTSTAMP:20260419T095331
CREATED:20231204T035005Z
LAST-MODIFIED:20240424T213417Z
UID:10000212-1732096800-1732100400@www.mission25cc.org
SUMMARY:Making Connections Group
DESCRIPTION:Making Connections is a peer-led support group for women seeking the power of connection in their recovery. Join us in a safe space for a time of sharing\, connections and freshly brewed coffee.
URL:https://www.mission25cc.org/event/making-connections-group/2024-11-20/
LOCATION:Columbia City\, IN\, 46725\, United States
ATTACH;FMTTYPE=image/png:https://www.mission25cc.org/wp-content/uploads/2023/12/Making-Connections-1.png
END:VEVENT
BEGIN:VEVENT
DTSTART;TZID=America/Indiana/Indianapolis:20241127T100000
DTEND;TZID=America/Indiana/Indianapolis:20241127T110000
DTSTAMP:20260419T095331
CREATED:20231204T035005Z
LAST-MODIFIED:20240424T213417Z
UID:10000213-1732701600-1732705200@www.mission25cc.org
SUMMARY:Making Connections Group
DESCRIPTION:Making Connections is a peer-led support group for women seeking the power of connection in their recovery. Join us in a safe space for a time of sharing\, connections and freshly brewed coffee.
URL:https://www.mission25cc.org/event/making-connections-group/2024-11-27/
LOCATION:Columbia City\, IN\, 46725\, United States
ATTACH;FMTTYPE=image/png:https://www.mission25cc.org/wp-content/uploads/2023/12/Making-Connections-1.png
END:VEVENT
BEGIN:VEVENT
DTSTART;TZID=America/Indiana/Indianapolis:20241103T173000
DTEND;TZID=America/Indiana/Indianapolis:20241103T203000
DTSTAMP:20260419T095331
CREATED:20231205T135534Z
LAST-MODIFIED:20231205T135734Z
UID:10000992-1730655000-1730665800@www.mission25cc.org
SUMMARY:Celebrate Recovery
DESCRIPTION:Join us for Celebrate Recovery on Sunday evenings. Bring your hurts\, habits and hang-ups into a safe environment with likeminded people. We have a time of fellowship between 5:30 PM – 6:00 PM (come for a freshly brewed cup of coffee) and then come together in a large group format beginning at 6:00 PM. We have small groups immediately following the large group time. \nCelebrate Recovery is led by CR Leaders from The Warehouse Church.
URL:https://www.mission25cc.org/event/celebrate-recovery-2/2024-11-03/
LOCATION:Columbia City\, IN\, 46725\, United States
END:VEVENT
BEGIN:VEVENT
DTSTART;TZID=America/Indiana/Indianapolis:20241110T173000
DTEND;TZID=America/Indiana/Indianapolis:20241110T203000
DTSTAMP:20260419T095331
CREATED:20231205T135534Z
LAST-MODIFIED:20231205T135734Z
UID:10000993-1731259800-1731270600@www.mission25cc.org
SUMMARY:Celebrate Recovery
DESCRIPTION:Join us for Celebrate Recovery on Sunday evenings. Bring your hurts\, habits and hang-ups into a safe environment with likeminded people. We have a time of fellowship between 5:30 PM – 6:00 PM (come for a freshly brewed cup of coffee) and then come together in a large group format beginning at 6:00 PM. We have small groups immediately following the large group time. \nCelebrate Recovery is led by CR Leaders from The Warehouse Church.
URL:https://www.mission25cc.org/event/celebrate-recovery-2/2024-11-10/
LOCATION:Columbia City\, IN\, 46725\, United States
END:VEVENT
BEGIN:VEVENT
DTSTART;TZID=America/Indiana/Indianapolis:20241117T173000
DTEND;TZID=America/Indiana/Indianapolis:20241117T203000
DTSTAMP:20260419T095331
CREATED:20231205T135534Z
LAST-MODIFIED:20231205T135734Z
UID:10000994-1731864600-1731875400@www.mission25cc.org
SUMMARY:Celebrate Recovery
DESCRIPTION:Join us for Celebrate Recovery on Sunday evenings. Bring your hurts\, habits and hang-ups into a safe environment with likeminded people. We have a time of fellowship between 5:30 PM – 6:00 PM (come for a freshly brewed cup of coffee) and then come together in a large group format beginning at 6:00 PM. We have small groups immediately following the large group time. \nCelebrate Recovery is led by CR Leaders from The Warehouse Church.
URL:https://www.mission25cc.org/event/celebrate-recovery-2/2024-11-17/
LOCATION:Columbia City\, IN\, 46725\, United States
END:VEVENT
BEGIN:VEVENT
DTSTART;TZID=America/Indiana/Indianapolis:20241124T173000
DTEND;TZID=America/Indiana/Indianapolis:20241124T203000
DTSTAMP:20260419T095331
CREATED:20231205T135534Z
LAST-MODIFIED:20231205T135734Z
UID:10000995-1732469400-1732480200@www.mission25cc.org
SUMMARY:Celebrate Recovery
DESCRIPTION:Join us for Celebrate Recovery on Sunday evenings. Bring your hurts\, habits and hang-ups into a safe environment with likeminded people. We have a time of fellowship between 5:30 PM – 6:00 PM (come for a freshly brewed cup of coffee) and then come together in a large group format beginning at 6:00 PM. We have small groups immediately following the large group time. \nCelebrate Recovery is led by CR Leaders from The Warehouse Church.
URL:https://www.mission25cc.org/event/celebrate-recovery-2/2024-11-24/
LOCATION:Columbia City\, IN\, 46725\, United States
END:VEVENT
BEGIN:VEVENT
DTSTART;TZID=America/Indiana/Indianapolis:20241104T093000
DTEND;TZID=America/Indiana/Indianapolis:20241104T103000
DTSTAMP:20260419T095331
CREATED:20231202T200711Z
LAST-MODIFIED:20231205T140111Z
UID:10001148-1730712600-1730716200@www.mission25cc.org
SUMMARY:Journaling Through Recovery
DESCRIPTION:Join us in a safe environment on Monday mornings at the Mission 25 Recovery Engagement Center as we journal our way through recovery. Explore journal writing and/or drawing as a recovery tool in expressing feelings in a healthy\, safe and non-judgmental way. We will provide prompts for those who choose to write or draw in their journals. The tools will be provided\, along with freshly brewed coffee.
URL:https://www.mission25cc.org/event/journaling-through-recovery/2024-11-04/
LOCATION:Columbia City\, IN\, 46725\, United States
END:VEVENT
BEGIN:VEVENT
DTSTART;TZID=America/Indiana/Indianapolis:20241111T093000
DTEND;TZID=America/Indiana/Indianapolis:20241111T103000
DTSTAMP:20260419T095331
CREATED:20231202T200711Z
LAST-MODIFIED:20231205T140111Z
UID:10001149-1731317400-1731321000@www.mission25cc.org
SUMMARY:Journaling Through Recovery
DESCRIPTION:Join us in a safe environment on Monday mornings at the Mission 25 Recovery Engagement Center as we journal our way through recovery. Explore journal writing and/or drawing as a recovery tool in expressing feelings in a healthy\, safe and non-judgmental way. We will provide prompts for those who choose to write or draw in their journals. The tools will be provided\, along with freshly brewed coffee.
URL:https://www.mission25cc.org/event/journaling-through-recovery/2024-11-11/
LOCATION:Columbia City\, IN\, 46725\, United States
END:VEVENT
BEGIN:VEVENT
DTSTART;TZID=America/Indiana/Indianapolis:20241118T093000
DTEND;TZID=America/Indiana/Indianapolis:20241118T103000
DTSTAMP:20260419T095331
CREATED:20231202T200711Z
LAST-MODIFIED:20231205T140111Z
UID:10001150-1731922200-1731925800@www.mission25cc.org
SUMMARY:Journaling Through Recovery
DESCRIPTION:Join us in a safe environment on Monday mornings at the Mission 25 Recovery Engagement Center as we journal our way through recovery. Explore journal writing and/or drawing as a recovery tool in expressing feelings in a healthy\, safe and non-judgmental way. We will provide prompts for those who choose to write or draw in their journals. The tools will be provided\, along with freshly brewed coffee.
URL:https://www.mission25cc.org/event/journaling-through-recovery/2024-11-18/
LOCATION:Columbia City\, IN\, 46725\, United States
END:VEVENT
BEGIN:VEVENT
DTSTART;TZID=America/Indiana/Indianapolis:20241125T093000
DTEND;TZID=America/Indiana/Indianapolis:20241125T103000
DTSTAMP:20260419T095331
CREATED:20231202T200711Z
LAST-MODIFIED:20231205T140111Z
UID:10001151-1732527000-1732530600@www.mission25cc.org
SUMMARY:Journaling Through Recovery
DESCRIPTION:Join us in a safe environment on Monday mornings at the Mission 25 Recovery Engagement Center as we journal our way through recovery. Explore journal writing and/or drawing as a recovery tool in expressing feelings in a healthy\, safe and non-judgmental way. We will provide prompts for those who choose to write or draw in their journals. The tools will be provided\, along with freshly brewed coffee.
URL:https://www.mission25cc.org/event/journaling-through-recovery/2024-11-25/
LOCATION:Columbia City\, IN\, 46725\, United States
END:VEVENT
BEGIN:VEVENT
DTSTART;TZID=America/Indiana/Indianapolis:20241104T180000
DTEND;TZID=America/Indiana/Indianapolis:20241104T200000
DTSTAMP:20260419T095331
CREATED:20241017T020942Z
LAST-MODIFIED:20241017T022543Z
UID:10001438-1730743200-1730750400@www.mission25cc.org
SUMMARY:Expressive Melodies: Songwriting Workshop
DESCRIPTION:Join us for Expressive Melodies\, an engaging songwriting workshop series at the Mission 25 Recovery Engagement Center. This weekly event\, lead by Gralan Early of Fulcrum Entertainment\, is designed to provide a creative outlet for individuals in recovery\, foster emotional well-being\, and build a supportive community. Whether you’re a seasoned songwriter or just starting\, this program offers a safe space to explore your creativity\, share your story through music\, and collaborate with others. \nEach session will cover songwriting fundamentals\, including music theory\, lyric writing\, melody crafting\, and more. Participants will also have the opportunity to perform their songs\, receive feedback\, and learn about the business of songwriting. \nThis is your chance to turn your emotions and experiences into powerful music\, all while connecting with others on the same journey. \nExpressive Melodies is FREE and open to adults looking for a creative outlet for their recovery. \nPlease enable JavaScript in your browser to complete this form.Name *Email *Phone *AddressAddress Line 1CityAlabamaAlaskaArizonaArkansasCaliforniaColoradoConnecticutDelawareDistrict of ColumbiaFloridaGeorgiaHawaiiIdahoIllinoisIndianaIowaKansasKentuckyLouisianaMaineMarylandMassachusettsMichiganMinnesotaMississippiMissouriMontanaNebraskaNevadaNew HampshireNew JerseyNew MexicoNew YorkNorth CarolinaNorth DakotaOhioOklahomaOregonPennsylvaniaRhode IslandSouth CarolinaSouth DakotaTennesseeTexasUtahVermontVirginiaWashingtonWest VirginiaWisconsinWyomingStateZip CodeRSVP Now
URL:https://www.mission25cc.org/event/expressive-melodies-songwriting-workshop/2024-11-04/
LOCATION:Columbia City\, IN\, 46725\, United States
END:VEVENT
BEGIN:VEVENT
DTSTART;TZID=America/Indiana/Indianapolis:20241111T180000
DTEND;TZID=America/Indiana/Indianapolis:20241111T200000
DTSTAMP:20260419T095331
CREATED:20241017T020942Z
LAST-MODIFIED:20241017T022543Z
UID:10001439-1731348000-1731355200@www.mission25cc.org
SUMMARY:Expressive Melodies: Songwriting Workshop
DESCRIPTION:Join us for Expressive Melodies\, an engaging songwriting workshop series at the Mission 25 Recovery Engagement Center. This weekly event\, lead by Gralan Early of Fulcrum Entertainment\, is designed to provide a creative outlet for individuals in recovery\, foster emotional well-being\, and build a supportive community. Whether you’re a seasoned songwriter or just starting\, this program offers a safe space to explore your creativity\, share your story through music\, and collaborate with others. \nEach session will cover songwriting fundamentals\, including music theory\, lyric writing\, melody crafting\, and more. Participants will also have the opportunity to perform their songs\, receive feedback\, and learn about the business of songwriting. \nThis is your chance to turn your emotions and experiences into powerful music\, all while connecting with others on the same journey. \nExpressive Melodies is FREE and open to adults looking for a creative outlet for their recovery. \nPlease enable JavaScript in your browser to complete this form.Name *Email *Phone *AddressAddress Line 1CityAlabamaAlaskaArizonaArkansasCaliforniaColoradoConnecticutDelawareDistrict of ColumbiaFloridaGeorgiaHawaiiIdahoIllinoisIndianaIowaKansasKentuckyLouisianaMaineMarylandMassachusettsMichiganMinnesotaMississippiMissouriMontanaNebraskaNevadaNew HampshireNew JerseyNew MexicoNew YorkNorth CarolinaNorth DakotaOhioOklahomaOregonPennsylvaniaRhode IslandSouth CarolinaSouth DakotaTennesseeTexasUtahVermontVirginiaWashingtonWest VirginiaWisconsinWyomingStateZip CodeRSVP Now
URL:https://www.mission25cc.org/event/expressive-melodies-songwriting-workshop/2024-11-11/
LOCATION:Columbia City\, IN\, 46725\, United States
END:VEVENT
BEGIN:VEVENT
DTSTART;TZID=America/Indiana/Indianapolis:20241118T180000
DTEND;TZID=America/Indiana/Indianapolis:20241118T200000
DTSTAMP:20260419T095331
CREATED:20241017T020942Z
LAST-MODIFIED:20241017T022543Z
UID:10001440-1731952800-1731960000@www.mission25cc.org
SUMMARY:Expressive Melodies: Songwriting Workshop
DESCRIPTION:Join us for Expressive Melodies\, an engaging songwriting workshop series at the Mission 25 Recovery Engagement Center. This weekly event\, lead by Gralan Early of Fulcrum Entertainment\, is designed to provide a creative outlet for individuals in recovery\, foster emotional well-being\, and build a supportive community. Whether you’re a seasoned songwriter or just starting\, this program offers a safe space to explore your creativity\, share your story through music\, and collaborate with others. \nEach session will cover songwriting fundamentals\, including music theory\, lyric writing\, melody crafting\, and more. Participants will also have the opportunity to perform their songs\, receive feedback\, and learn about the business of songwriting. \nThis is your chance to turn your emotions and experiences into powerful music\, all while connecting with others on the same journey. \nExpressive Melodies is FREE and open to adults looking for a creative outlet for their recovery. \nPlease enable JavaScript in your browser to complete this form.Name *Email *Phone *AddressAddress Line 1CityAlabamaAlaskaArizonaArkansasCaliforniaColoradoConnecticutDelawareDistrict of ColumbiaFloridaGeorgiaHawaiiIdahoIllinoisIndianaIowaKansasKentuckyLouisianaMaineMarylandMassachusettsMichiganMinnesotaMississippiMissouriMontanaNebraskaNevadaNew HampshireNew JerseyNew MexicoNew YorkNorth CarolinaNorth DakotaOhioOklahomaOregonPennsylvaniaRhode IslandSouth CarolinaSouth DakotaTennesseeTexasUtahVermontVirginiaWashingtonWest VirginiaWisconsinWyomingStateZip CodeRSVP Now
URL:https://www.mission25cc.org/event/expressive-melodies-songwriting-workshop/2024-11-18/
LOCATION:Columbia City\, IN\, 46725\, United States
END:VEVENT
BEGIN:VEVENT
DTSTART;TZID=America/Indiana/Indianapolis:20241125T180000
DTEND;TZID=America/Indiana/Indianapolis:20241125T200000
DTSTAMP:20260419T095331
CREATED:20241017T020942Z
LAST-MODIFIED:20241017T022543Z
UID:10001441-1732557600-1732564800@www.mission25cc.org
SUMMARY:Expressive Melodies: Songwriting Workshop
DESCRIPTION:Join us for Expressive Melodies\, an engaging songwriting workshop series at the Mission 25 Recovery Engagement Center. This weekly event\, lead by Gralan Early of Fulcrum Entertainment\, is designed to provide a creative outlet for individuals in recovery\, foster emotional well-being\, and build a supportive community. Whether you’re a seasoned songwriter or just starting\, this program offers a safe space to explore your creativity\, share your story through music\, and collaborate with others. \nEach session will cover songwriting fundamentals\, including music theory\, lyric writing\, melody crafting\, and more. Participants will also have the opportunity to perform their songs\, receive feedback\, and learn about the business of songwriting. \nThis is your chance to turn your emotions and experiences into powerful music\, all while connecting with others on the same journey. \nExpressive Melodies is FREE and open to adults looking for a creative outlet for their recovery. \nPlease enable JavaScript in your browser to complete this form.Name *Email *Phone *AddressAddress Line 1CityAlabamaAlaskaArizonaArkansasCaliforniaColoradoConnecticutDelawareDistrict of ColumbiaFloridaGeorgiaHawaiiIdahoIllinoisIndianaIowaKansasKentuckyLouisianaMaineMarylandMassachusettsMichiganMinnesotaMississippiMissouriMontanaNebraskaNevadaNew HampshireNew JerseyNew MexicoNew YorkNorth CarolinaNorth DakotaOhioOklahomaOregonPennsylvaniaRhode IslandSouth CarolinaSouth DakotaTennesseeTexasUtahVermontVirginiaWashingtonWest VirginiaWisconsinWyomingStateZip CodeRSVP Now
URL:https://www.mission25cc.org/event/expressive-melodies-songwriting-workshop/2024-11-25/
LOCATION:Columbia City\, IN\, 46725\, United States
END:VEVENT
BEGIN:VEVENT
DTSTART;TZID=America/Indiana/Indianapolis:20241115T190000
DTEND;TZID=America/Indiana/Indianapolis:20241115T210000
DTSTAMP:20260419T095331
CREATED:20241105T001204Z
LAST-MODIFIED:20241105T001204Z
UID:10001592-1731697200-1731704400@www.mission25cc.org
SUMMARY:Friends & Flannels Friendsgiving Event
DESCRIPTION:Grab your favorite flannel and join us for an unforgettable Friendsgiving night full of warmth\, gratitude\, and good times! Our first Friends & Flannels Friendsgiving Event wouldn’t be complete without a pizza party\, caramel apple bar\, game time\, art workshop\, and YOU. \nDon’t forget your flannel! This cozy gathering is all about celebrating friendship\, sharing laughs\, and enjoying the warmth of the season. We can’t wait to make this Friendsgiving one to remember with you. \nFriends & Flannels Friendsgiving is FREE and open to individuals to gather with others in thanks and friendship! \n\nEnjoy an array of delicious pizza options to kick off the evening! We’ve got the classic flavors covered so everyone can dig in. Make your own fall treat at our caramel apple bar! With slices\, caramel\, and all your favorite toppings\, you can create a custom treat that’s perfect for the season. Let the games begin! We’ll be hosting a round of Jeopardy or Bingo for some friendly competition. Fun prizes await\, so bring your A-game! Reflect on what you’re thankful for as we each create our own Grateful Tree. A simple but meaningful craft to take home and display\, capturing the spirit of the season. \nPlease enable JavaScript in your browser to complete this form.Name *Email *Phone *Do you have any food allergies\, specifically to nuts?AddressAddress Line 1CityAlabamaAlaskaArizonaArkansasCaliforniaColoradoConnecticutDelawareDistrict of ColumbiaFloridaGeorgiaHawaiiIdahoIllinoisIndianaIowaKansasKentuckyLouisianaMaineMarylandMassachusettsMichiganMinnesotaMississippiMissouriMontanaNebraskaNevadaNew HampshireNew JerseyNew MexicoNew YorkNorth CarolinaNorth DakotaOhioOklahomaOregonPennsylvaniaRhode IslandSouth CarolinaSouth DakotaTennesseeTexasUtahVermontVirginiaWashingtonWest VirginiaWisconsinWyomingStateZip CodeRSVP Now
URL:https://www.mission25cc.org/event/friends-flannels-friendsgiving-event/
LOCATION:Columbia City\, IN\, 46725\, United States
ATTACH;FMTTYPE=image/png:https://www.mission25cc.org/wp-content/uploads/2024/11/Friends-and-Flannels-Friendsgiving-Event-at-the-Mission-25-Recovery-Engagement-Center-in-Columbia-City-Indiana.png
END:VEVENT
BEGIN:VEVENT
DTSTART;TZID=America/Indiana/Indianapolis:20241104T170000
DTEND;TZID=America/Indiana/Indianapolis:20241104T180000
DTSTAMP:20260419T095331
CREATED:20240213T192249Z
LAST-MODIFIED:20260204T223412Z
UID:10001934-1730739600-1730743200@www.mission25cc.org
SUMMARY:Parents/People of Addicted Loved Ones (PAL)
DESCRIPTION:Join other parents or people of addicted loved ones as we navigate coping with loved ones who are dealing with substance use disorder involving either drugs or alcohol. Find hope and support in this group.
URL:https://www.mission25cc.org/event/parents-people-of-addicted-loved-ones-pal/2024-11-04/
LOCATION:Columbia City\, IN\, 46725\, United States
ATTACH;FMTTYPE=image/png:https://www.mission25cc.org/wp-content/uploads/2023/12/Making-Connections-5.png
END:VEVENT
END:VCALENDAR