BEGIN:VCALENDAR
VERSION:2.0
PRODID:-//Mission 25 - ECPv6.0.8//NONSGML v1.0//EN
CALSCALE:GREGORIAN
METHOD:PUBLISH
X-WR-CALNAME:Mission 25
X-ORIGINAL-URL:https://www.mission25cc.org
X-WR-CALDESC:Events for Mission 25
REFRESH-INTERVAL;VALUE=DURATION:PT1H
X-Robots-Tag:noindex
X-PUBLISHED-TTL:PT1H
BEGIN:VTIMEZONE
TZID:America/Indiana/Indianapolis
BEGIN:DAYLIGHT
TZOFFSETFROM:-0500
TZOFFSETTO:-0400
TZNAME:EDT
DTSTART:20250309T070000
END:DAYLIGHT
BEGIN:STANDARD
TZOFFSETFROM:-0400
TZOFFSETTO:-0500
TZNAME:EST
DTSTART:20251102T060000
END:STANDARD
END:VTIMEZONE
BEGIN:VEVENT
DTSTART;TZID=America/Indiana/Indianapolis:20251105T100000
DTEND;TZID=America/Indiana/Indianapolis:20251105T110000
DTSTAMP:20260425T164139
CREATED:20231204T035005Z
LAST-MODIFIED:20240424T213417Z
UID:10000262-1762336800-1762340400@www.mission25cc.org
SUMMARY:Making Connections Group
DESCRIPTION:Making Connections is a peer-led support group for women seeking the power of connection in their recovery. Join us in a safe space for a time of sharing\, connections and freshly brewed coffee.
URL:https://www.mission25cc.org/event/making-connections-group/2025-11-05/
LOCATION:Columbia City\, IN\, 46725\, United States
ATTACH;FMTTYPE=image/png:https://www.mission25cc.org/wp-content/uploads/2023/12/Making-Connections-1.png
END:VEVENT
BEGIN:VEVENT
DTSTART;TZID=America/Indiana/Indianapolis:20251112T100000
DTEND;TZID=America/Indiana/Indianapolis:20251112T110000
DTSTAMP:20260425T164139
CREATED:20231204T035005Z
LAST-MODIFIED:20240424T213417Z
UID:10000263-1762941600-1762945200@www.mission25cc.org
SUMMARY:Making Connections Group
DESCRIPTION:Making Connections is a peer-led support group for women seeking the power of connection in their recovery. Join us in a safe space for a time of sharing\, connections and freshly brewed coffee.
URL:https://www.mission25cc.org/event/making-connections-group/2025-11-12/
LOCATION:Columbia City\, IN\, 46725\, United States
ATTACH;FMTTYPE=image/png:https://www.mission25cc.org/wp-content/uploads/2023/12/Making-Connections-1.png
END:VEVENT
BEGIN:VEVENT
DTSTART;TZID=America/Indiana/Indianapolis:20251119T100000
DTEND;TZID=America/Indiana/Indianapolis:20251119T110000
DTSTAMP:20260425T164139
CREATED:20231204T035005Z
LAST-MODIFIED:20240424T213417Z
UID:10000264-1763546400-1763550000@www.mission25cc.org
SUMMARY:Making Connections Group
DESCRIPTION:Making Connections is a peer-led support group for women seeking the power of connection in their recovery. Join us in a safe space for a time of sharing\, connections and freshly brewed coffee.
URL:https://www.mission25cc.org/event/making-connections-group/2025-11-19/
LOCATION:Columbia City\, IN\, 46725\, United States
ATTACH;FMTTYPE=image/png:https://www.mission25cc.org/wp-content/uploads/2023/12/Making-Connections-1.png
END:VEVENT
BEGIN:VEVENT
DTSTART;TZID=America/Indiana/Indianapolis:20251126T100000
DTEND;TZID=America/Indiana/Indianapolis:20251126T110000
DTSTAMP:20260425T164139
CREATED:20231204T035005Z
LAST-MODIFIED:20240424T213417Z
UID:10000265-1764151200-1764154800@www.mission25cc.org
SUMMARY:Making Connections Group
DESCRIPTION:Making Connections is a peer-led support group for women seeking the power of connection in their recovery. Join us in a safe space for a time of sharing\, connections and freshly brewed coffee.
URL:https://www.mission25cc.org/event/making-connections-group/2025-11-26/
LOCATION:Columbia City\, IN\, 46725\, United States
ATTACH;FMTTYPE=image/png:https://www.mission25cc.org/wp-content/uploads/2023/12/Making-Connections-1.png
END:VEVENT
BEGIN:VEVENT
DTSTART;TZID=America/Indiana/Indianapolis:20251102T173000
DTEND;TZID=America/Indiana/Indianapolis:20251102T203000
DTSTAMP:20260425T164139
CREATED:20231205T135534Z
LAST-MODIFIED:20231205T135734Z
UID:10001044-1762104600-1762115400@www.mission25cc.org
SUMMARY:Celebrate Recovery
DESCRIPTION:Join us for Celebrate Recovery on Sunday evenings. Bring your hurts\, habits and hang-ups into a safe environment with likeminded people. We have a time of fellowship between 5:30 PM – 6:00 PM (come for a freshly brewed cup of coffee) and then come together in a large group format beginning at 6:00 PM. We have small groups immediately following the large group time. \nCelebrate Recovery is led by CR Leaders from The Warehouse Church.
URL:https://www.mission25cc.org/event/celebrate-recovery-2/2025-11-02/
LOCATION:Columbia City\, IN\, 46725\, United States
END:VEVENT
BEGIN:VEVENT
DTSTART;TZID=America/Indiana/Indianapolis:20251109T173000
DTEND;TZID=America/Indiana/Indianapolis:20251109T203000
DTSTAMP:20260425T164139
CREATED:20231205T135534Z
LAST-MODIFIED:20231205T135734Z
UID:10001045-1762709400-1762720200@www.mission25cc.org
SUMMARY:Celebrate Recovery
DESCRIPTION:Join us for Celebrate Recovery on Sunday evenings. Bring your hurts\, habits and hang-ups into a safe environment with likeminded people. We have a time of fellowship between 5:30 PM – 6:00 PM (come for a freshly brewed cup of coffee) and then come together in a large group format beginning at 6:00 PM. We have small groups immediately following the large group time. \nCelebrate Recovery is led by CR Leaders from The Warehouse Church.
URL:https://www.mission25cc.org/event/celebrate-recovery-2/2025-11-09/
LOCATION:Columbia City\, IN\, 46725\, United States
END:VEVENT
BEGIN:VEVENT
DTSTART;TZID=America/Indiana/Indianapolis:20251116T173000
DTEND;TZID=America/Indiana/Indianapolis:20251116T203000
DTSTAMP:20260425T164139
CREATED:20231205T135534Z
LAST-MODIFIED:20231205T135734Z
UID:10001046-1763314200-1763325000@www.mission25cc.org
SUMMARY:Celebrate Recovery
DESCRIPTION:Join us for Celebrate Recovery on Sunday evenings. Bring your hurts\, habits and hang-ups into a safe environment with likeminded people. We have a time of fellowship between 5:30 PM – 6:00 PM (come for a freshly brewed cup of coffee) and then come together in a large group format beginning at 6:00 PM. We have small groups immediately following the large group time. \nCelebrate Recovery is led by CR Leaders from The Warehouse Church.
URL:https://www.mission25cc.org/event/celebrate-recovery-2/2025-11-16/
LOCATION:Columbia City\, IN\, 46725\, United States
END:VEVENT
BEGIN:VEVENT
DTSTART;TZID=America/Indiana/Indianapolis:20251123T173000
DTEND;TZID=America/Indiana/Indianapolis:20251123T203000
DTSTAMP:20260425T164139
CREATED:20231205T135534Z
LAST-MODIFIED:20231205T135734Z
UID:10001047-1763919000-1763929800@www.mission25cc.org
SUMMARY:Celebrate Recovery
DESCRIPTION:Join us for Celebrate Recovery on Sunday evenings. Bring your hurts\, habits and hang-ups into a safe environment with likeminded people. We have a time of fellowship between 5:30 PM – 6:00 PM (come for a freshly brewed cup of coffee) and then come together in a large group format beginning at 6:00 PM. We have small groups immediately following the large group time. \nCelebrate Recovery is led by CR Leaders from The Warehouse Church.
URL:https://www.mission25cc.org/event/celebrate-recovery-2/2025-11-23/
LOCATION:Columbia City\, IN\, 46725\, United States
END:VEVENT
BEGIN:VEVENT
DTSTART;TZID=America/Indiana/Indianapolis:20251130T173000
DTEND;TZID=America/Indiana/Indianapolis:20251130T203000
DTSTAMP:20260425T164139
CREATED:20231205T135534Z
LAST-MODIFIED:20231205T135734Z
UID:10001048-1764523800-1764534600@www.mission25cc.org
SUMMARY:Celebrate Recovery
DESCRIPTION:Join us for Celebrate Recovery on Sunday evenings. Bring your hurts\, habits and hang-ups into a safe environment with likeminded people. We have a time of fellowship between 5:30 PM – 6:00 PM (come for a freshly brewed cup of coffee) and then come together in a large group format beginning at 6:00 PM. We have small groups immediately following the large group time. \nCelebrate Recovery is led by CR Leaders from The Warehouse Church.
URL:https://www.mission25cc.org/event/celebrate-recovery-2/2025-11-30/
LOCATION:Columbia City\, IN\, 46725\, United States
END:VEVENT
BEGIN:VEVENT
DTSTART;TZID=America/Indiana/Indianapolis:20251103T093000
DTEND;TZID=America/Indiana/Indianapolis:20251103T103000
DTSTAMP:20260425T164139
CREATED:20231202T200711Z
LAST-MODIFIED:20231205T140111Z
UID:10001200-1762162200-1762165800@www.mission25cc.org
SUMMARY:Journaling Through Recovery
DESCRIPTION:Join us in a safe environment on Monday mornings at the Mission 25 Recovery Engagement Center as we journal our way through recovery. Explore journal writing and/or drawing as a recovery tool in expressing feelings in a healthy\, safe and non-judgmental way. We will provide prompts for those who choose to write or draw in their journals. The tools will be provided\, along with freshly brewed coffee.
URL:https://www.mission25cc.org/event/journaling-through-recovery/2025-11-03/
LOCATION:Columbia City\, IN\, 46725\, United States
END:VEVENT
BEGIN:VEVENT
DTSTART;TZID=America/Indiana/Indianapolis:20251110T093000
DTEND;TZID=America/Indiana/Indianapolis:20251110T103000
DTSTAMP:20260425T164139
CREATED:20231202T200711Z
LAST-MODIFIED:20231205T140111Z
UID:10001201-1762767000-1762770600@www.mission25cc.org
SUMMARY:Journaling Through Recovery
DESCRIPTION:Join us in a safe environment on Monday mornings at the Mission 25 Recovery Engagement Center as we journal our way through recovery. Explore journal writing and/or drawing as a recovery tool in expressing feelings in a healthy\, safe and non-judgmental way. We will provide prompts for those who choose to write or draw in their journals. The tools will be provided\, along with freshly brewed coffee.
URL:https://www.mission25cc.org/event/journaling-through-recovery/2025-11-10/
LOCATION:Columbia City\, IN\, 46725\, United States
END:VEVENT
BEGIN:VEVENT
DTSTART;TZID=America/Indiana/Indianapolis:20251117T093000
DTEND;TZID=America/Indiana/Indianapolis:20251117T103000
DTSTAMP:20260425T164139
CREATED:20231202T200711Z
LAST-MODIFIED:20231205T140111Z
UID:10001202-1763371800-1763375400@www.mission25cc.org
SUMMARY:Journaling Through Recovery
DESCRIPTION:Join us in a safe environment on Monday mornings at the Mission 25 Recovery Engagement Center as we journal our way through recovery. Explore journal writing and/or drawing as a recovery tool in expressing feelings in a healthy\, safe and non-judgmental way. We will provide prompts for those who choose to write or draw in their journals. The tools will be provided\, along with freshly brewed coffee.
URL:https://www.mission25cc.org/event/journaling-through-recovery/2025-11-17/
LOCATION:Columbia City\, IN\, 46725\, United States
END:VEVENT
BEGIN:VEVENT
DTSTART;TZID=America/Indiana/Indianapolis:20251124T093000
DTEND;TZID=America/Indiana/Indianapolis:20251124T103000
DTSTAMP:20260425T164139
CREATED:20231202T200711Z
LAST-MODIFIED:20231205T140111Z
UID:10001203-1763976600-1763980200@www.mission25cc.org
SUMMARY:Journaling Through Recovery
DESCRIPTION:Join us in a safe environment on Monday mornings at the Mission 25 Recovery Engagement Center as we journal our way through recovery. Explore journal writing and/or drawing as a recovery tool in expressing feelings in a healthy\, safe and non-judgmental way. We will provide prompts for those who choose to write or draw in their journals. The tools will be provided\, along with freshly brewed coffee.
URL:https://www.mission25cc.org/event/journaling-through-recovery/2025-11-24/
LOCATION:Columbia City\, IN\, 46725\, United States
END:VEVENT
BEGIN:VEVENT
DTSTART;TZID=America/Indiana/Indianapolis:20251103T173000
DTEND;TZID=America/Indiana/Indianapolis:20251103T183000
DTSTAMP:20260425T164139
CREATED:20251016T141739Z
LAST-MODIFIED:20251016T141739Z
UID:10001603-1762191000-1762194600@www.mission25cc.org
SUMMARY:Parents/Persons of Addicted Loved Ones (PALS)
DESCRIPTION:
URL:https://www.mission25cc.org/event/parents-persons-of-addicted-loved-ones-pals/
LOCATION:Columbia City\, IN\, 46725\, United States
END:VEVENT
BEGIN:VEVENT
DTSTART;TZID=America/Indiana/Indianapolis:20251104T193000
DTEND;TZID=America/Indiana/Indianapolis:20251104T203000
DTSTAMP:20260425T164139
CREATED:20251016T141538Z
LAST-MODIFIED:20251016T142135Z
UID:10001605-1762284600-1762288200@www.mission25cc.org
SUMMARY:Recovery Group
DESCRIPTION:
URL:https://www.mission25cc.org/event/recovery-group/2025-11-04/
LOCATION:Columbia City\, IN\, 46725\, United States
END:VEVENT
BEGIN:VEVENT
DTSTART;TZID=America/Indiana/Indianapolis:20251111T193000
DTEND;TZID=America/Indiana/Indianapolis:20251111T203000
DTSTAMP:20260425T164139
CREATED:20251016T141538Z
LAST-MODIFIED:20251016T142135Z
UID:10001606-1762889400-1762893000@www.mission25cc.org
SUMMARY:Recovery Group
DESCRIPTION:
URL:https://www.mission25cc.org/event/recovery-group/2025-11-11/
LOCATION:Columbia City\, IN\, 46725\, United States
END:VEVENT
BEGIN:VEVENT
DTSTART;TZID=America/Indiana/Indianapolis:20251118T193000
DTEND;TZID=America/Indiana/Indianapolis:20251118T203000
DTSTAMP:20260425T164139
CREATED:20251016T141538Z
LAST-MODIFIED:20251016T142135Z
UID:10001607-1763494200-1763497800@www.mission25cc.org
SUMMARY:Recovery Group
DESCRIPTION:
URL:https://www.mission25cc.org/event/recovery-group/2025-11-18/
LOCATION:Columbia City\, IN\, 46725\, United States
END:VEVENT
BEGIN:VEVENT
DTSTART;TZID=America/Indiana/Indianapolis:20251125T193000
DTEND;TZID=America/Indiana/Indianapolis:20251125T203000
DTSTAMP:20260425T164139
CREATED:20251016T141538Z
LAST-MODIFIED:20251016T142135Z
UID:10001608-1764099000-1764102600@www.mission25cc.org
SUMMARY:Recovery Group
DESCRIPTION:
URL:https://www.mission25cc.org/event/recovery-group/2025-11-25/
LOCATION:Columbia City\, IN\, 46725\, United States
END:VEVENT
BEGIN:VEVENT
DTSTART;TZID=America/Indiana/Indianapolis:20251122T100000
DTEND;TZID=America/Indiana/Indianapolis:20251122T120000
DTSTAMP:20260425T164139
CREATED:20251117T173715Z
LAST-MODIFIED:20251117T174211Z
UID:10001759-1763805600-1763812800@www.mission25cc.org
SUMMARY:Jingle & Java: A Morning of Holiday Painting
DESCRIPTION:Kick off the holiday season at the Mission 25 Recovery Engagement Center with a cozy\, creative morning filled with community\, coffee\, and Christmas cheer. \nJoin us for Jingle and Java: A Morning of Holiday Painting on Saturday\, November 22 from 10 a.m. to noon at 605 S. Douglas Ave. Whether you’re in recovery or supporting someone who is\, this event offers a relaxed space to connect\, unwind\, and express yourself through art. \nCome dressed in your favorite holiday PJs\, sip a warm cup of coffee\, and paint a snowy winter scene while enjoying assorted donuts\, muffins\, and fresh fruit. No kids under 12\, please—this is a morning dedicated to adults seeking connection and creativity in their recovery journey. \nPlease enable JavaScript in your browser to complete this form.Name *Email *Phone *AddressAddress Line 1CityAlabamaAlaskaArizonaArkansasCaliforniaColoradoConnecticutDelawareDistrict of ColumbiaFloridaGeorgiaHawaiiIdahoIllinoisIndianaIowaKansasKentuckyLouisianaMaineMarylandMassachusettsMichiganMinnesotaMississippiMissouriMontanaNebraskaNevadaNew HampshireNew JerseyNew MexicoNew YorkNorth CarolinaNorth DakotaOhioOklahomaOregonPennsylvaniaRhode IslandSouth CarolinaSouth DakotaTennesseeTexasUtahVermontVirginiaWashingtonWest VirginiaWisconsinWyomingStateZip CodeHow many people are attending? *Do you or anyone in your party have any food allergies? If so\, please specify.RSVP Now
URL:https://www.mission25cc.org/event/jingle-java-a-morning-of-holiday-painting/
LOCATION:Columbia City\, IN\, 46725\, United States
ATTACH;FMTTYPE=image/jpeg:https://www.mission25cc.org/wp-content/uploads/2025/11/Jingle-Java.jpg
END:VEVENT
BEGIN:VEVENT
DTSTART;TZID=America/Indiana/Indianapolis:20251103T170000
DTEND;TZID=America/Indiana/Indianapolis:20251103T180000
DTSTAMP:20260425T164139
CREATED:20240213T192249Z
LAST-MODIFIED:20260204T223412Z
UID:10001946-1762189200-1762192800@www.mission25cc.org
SUMMARY:Parents/People of Addicted Loved Ones (PAL)
DESCRIPTION:Join other parents or people of addicted loved ones as we navigate coping with loved ones who are dealing with substance use disorder involving either drugs or alcohol. Find hope and support in this group.
URL:https://www.mission25cc.org/event/parents-people-of-addicted-loved-ones-pal/2025-11-03/
LOCATION:Columbia City\, IN\, 46725\, United States
ATTACH;FMTTYPE=image/png:https://www.mission25cc.org/wp-content/uploads/2023/12/Making-Connections-5.png
END:VEVENT
END:VCALENDAR