BEGIN:VCALENDAR
VERSION:2.0
PRODID:-//Mission 25 - ECPv6.0.8//NONSGML v1.0//EN
CALSCALE:GREGORIAN
METHOD:PUBLISH
X-WR-CALNAME:Mission 25
X-ORIGINAL-URL:https://www.mission25cc.org
X-WR-CALDESC:Events for Mission 25
REFRESH-INTERVAL;VALUE=DURATION:PT1H
X-Robots-Tag:noindex
X-PUBLISHED-TTL:PT1H
BEGIN:VTIMEZONE
TZID:America/Indiana/Indianapolis
BEGIN:DAYLIGHT
TZOFFSETFROM:-0500
TZOFFSETTO:-0400
TZNAME:EDT
DTSTART:20250309T070000
END:DAYLIGHT
BEGIN:STANDARD
TZOFFSETFROM:-0400
TZOFFSETTO:-0500
TZNAME:EST
DTSTART:20251102T060000
END:STANDARD
END:VTIMEZONE
BEGIN:VEVENT
DTSTART;TZID=America/Indiana/Indianapolis:20251203T100000
DTEND;TZID=America/Indiana/Indianapolis:20251203T110000
DTSTAMP:20260425T150529
CREATED:20231204T035005Z
LAST-MODIFIED:20240424T213417Z
UID:10000266-1764756000-1764759600@www.mission25cc.org
SUMMARY:Making Connections Group
DESCRIPTION:Making Connections is a peer-led support group for women seeking the power of connection in their recovery. Join us in a safe space for a time of sharing\, connections and freshly brewed coffee.
URL:https://www.mission25cc.org/event/making-connections-group/2025-12-03/
LOCATION:Columbia City\, IN\, 46725\, United States
ATTACH;FMTTYPE=image/png:https://www.mission25cc.org/wp-content/uploads/2023/12/Making-Connections-1.png
END:VEVENT
BEGIN:VEVENT
DTSTART;TZID=America/Indiana/Indianapolis:20251210T100000
DTEND;TZID=America/Indiana/Indianapolis:20251210T110000
DTSTAMP:20260425T150529
CREATED:20231204T035005Z
LAST-MODIFIED:20240424T213417Z
UID:10000267-1765360800-1765364400@www.mission25cc.org
SUMMARY:Making Connections Group
DESCRIPTION:Making Connections is a peer-led support group for women seeking the power of connection in their recovery. Join us in a safe space for a time of sharing\, connections and freshly brewed coffee.
URL:https://www.mission25cc.org/event/making-connections-group/2025-12-10/
LOCATION:Columbia City\, IN\, 46725\, United States
ATTACH;FMTTYPE=image/png:https://www.mission25cc.org/wp-content/uploads/2023/12/Making-Connections-1.png
END:VEVENT
BEGIN:VEVENT
DTSTART;TZID=America/Indiana/Indianapolis:20251217T100000
DTEND;TZID=America/Indiana/Indianapolis:20251217T110000
DTSTAMP:20260425T150529
CREATED:20231204T035005Z
LAST-MODIFIED:20240424T213417Z
UID:10000268-1765965600-1765969200@www.mission25cc.org
SUMMARY:Making Connections Group
DESCRIPTION:Making Connections is a peer-led support group for women seeking the power of connection in their recovery. Join us in a safe space for a time of sharing\, connections and freshly brewed coffee.
URL:https://www.mission25cc.org/event/making-connections-group/2025-12-17/
LOCATION:Columbia City\, IN\, 46725\, United States
ATTACH;FMTTYPE=image/png:https://www.mission25cc.org/wp-content/uploads/2023/12/Making-Connections-1.png
END:VEVENT
BEGIN:VEVENT
DTSTART;TZID=America/Indiana/Indianapolis:20251224T100000
DTEND;TZID=America/Indiana/Indianapolis:20251224T110000
DTSTAMP:20260425T150529
CREATED:20231204T035005Z
LAST-MODIFIED:20240424T213417Z
UID:10000269-1766570400-1766574000@www.mission25cc.org
SUMMARY:Making Connections Group
DESCRIPTION:Making Connections is a peer-led support group for women seeking the power of connection in their recovery. Join us in a safe space for a time of sharing\, connections and freshly brewed coffee.
URL:https://www.mission25cc.org/event/making-connections-group/2025-12-24/
LOCATION:Columbia City\, IN\, 46725\, United States
ATTACH;FMTTYPE=image/png:https://www.mission25cc.org/wp-content/uploads/2023/12/Making-Connections-1.png
END:VEVENT
BEGIN:VEVENT
DTSTART;TZID=America/Indiana/Indianapolis:20251231T100000
DTEND;TZID=America/Indiana/Indianapolis:20251231T110000
DTSTAMP:20260425T150529
CREATED:20231204T035005Z
LAST-MODIFIED:20240424T213417Z
UID:10000270-1767175200-1767178800@www.mission25cc.org
SUMMARY:Making Connections Group
DESCRIPTION:Making Connections is a peer-led support group for women seeking the power of connection in their recovery. Join us in a safe space for a time of sharing\, connections and freshly brewed coffee.
URL:https://www.mission25cc.org/event/making-connections-group/2025-12-31/
LOCATION:Columbia City\, IN\, 46725\, United States
ATTACH;FMTTYPE=image/png:https://www.mission25cc.org/wp-content/uploads/2023/12/Making-Connections-1.png
END:VEVENT
BEGIN:VEVENT
DTSTART;TZID=America/Indiana/Indianapolis:20251207T173000
DTEND;TZID=America/Indiana/Indianapolis:20251207T203000
DTSTAMP:20260425T150529
CREATED:20231205T135534Z
LAST-MODIFIED:20231205T135734Z
UID:10001049-1765128600-1765139400@www.mission25cc.org
SUMMARY:Celebrate Recovery
DESCRIPTION:Join us for Celebrate Recovery on Sunday evenings. Bring your hurts\, habits and hang-ups into a safe environment with likeminded people. We have a time of fellowship between 5:30 PM – 6:00 PM (come for a freshly brewed cup of coffee) and then come together in a large group format beginning at 6:00 PM. We have small groups immediately following the large group time. \nCelebrate Recovery is led by CR Leaders from The Warehouse Church.
URL:https://www.mission25cc.org/event/celebrate-recovery-2/2025-12-07/
LOCATION:Columbia City\, IN\, 46725\, United States
END:VEVENT
BEGIN:VEVENT
DTSTART;TZID=America/Indiana/Indianapolis:20251214T173000
DTEND;TZID=America/Indiana/Indianapolis:20251214T203000
DTSTAMP:20260425T150529
CREATED:20231205T135534Z
LAST-MODIFIED:20231205T135734Z
UID:10001050-1765733400-1765744200@www.mission25cc.org
SUMMARY:Celebrate Recovery
DESCRIPTION:Join us for Celebrate Recovery on Sunday evenings. Bring your hurts\, habits and hang-ups into a safe environment with likeminded people. We have a time of fellowship between 5:30 PM – 6:00 PM (come for a freshly brewed cup of coffee) and then come together in a large group format beginning at 6:00 PM. We have small groups immediately following the large group time. \nCelebrate Recovery is led by CR Leaders from The Warehouse Church.
URL:https://www.mission25cc.org/event/celebrate-recovery-2/2025-12-14/
LOCATION:Columbia City\, IN\, 46725\, United States
END:VEVENT
BEGIN:VEVENT
DTSTART;TZID=America/Indiana/Indianapolis:20251221T173000
DTEND;TZID=America/Indiana/Indianapolis:20251221T203000
DTSTAMP:20260425T150529
CREATED:20231205T135534Z
LAST-MODIFIED:20231205T135734Z
UID:10001051-1766338200-1766349000@www.mission25cc.org
SUMMARY:Celebrate Recovery
DESCRIPTION:Join us for Celebrate Recovery on Sunday evenings. Bring your hurts\, habits and hang-ups into a safe environment with likeminded people. We have a time of fellowship between 5:30 PM – 6:00 PM (come for a freshly brewed cup of coffee) and then come together in a large group format beginning at 6:00 PM. We have small groups immediately following the large group time. \nCelebrate Recovery is led by CR Leaders from The Warehouse Church.
URL:https://www.mission25cc.org/event/celebrate-recovery-2/2025-12-21/
LOCATION:Columbia City\, IN\, 46725\, United States
END:VEVENT
BEGIN:VEVENT
DTSTART;TZID=America/Indiana/Indianapolis:20251228T173000
DTEND;TZID=America/Indiana/Indianapolis:20251228T203000
DTSTAMP:20260425T150529
CREATED:20231205T135534Z
LAST-MODIFIED:20231205T135734Z
UID:10001052-1766943000-1766953800@www.mission25cc.org
SUMMARY:Celebrate Recovery
DESCRIPTION:Join us for Celebrate Recovery on Sunday evenings. Bring your hurts\, habits and hang-ups into a safe environment with likeminded people. We have a time of fellowship between 5:30 PM – 6:00 PM (come for a freshly brewed cup of coffee) and then come together in a large group format beginning at 6:00 PM. We have small groups immediately following the large group time. \nCelebrate Recovery is led by CR Leaders from The Warehouse Church.
URL:https://www.mission25cc.org/event/celebrate-recovery-2/2025-12-28/
LOCATION:Columbia City\, IN\, 46725\, United States
END:VEVENT
BEGIN:VEVENT
DTSTART;TZID=America/Indiana/Indianapolis:20251201T093000
DTEND;TZID=America/Indiana/Indianapolis:20251201T103000
DTSTAMP:20260425T150529
CREATED:20231202T200711Z
LAST-MODIFIED:20231205T140111Z
UID:10001204-1764581400-1764585000@www.mission25cc.org
SUMMARY:Journaling Through Recovery
DESCRIPTION:Join us in a safe environment on Monday mornings at the Mission 25 Recovery Engagement Center as we journal our way through recovery. Explore journal writing and/or drawing as a recovery tool in expressing feelings in a healthy\, safe and non-judgmental way. We will provide prompts for those who choose to write or draw in their journals. The tools will be provided\, along with freshly brewed coffee.
URL:https://www.mission25cc.org/event/journaling-through-recovery/2025-12-01/
LOCATION:Columbia City\, IN\, 46725\, United States
END:VEVENT
BEGIN:VEVENT
DTSTART;TZID=America/Indiana/Indianapolis:20251208T093000
DTEND;TZID=America/Indiana/Indianapolis:20251208T103000
DTSTAMP:20260425T150529
CREATED:20231202T200711Z
LAST-MODIFIED:20231205T140111Z
UID:10001205-1765186200-1765189800@www.mission25cc.org
SUMMARY:Journaling Through Recovery
DESCRIPTION:Join us in a safe environment on Monday mornings at the Mission 25 Recovery Engagement Center as we journal our way through recovery. Explore journal writing and/or drawing as a recovery tool in expressing feelings in a healthy\, safe and non-judgmental way. We will provide prompts for those who choose to write or draw in their journals. The tools will be provided\, along with freshly brewed coffee.
URL:https://www.mission25cc.org/event/journaling-through-recovery/2025-12-08/
LOCATION:Columbia City\, IN\, 46725\, United States
END:VEVENT
BEGIN:VEVENT
DTSTART;TZID=America/Indiana/Indianapolis:20251215T093000
DTEND;TZID=America/Indiana/Indianapolis:20251215T103000
DTSTAMP:20260425T150529
CREATED:20231202T200711Z
LAST-MODIFIED:20231205T140111Z
UID:10001206-1765791000-1765794600@www.mission25cc.org
SUMMARY:Journaling Through Recovery
DESCRIPTION:Join us in a safe environment on Monday mornings at the Mission 25 Recovery Engagement Center as we journal our way through recovery. Explore journal writing and/or drawing as a recovery tool in expressing feelings in a healthy\, safe and non-judgmental way. We will provide prompts for those who choose to write or draw in their journals. The tools will be provided\, along with freshly brewed coffee.
URL:https://www.mission25cc.org/event/journaling-through-recovery/2025-12-15/
LOCATION:Columbia City\, IN\, 46725\, United States
END:VEVENT
BEGIN:VEVENT
DTSTART;TZID=America/Indiana/Indianapolis:20251222T093000
DTEND;TZID=America/Indiana/Indianapolis:20251222T103000
DTSTAMP:20260425T150529
CREATED:20231202T200711Z
LAST-MODIFIED:20231205T140111Z
UID:10001207-1766395800-1766399400@www.mission25cc.org
SUMMARY:Journaling Through Recovery
DESCRIPTION:Join us in a safe environment on Monday mornings at the Mission 25 Recovery Engagement Center as we journal our way through recovery. Explore journal writing and/or drawing as a recovery tool in expressing feelings in a healthy\, safe and non-judgmental way. We will provide prompts for those who choose to write or draw in their journals. The tools will be provided\, along with freshly brewed coffee.
URL:https://www.mission25cc.org/event/journaling-through-recovery/2025-12-22/
LOCATION:Columbia City\, IN\, 46725\, United States
END:VEVENT
BEGIN:VEVENT
DTSTART;TZID=America/Indiana/Indianapolis:20251229T093000
DTEND;TZID=America/Indiana/Indianapolis:20251229T103000
DTSTAMP:20260425T150529
CREATED:20231202T200711Z
LAST-MODIFIED:20231205T140111Z
UID:10001208-1767000600-1767004200@www.mission25cc.org
SUMMARY:Journaling Through Recovery
DESCRIPTION:Join us in a safe environment on Monday mornings at the Mission 25 Recovery Engagement Center as we journal our way through recovery. Explore journal writing and/or drawing as a recovery tool in expressing feelings in a healthy\, safe and non-judgmental way. We will provide prompts for those who choose to write or draw in their journals. The tools will be provided\, along with freshly brewed coffee.
URL:https://www.mission25cc.org/event/journaling-through-recovery/2025-12-29/
LOCATION:Columbia City\, IN\, 46725\, United States
END:VEVENT
BEGIN:VEVENT
DTSTART;TZID=America/Indiana/Indianapolis:20251202T193000
DTEND;TZID=America/Indiana/Indianapolis:20251202T203000
DTSTAMP:20260425T150529
CREATED:20251016T141538Z
LAST-MODIFIED:20251016T142135Z
UID:10001609-1764703800-1764707400@www.mission25cc.org
SUMMARY:Recovery Group
DESCRIPTION:
URL:https://www.mission25cc.org/event/recovery-group/2025-12-02/
LOCATION:Columbia City\, IN\, 46725\, United States
END:VEVENT
BEGIN:VEVENT
DTSTART;TZID=America/Indiana/Indianapolis:20251209T193000
DTEND;TZID=America/Indiana/Indianapolis:20251209T203000
DTSTAMP:20260425T150529
CREATED:20251016T141538Z
LAST-MODIFIED:20251016T142135Z
UID:10001610-1765308600-1765312200@www.mission25cc.org
SUMMARY:Recovery Group
DESCRIPTION:
URL:https://www.mission25cc.org/event/recovery-group/2025-12-09/
LOCATION:Columbia City\, IN\, 46725\, United States
END:VEVENT
BEGIN:VEVENT
DTSTART;TZID=America/Indiana/Indianapolis:20251216T193000
DTEND;TZID=America/Indiana/Indianapolis:20251216T203000
DTSTAMP:20260425T150529
CREATED:20251016T141538Z
LAST-MODIFIED:20251016T142135Z
UID:10001611-1765913400-1765917000@www.mission25cc.org
SUMMARY:Recovery Group
DESCRIPTION:
URL:https://www.mission25cc.org/event/recovery-group/2025-12-16/
LOCATION:Columbia City\, IN\, 46725\, United States
END:VEVENT
BEGIN:VEVENT
DTSTART;TZID=America/Indiana/Indianapolis:20251223T193000
DTEND;TZID=America/Indiana/Indianapolis:20251223T203000
DTSTAMP:20260425T150529
CREATED:20251016T141538Z
LAST-MODIFIED:20251016T142135Z
UID:10001612-1766518200-1766521800@www.mission25cc.org
SUMMARY:Recovery Group
DESCRIPTION:
URL:https://www.mission25cc.org/event/recovery-group/2025-12-23/
LOCATION:Columbia City\, IN\, 46725\, United States
END:VEVENT
BEGIN:VEVENT
DTSTART;TZID=America/Indiana/Indianapolis:20251230T193000
DTEND;TZID=America/Indiana/Indianapolis:20251230T203000
DTSTAMP:20260425T150529
CREATED:20251016T141538Z
LAST-MODIFIED:20251016T142135Z
UID:10001613-1767123000-1767126600@www.mission25cc.org
SUMMARY:Recovery Group
DESCRIPTION:
URL:https://www.mission25cc.org/event/recovery-group/2025-12-30/
LOCATION:Columbia City\, IN\, 46725\, United States
END:VEVENT
BEGIN:VEVENT
DTSTART;TZID=America/Indiana/Indianapolis:20251221T173000
DTEND;TZID=America/Indiana/Indianapolis:20251221T200000
DTSTAMP:20260425T150529
CREATED:20251209T141542Z
LAST-MODIFIED:20251211T023727Z
UID:10001760-1766338200-1766347200@www.mission25cc.org
SUMMARY:A Blue Christmas: Candlelight Vigil
DESCRIPTION:This holiday season\, if you find yourself grieving a loss\, struggling with sorrow\, facing any kind of difficulty\, or navigating disappointment\, we invite you to join us for a Blue Christmas Candlelight Vigil—a time to honor your loved one and to find comfort in community. \nThrough moments of quiet reflection\, the glow of candlelight and shared understanding\, we will create space for grief—acknowledging that it’s okay to not be okay. This in-memoriam event provides an opportunity for expression\, remembrance\, healing and community during the holiday season. \nIn collaboration with Churubusco United Methodist Church\, Columbia City United Methodist Church and Mission 25\, A Blue Christmas Candlelight Vigil will be held at the Recovery Engagement Center. \nPlease enable JavaScript in your browser to complete this form.Name *Email *Phone *AddressAddress Line 1CityAlabamaAlaskaArizonaArkansasCaliforniaColoradoConnecticutDelawareDistrict of ColumbiaFloridaGeorgiaHawaiiIdahoIllinoisIndianaIowaKansasKentuckyLouisianaMaineMarylandMassachusettsMichiganMinnesotaMississippiMissouriMontanaNebraskaNevadaNew HampshireNew JerseyNew MexicoNew YorkNorth CarolinaNorth DakotaOhioOklahomaOregonPennsylvaniaRhode IslandSouth CarolinaSouth DakotaTennesseeTexasUtahVermontVirginiaWashingtonWest VirginiaWisconsinWyomingStateZip CodeRSVP Now
URL:https://www.mission25cc.org/event/a-blue-christmas-candlelight-vigil-2025/
LOCATION:Columbia City\, IN\, 46725\, United States
ATTACH;FMTTYPE=image/png:https://www.mission25cc.org/wp-content/uploads/2024/12/A-Blue-Christmas-Candlelight-Vigil-Event.png
END:VEVENT
BEGIN:VEVENT
DTSTART;TZID=America/Indiana/Indianapolis:20251215T183000
DTEND;TZID=America/Indiana/Indianapolis:20251215T200000
DTSTAMP:20260425T150529
CREATED:20251215T210346Z
LAST-MODIFIED:20260122T155334Z
UID:10001761-1765823400-1765828800@www.mission25cc.org
SUMMARY:NA: Free to Be
DESCRIPTION:Hosted by Northeastern Indiana Area of Narcotics Anonymous\, Free to Be NA meets at Mission 25 Recovery Engagement Center. \nOpen to addicts and non-addicts alike\, beginner friendly\, discussion is invited by all attendees\, wheelchair accessible.
URL:https://www.mission25cc.org/event/na-free-to-be/2025-12-15/
LOCATION:Columbia City\, IN\, 46725\, United States
END:VEVENT
BEGIN:VEVENT
DTSTART;TZID=America/Indiana/Indianapolis:20251222T183000
DTEND;TZID=America/Indiana/Indianapolis:20251222T200000
DTSTAMP:20260425T150529
CREATED:20251215T210346Z
LAST-MODIFIED:20260122T155334Z
UID:10001762-1766428200-1766433600@www.mission25cc.org
SUMMARY:NA: Free to Be
DESCRIPTION:Hosted by Northeastern Indiana Area of Narcotics Anonymous\, Free to Be NA meets at Mission 25 Recovery Engagement Center. \nOpen to addicts and non-addicts alike\, beginner friendly\, discussion is invited by all attendees\, wheelchair accessible.
URL:https://www.mission25cc.org/event/na-free-to-be/2025-12-22/
LOCATION:Columbia City\, IN\, 46725\, United States
END:VEVENT
BEGIN:VEVENT
DTSTART;TZID=America/Indiana/Indianapolis:20251229T183000
DTEND;TZID=America/Indiana/Indianapolis:20251229T200000
DTSTAMP:20260425T150529
CREATED:20251215T210346Z
LAST-MODIFIED:20260122T155334Z
UID:10001763-1767033000-1767038400@www.mission25cc.org
SUMMARY:NA: Free to Be
DESCRIPTION:Hosted by Northeastern Indiana Area of Narcotics Anonymous\, Free to Be NA meets at Mission 25 Recovery Engagement Center. \nOpen to addicts and non-addicts alike\, beginner friendly\, discussion is invited by all attendees\, wheelchair accessible.
URL:https://www.mission25cc.org/event/na-free-to-be/2025-12-29/
LOCATION:Columbia City\, IN\, 46725\, United States
END:VEVENT
BEGIN:VEVENT
DTSTART;TZID=America/Indiana/Indianapolis:20251201T170000
DTEND;TZID=America/Indiana/Indianapolis:20251201T180000
DTSTAMP:20260425T150529
CREATED:20240213T192249Z
LAST-MODIFIED:20260204T223412Z
UID:10001947-1764608400-1764612000@www.mission25cc.org
SUMMARY:Parents/People of Addicted Loved Ones (PAL)
DESCRIPTION:Join other parents or people of addicted loved ones as we navigate coping with loved ones who are dealing with substance use disorder involving either drugs or alcohol. Find hope and support in this group.
URL:https://www.mission25cc.org/event/parents-people-of-addicted-loved-ones-pal/2025-12-01/
LOCATION:Columbia City\, IN\, 46725\, United States
ATTACH;FMTTYPE=image/png:https://www.mission25cc.org/wp-content/uploads/2023/12/Making-Connections-5.png
END:VEVENT
END:VCALENDAR