BEGIN:VCALENDAR
VERSION:2.0
PRODID:-//Mission 25 - ECPv6.0.8//NONSGML v1.0//EN
CALSCALE:GREGORIAN
METHOD:PUBLISH
X-WR-CALNAME:Mission 25
X-ORIGINAL-URL:https://www.mission25cc.org
X-WR-CALDESC:Events for Mission 25
REFRESH-INTERVAL;VALUE=DURATION:PT1H
X-Robots-Tag:noindex
X-PUBLISHED-TTL:PT1H
BEGIN:VTIMEZONE
TZID:America/Indiana/Indianapolis
BEGIN:DAYLIGHT
TZOFFSETFROM:-0500
TZOFFSETTO:-0400
TZNAME:EDT
DTSTART:20260308T070000
END:DAYLIGHT
BEGIN:STANDARD
TZOFFSETFROM:-0400
TZOFFSETTO:-0500
TZNAME:EST
DTSTART:20261101T060000
END:STANDARD
END:VTIMEZONE
BEGIN:VEVENT
DTSTART;TZID=America/Indiana/Indianapolis:20260204T100000
DTEND;TZID=America/Indiana/Indianapolis:20260204T110000
DTSTAMP:20260425T115618
CREATED:20231204T035005Z
LAST-MODIFIED:20240424T213417Z
UID:10000275-1770199200-1770202800@www.mission25cc.org
SUMMARY:Making Connections Group
DESCRIPTION:Making Connections is a peer-led support group for women seeking the power of connection in their recovery. Join us in a safe space for a time of sharing\, connections and freshly brewed coffee.
URL:https://www.mission25cc.org/event/making-connections-group/2026-02-04/
LOCATION:Columbia City\, IN\, 46725\, United States
ATTACH;FMTTYPE=image/png:https://www.mission25cc.org/wp-content/uploads/2023/12/Making-Connections-1.png
END:VEVENT
BEGIN:VEVENT
DTSTART;TZID=America/Indiana/Indianapolis:20260211T100000
DTEND;TZID=America/Indiana/Indianapolis:20260211T110000
DTSTAMP:20260425T115618
CREATED:20231204T035005Z
LAST-MODIFIED:20240424T213417Z
UID:10000276-1770804000-1770807600@www.mission25cc.org
SUMMARY:Making Connections Group
DESCRIPTION:Making Connections is a peer-led support group for women seeking the power of connection in their recovery. Join us in a safe space for a time of sharing\, connections and freshly brewed coffee.
URL:https://www.mission25cc.org/event/making-connections-group/2026-02-11/
LOCATION:Columbia City\, IN\, 46725\, United States
ATTACH;FMTTYPE=image/png:https://www.mission25cc.org/wp-content/uploads/2023/12/Making-Connections-1.png
END:VEVENT
BEGIN:VEVENT
DTSTART;TZID=America/Indiana/Indianapolis:20260218T100000
DTEND;TZID=America/Indiana/Indianapolis:20260218T110000
DTSTAMP:20260425T115618
CREATED:20231204T035005Z
LAST-MODIFIED:20240424T213417Z
UID:10000277-1771408800-1771412400@www.mission25cc.org
SUMMARY:Making Connections Group
DESCRIPTION:Making Connections is a peer-led support group for women seeking the power of connection in their recovery. Join us in a safe space for a time of sharing\, connections and freshly brewed coffee.
URL:https://www.mission25cc.org/event/making-connections-group/2026-02-18/
LOCATION:Columbia City\, IN\, 46725\, United States
ATTACH;FMTTYPE=image/png:https://www.mission25cc.org/wp-content/uploads/2023/12/Making-Connections-1.png
END:VEVENT
BEGIN:VEVENT
DTSTART;TZID=America/Indiana/Indianapolis:20260225T100000
DTEND;TZID=America/Indiana/Indianapolis:20260225T110000
DTSTAMP:20260425T115618
CREATED:20231204T035005Z
LAST-MODIFIED:20240424T213417Z
UID:10000278-1772013600-1772017200@www.mission25cc.org
SUMMARY:Making Connections Group
DESCRIPTION:Making Connections is a peer-led support group for women seeking the power of connection in their recovery. Join us in a safe space for a time of sharing\, connections and freshly brewed coffee.
URL:https://www.mission25cc.org/event/making-connections-group/2026-02-25/
LOCATION:Columbia City\, IN\, 46725\, United States
ATTACH;FMTTYPE=image/png:https://www.mission25cc.org/wp-content/uploads/2023/12/Making-Connections-1.png
END:VEVENT
BEGIN:VEVENT
DTSTART;TZID=America/Indiana/Indianapolis:20260201T173000
DTEND;TZID=America/Indiana/Indianapolis:20260201T203000
DTSTAMP:20260425T115618
CREATED:20231205T135534Z
LAST-MODIFIED:20231205T135734Z
UID:10001057-1769967000-1769977800@www.mission25cc.org
SUMMARY:Celebrate Recovery
DESCRIPTION:Join us for Celebrate Recovery on Sunday evenings. Bring your hurts\, habits and hang-ups into a safe environment with likeminded people. We have a time of fellowship between 5:30 PM – 6:00 PM (come for a freshly brewed cup of coffee) and then come together in a large group format beginning at 6:00 PM. We have small groups immediately following the large group time. \nCelebrate Recovery is led by CR Leaders from The Warehouse Church.
URL:https://www.mission25cc.org/event/celebrate-recovery-2/2026-02-01/
LOCATION:Columbia City\, IN\, 46725\, United States
END:VEVENT
BEGIN:VEVENT
DTSTART;TZID=America/Indiana/Indianapolis:20260208T173000
DTEND;TZID=America/Indiana/Indianapolis:20260208T203000
DTSTAMP:20260425T115618
CREATED:20231205T135534Z
LAST-MODIFIED:20231205T135734Z
UID:10001058-1770571800-1770582600@www.mission25cc.org
SUMMARY:Celebrate Recovery
DESCRIPTION:Join us for Celebrate Recovery on Sunday evenings. Bring your hurts\, habits and hang-ups into a safe environment with likeminded people. We have a time of fellowship between 5:30 PM – 6:00 PM (come for a freshly brewed cup of coffee) and then come together in a large group format beginning at 6:00 PM. We have small groups immediately following the large group time. \nCelebrate Recovery is led by CR Leaders from The Warehouse Church.
URL:https://www.mission25cc.org/event/celebrate-recovery-2/2026-02-08/
LOCATION:Columbia City\, IN\, 46725\, United States
END:VEVENT
BEGIN:VEVENT
DTSTART;TZID=America/Indiana/Indianapolis:20260215T173000
DTEND;TZID=America/Indiana/Indianapolis:20260215T203000
DTSTAMP:20260425T115618
CREATED:20231205T135534Z
LAST-MODIFIED:20231205T135734Z
UID:10001059-1771176600-1771187400@www.mission25cc.org
SUMMARY:Celebrate Recovery
DESCRIPTION:Join us for Celebrate Recovery on Sunday evenings. Bring your hurts\, habits and hang-ups into a safe environment with likeminded people. We have a time of fellowship between 5:30 PM – 6:00 PM (come for a freshly brewed cup of coffee) and then come together in a large group format beginning at 6:00 PM. We have small groups immediately following the large group time. \nCelebrate Recovery is led by CR Leaders from The Warehouse Church.
URL:https://www.mission25cc.org/event/celebrate-recovery-2/2026-02-15/
LOCATION:Columbia City\, IN\, 46725\, United States
END:VEVENT
BEGIN:VEVENT
DTSTART;TZID=America/Indiana/Indianapolis:20260222T173000
DTEND;TZID=America/Indiana/Indianapolis:20260222T203000
DTSTAMP:20260425T115618
CREATED:20231205T135534Z
LAST-MODIFIED:20231205T135734Z
UID:10001060-1771781400-1771792200@www.mission25cc.org
SUMMARY:Celebrate Recovery
DESCRIPTION:Join us for Celebrate Recovery on Sunday evenings. Bring your hurts\, habits and hang-ups into a safe environment with likeminded people. We have a time of fellowship between 5:30 PM – 6:00 PM (come for a freshly brewed cup of coffee) and then come together in a large group format beginning at 6:00 PM. We have small groups immediately following the large group time. \nCelebrate Recovery is led by CR Leaders from The Warehouse Church.
URL:https://www.mission25cc.org/event/celebrate-recovery-2/2026-02-22/
LOCATION:Columbia City\, IN\, 46725\, United States
END:VEVENT
BEGIN:VEVENT
DTSTART;TZID=America/Indiana/Indianapolis:20260202T093000
DTEND;TZID=America/Indiana/Indianapolis:20260202T103000
DTSTAMP:20260425T115618
CREATED:20231202T200711Z
LAST-MODIFIED:20231205T140111Z
UID:10001213-1770024600-1770028200@www.mission25cc.org
SUMMARY:Journaling Through Recovery
DESCRIPTION:Join us in a safe environment on Monday mornings at the Mission 25 Recovery Engagement Center as we journal our way through recovery. Explore journal writing and/or drawing as a recovery tool in expressing feelings in a healthy\, safe and non-judgmental way. We will provide prompts for those who choose to write or draw in their journals. The tools will be provided\, along with freshly brewed coffee.
URL:https://www.mission25cc.org/event/journaling-through-recovery/2026-02-02/
LOCATION:Columbia City\, IN\, 46725\, United States
END:VEVENT
BEGIN:VEVENT
DTSTART;TZID=America/Indiana/Indianapolis:20260209T093000
DTEND;TZID=America/Indiana/Indianapolis:20260209T103000
DTSTAMP:20260425T115618
CREATED:20231202T200711Z
LAST-MODIFIED:20231205T140111Z
UID:10001214-1770629400-1770633000@www.mission25cc.org
SUMMARY:Journaling Through Recovery
DESCRIPTION:Join us in a safe environment on Monday mornings at the Mission 25 Recovery Engagement Center as we journal our way through recovery. Explore journal writing and/or drawing as a recovery tool in expressing feelings in a healthy\, safe and non-judgmental way. We will provide prompts for those who choose to write or draw in their journals. The tools will be provided\, along with freshly brewed coffee.
URL:https://www.mission25cc.org/event/journaling-through-recovery/2026-02-09/
LOCATION:Columbia City\, IN\, 46725\, United States
END:VEVENT
BEGIN:VEVENT
DTSTART;TZID=America/Indiana/Indianapolis:20260216T093000
DTEND;TZID=America/Indiana/Indianapolis:20260216T103000
DTSTAMP:20260425T115618
CREATED:20231202T200711Z
LAST-MODIFIED:20231205T140111Z
UID:10001215-1771234200-1771237800@www.mission25cc.org
SUMMARY:Journaling Through Recovery
DESCRIPTION:Join us in a safe environment on Monday mornings at the Mission 25 Recovery Engagement Center as we journal our way through recovery. Explore journal writing and/or drawing as a recovery tool in expressing feelings in a healthy\, safe and non-judgmental way. We will provide prompts for those who choose to write or draw in their journals. The tools will be provided\, along with freshly brewed coffee.
URL:https://www.mission25cc.org/event/journaling-through-recovery/2026-02-16/
LOCATION:Columbia City\, IN\, 46725\, United States
END:VEVENT
BEGIN:VEVENT
DTSTART;TZID=America/Indiana/Indianapolis:20260223T093000
DTEND;TZID=America/Indiana/Indianapolis:20260223T103000
DTSTAMP:20260425T115618
CREATED:20231202T200711Z
LAST-MODIFIED:20231205T140111Z
UID:10001216-1771839000-1771842600@www.mission25cc.org
SUMMARY:Journaling Through Recovery
DESCRIPTION:Join us in a safe environment on Monday mornings at the Mission 25 Recovery Engagement Center as we journal our way through recovery. Explore journal writing and/or drawing as a recovery tool in expressing feelings in a healthy\, safe and non-judgmental way. We will provide prompts for those who choose to write or draw in their journals. The tools will be provided\, along with freshly brewed coffee.
URL:https://www.mission25cc.org/event/journaling-through-recovery/2026-02-23/
LOCATION:Columbia City\, IN\, 46725\, United States
END:VEVENT
BEGIN:VEVENT
DTSTART;TZID=America/Indiana/Indianapolis:20260203T193000
DTEND;TZID=America/Indiana/Indianapolis:20260203T203000
DTSTAMP:20260425T115618
CREATED:20251016T141538Z
LAST-MODIFIED:20251016T142135Z
UID:10001618-1770147000-1770150600@www.mission25cc.org
SUMMARY:Recovery Group
DESCRIPTION:
URL:https://www.mission25cc.org/event/recovery-group/2026-02-03/
LOCATION:Columbia City\, IN\, 46725\, United States
END:VEVENT
BEGIN:VEVENT
DTSTART;TZID=America/Indiana/Indianapolis:20260210T193000
DTEND;TZID=America/Indiana/Indianapolis:20260210T203000
DTSTAMP:20260425T115618
CREATED:20251016T141538Z
LAST-MODIFIED:20251016T142135Z
UID:10001619-1770751800-1770755400@www.mission25cc.org
SUMMARY:Recovery Group
DESCRIPTION:
URL:https://www.mission25cc.org/event/recovery-group/2026-02-10/
LOCATION:Columbia City\, IN\, 46725\, United States
END:VEVENT
BEGIN:VEVENT
DTSTART;TZID=America/Indiana/Indianapolis:20260217T193000
DTEND;TZID=America/Indiana/Indianapolis:20260217T203000
DTSTAMP:20260425T115618
CREATED:20251016T141538Z
LAST-MODIFIED:20251016T142135Z
UID:10001620-1771356600-1771360200@www.mission25cc.org
SUMMARY:Recovery Group
DESCRIPTION:
URL:https://www.mission25cc.org/event/recovery-group/2026-02-17/
LOCATION:Columbia City\, IN\, 46725\, United States
END:VEVENT
BEGIN:VEVENT
DTSTART;TZID=America/Indiana/Indianapolis:20260224T193000
DTEND;TZID=America/Indiana/Indianapolis:20260224T203000
DTSTAMP:20260425T115618
CREATED:20251016T141538Z
LAST-MODIFIED:20251016T142135Z
UID:10001621-1771961400-1771965000@www.mission25cc.org
SUMMARY:Recovery Group
DESCRIPTION:
URL:https://www.mission25cc.org/event/recovery-group/2026-02-24/
LOCATION:Columbia City\, IN\, 46725\, United States
END:VEVENT
BEGIN:VEVENT
DTSTART;TZID=America/Indiana/Indianapolis:20260202T183000
DTEND;TZID=America/Indiana/Indianapolis:20260202T200000
DTSTAMP:20260425T115618
CREATED:20251215T210346Z
LAST-MODIFIED:20260122T155334Z
UID:10001768-1770057000-1770062400@www.mission25cc.org
SUMMARY:NA: Free to Be
DESCRIPTION:Hosted by Northeastern Indiana Area of Narcotics Anonymous\, Free to Be NA meets at Mission 25 Recovery Engagement Center. \nOpen to addicts and non-addicts alike\, beginner friendly\, discussion is invited by all attendees\, wheelchair accessible.
URL:https://www.mission25cc.org/event/na-free-to-be/2026-02-02/
LOCATION:Columbia City\, IN\, 46725\, United States
END:VEVENT
BEGIN:VEVENT
DTSTART;TZID=America/Indiana/Indianapolis:20260209T183000
DTEND;TZID=America/Indiana/Indianapolis:20260209T200000
DTSTAMP:20260425T115618
CREATED:20251215T210346Z
LAST-MODIFIED:20260122T155334Z
UID:10001769-1770661800-1770667200@www.mission25cc.org
SUMMARY:NA: Free to Be
DESCRIPTION:Hosted by Northeastern Indiana Area of Narcotics Anonymous\, Free to Be NA meets at Mission 25 Recovery Engagement Center. \nOpen to addicts and non-addicts alike\, beginner friendly\, discussion is invited by all attendees\, wheelchair accessible.
URL:https://www.mission25cc.org/event/na-free-to-be/2026-02-09/
LOCATION:Columbia City\, IN\, 46725\, United States
END:VEVENT
BEGIN:VEVENT
DTSTART;TZID=America/Indiana/Indianapolis:20260216T183000
DTEND;TZID=America/Indiana/Indianapolis:20260216T200000
DTSTAMP:20260425T115618
CREATED:20251215T210346Z
LAST-MODIFIED:20260122T155334Z
UID:10001770-1771266600-1771272000@www.mission25cc.org
SUMMARY:NA: Free to Be
DESCRIPTION:Hosted by Northeastern Indiana Area of Narcotics Anonymous\, Free to Be NA meets at Mission 25 Recovery Engagement Center. \nOpen to addicts and non-addicts alike\, beginner friendly\, discussion is invited by all attendees\, wheelchair accessible.
URL:https://www.mission25cc.org/event/na-free-to-be/2026-02-16/
LOCATION:Columbia City\, IN\, 46725\, United States
END:VEVENT
BEGIN:VEVENT
DTSTART;TZID=America/Indiana/Indianapolis:20260223T183000
DTEND;TZID=America/Indiana/Indianapolis:20260223T200000
DTSTAMP:20260425T115618
CREATED:20251215T210346Z
LAST-MODIFIED:20260122T155334Z
UID:10001771-1771871400-1771876800@www.mission25cc.org
SUMMARY:NA: Free to Be
DESCRIPTION:Hosted by Northeastern Indiana Area of Narcotics Anonymous\, Free to Be NA meets at Mission 25 Recovery Engagement Center. \nOpen to addicts and non-addicts alike\, beginner friendly\, discussion is invited by all attendees\, wheelchair accessible.
URL:https://www.mission25cc.org/event/na-free-to-be/2026-02-23/
LOCATION:Columbia City\, IN\, 46725\, United States
END:VEVENT
BEGIN:VEVENT
DTSTART;TZID=America/Indiana/Indianapolis:20260220T183000
DTEND;TZID=America/Indiana/Indianapolis:20260220T203000
DTSTAMP:20260425T115618
CREATED:20260204T171050Z
LAST-MODIFIED:20260218T200039Z
UID:10001924-1771612200-1771619400@www.mission25cc.org
SUMMARY:Healing Hearts Together
DESCRIPTION:A feel-good community event at the Mission 25 Recovery Engagement Center focused on Total Heart Health! Move your body. Clear your mind. Connect with people who matter most to you. \n\nPainting & Creative Expression\nDrumming for Joy with Lindsay Sprunger\nFamily Feud & Carnival Games\nColoring & Quiet Reset Spaces\nIce Cream Social Bar\n“Hearty” Snacks & Goodies\n\nPlease enable JavaScript in your browser to complete this form.Name *Email *Phone *AddressAddress Line 1CityAlabamaAlaskaArizonaArkansasCaliforniaColoradoConnecticutDelawareDistrict of ColumbiaFloridaGeorgiaHawaiiIdahoIllinoisIndianaIowaKansasKentuckyLouisianaMaineMarylandMassachusettsMichiganMinnesotaMississippiMissouriMontanaNebraskaNevadaNew HampshireNew JerseyNew MexicoNew YorkNorth CarolinaNorth DakotaOhioOklahomaOregonPennsylvaniaRhode IslandSouth CarolinaSouth DakotaTennesseeTexasUtahVermontVirginiaWashingtonWest VirginiaWisconsinWyomingStateZip CodeHow many people are attending? *What are your top reasons for attending? Select all that apply.Gathering with communitySomething to do on FridayI was invitedCardio drummingI just need to be loved on right nowEntertaining the kidsIt sounded interestingI love the Recovery Engagement CenterDo you or anyone in your party have any food allergies? If so\, please specify.RSVP Now
URL:https://www.mission25cc.org/event/healing-hearts-together/
LOCATION:Columbia City\, IN\, 46725\, United States
ATTACH;FMTTYPE=image/png:https://www.mission25cc.org/wp-content/uploads/2026/02/February-2026-Healing-Hearts-Event-at-the-Recovery-Engagement-Center.png
END:VEVENT
BEGIN:VEVENT
DTSTART;TZID=America/Indiana/Indianapolis:20260202T170000
DTEND;TZID=America/Indiana/Indianapolis:20260202T180000
DTSTAMP:20260425T115618
CREATED:20240213T192249Z
LAST-MODIFIED:20260204T223412Z
UID:10001949-1770051600-1770055200@www.mission25cc.org
SUMMARY:Parents/People of Addicted Loved Ones (PAL)
DESCRIPTION:Join other parents or people of addicted loved ones as we navigate coping with loved ones who are dealing with substance use disorder involving either drugs or alcohol. Find hope and support in this group.
URL:https://www.mission25cc.org/event/parents-people-of-addicted-loved-ones-pal/2026-02-02/
LOCATION:Columbia City\, IN\, 46725\, United States
ATTACH;FMTTYPE=image/png:https://www.mission25cc.org/wp-content/uploads/2023/12/Making-Connections-5.png
END:VEVENT
BEGIN:VEVENT
DTSTART;TZID=America/Indiana/Indianapolis:20260206T080000
DTEND;TZID=America/Indiana/Indianapolis:20260206T090000
DTSTAMP:20260425T115618
CREATED:20260206T141731Z
LAST-MODIFIED:20260206T141747Z
UID:10001985-1770364800-1770368400@www.mission25cc.org
SUMMARY:Tuesday Tea with Mission 25 | Invite Exclusive Event
DESCRIPTION:We are so glad you’re interested! Please complete the form so we can create our first invite list. \nPlease enable JavaScript in your browser to complete this form.Name *Email *Phone *AddressAddress Line 1CityAlabamaAlaskaArizonaArkansasCaliforniaColoradoConnecticutDelawareDistrict of ColumbiaFloridaGeorgiaHawaiiIdahoIllinoisIndianaIowaKansasKentuckyLouisianaMaineMarylandMassachusettsMichiganMinnesotaMississippiMissouriMontanaNebraskaNevadaNew HampshireNew JerseyNew MexicoNew YorkNorth CarolinaNorth DakotaOhioOklahomaOregonPennsylvaniaRhode IslandSouth CarolinaSouth DakotaTennesseeTexasUtahVermontVirginiaWashingtonWest VirginiaWisconsinWyomingStateZip CodeHow many people are attending? *Do you or anyone in your party have any food allergies? If so\, please specify.Join the Invite List  \nMission 25 is launching a new way for donors and community champions to connect with our mission\, and you’re invited to be part of it. Tuesday Tea is a monthly gathering designed to bring together people who care deeply about strengthening Whitley County and supporting the families we serve. \nEach month\, Tuesday Tea offers a warm cup of tea\, meaningful conversation and a closer look at the impact your generosity makes possible. Guests hear stories of transformation\, learn about current needs\, and see firsthand how Mission 25 is building stability\, dignity\, and opportunity for our neighbors across all of our programs.
URL:https://www.mission25cc.org/event/tuesday-tea-with-mission-25-invite-exclusive-event/
LOCATION:Columbia City\, IN\, 46725\, United States
END:VEVENT
END:VCALENDAR