BEGIN:VCALENDAR
VERSION:2.0
PRODID:-//Mission 25 - ECPv6.0.8//NONSGML v1.0//EN
CALSCALE:GREGORIAN
METHOD:PUBLISH
X-ORIGINAL-URL:https://www.mission25cc.org
X-WR-CALDESC:Events for Mission 25
REFRESH-INTERVAL;VALUE=DURATION:PT1H
X-Robots-Tag:noindex
X-PUBLISHED-TTL:PT1H
BEGIN:VTIMEZONE
TZID:America/Indiana/Indianapolis
BEGIN:DAYLIGHT
TZOFFSETFROM:-0500
TZOFFSETTO:-0400
TZNAME:EDT
DTSTART:20260308T070000
END:DAYLIGHT
BEGIN:STANDARD
TZOFFSETFROM:-0400
TZOFFSETTO:-0500
TZNAME:EST
DTSTART:20261101T060000
END:STANDARD
END:VTIMEZONE
BEGIN:VEVENT
DTSTART;TZID=America/Indiana/Indianapolis:20260304T100000
DTEND;TZID=America/Indiana/Indianapolis:20260304T110000
DTSTAMP:20260420T160443
CREATED:20231204T035005Z
LAST-MODIFIED:20240424T213417Z
UID:10000279-1772618400-1772622000@www.mission25cc.org
SUMMARY:Making Connections Group
DESCRIPTION:Making Connections is a peer-led support group for women seeking the power of connection in their recovery. Join us in a safe space for a time of sharing\, connections and freshly brewed coffee.
URL:https://www.mission25cc.org/event/making-connections-group/2026-03-04/
LOCATION:Columbia City\, IN\, 46725\, United States
ATTACH;FMTTYPE=image/png:https://www.mission25cc.org/wp-content/uploads/2023/12/Making-Connections-1.png
END:VEVENT
BEGIN:VEVENT
DTSTART;TZID=America/Indiana/Indianapolis:20260311T100000
DTEND;TZID=America/Indiana/Indianapolis:20260311T110000
DTSTAMP:20260420T160443
CREATED:20231204T035005Z
LAST-MODIFIED:20240424T213417Z
UID:10000280-1773223200-1773226800@www.mission25cc.org
SUMMARY:Making Connections Group
DESCRIPTION:Making Connections is a peer-led support group for women seeking the power of connection in their recovery. Join us in a safe space for a time of sharing\, connections and freshly brewed coffee.
URL:https://www.mission25cc.org/event/making-connections-group/2026-03-11/
LOCATION:Columbia City\, IN\, 46725\, United States
ATTACH;FMTTYPE=image/png:https://www.mission25cc.org/wp-content/uploads/2023/12/Making-Connections-1.png
END:VEVENT
BEGIN:VEVENT
DTSTART;TZID=America/Indiana/Indianapolis:20260318T100000
DTEND;TZID=America/Indiana/Indianapolis:20260318T110000
DTSTAMP:20260420T160443
CREATED:20231204T035005Z
LAST-MODIFIED:20240424T213417Z
UID:10000281-1773828000-1773831600@www.mission25cc.org
SUMMARY:Making Connections Group
DESCRIPTION:Making Connections is a peer-led support group for women seeking the power of connection in their recovery. Join us in a safe space for a time of sharing\, connections and freshly brewed coffee.
URL:https://www.mission25cc.org/event/making-connections-group/2026-03-18/
LOCATION:Columbia City\, IN\, 46725\, United States
ATTACH;FMTTYPE=image/png:https://www.mission25cc.org/wp-content/uploads/2023/12/Making-Connections-1.png
END:VEVENT
BEGIN:VEVENT
DTSTART;TZID=America/Indiana/Indianapolis:20260325T100000
DTEND;TZID=America/Indiana/Indianapolis:20260325T110000
DTSTAMP:20260420T160443
CREATED:20231204T035005Z
LAST-MODIFIED:20240424T213417Z
UID:10000282-1774432800-1774436400@www.mission25cc.org
SUMMARY:Making Connections Group
DESCRIPTION:Making Connections is a peer-led support group for women seeking the power of connection in their recovery. Join us in a safe space for a time of sharing\, connections and freshly brewed coffee.
URL:https://www.mission25cc.org/event/making-connections-group/2026-03-25/
LOCATION:Columbia City\, IN\, 46725\, United States
ATTACH;FMTTYPE=image/png:https://www.mission25cc.org/wp-content/uploads/2023/12/Making-Connections-1.png
END:VEVENT
BEGIN:VEVENT
DTSTART;TZID=America/Indiana/Indianapolis:20260301T173000
DTEND;TZID=America/Indiana/Indianapolis:20260301T203000
DTSTAMP:20260420T160443
CREATED:20231205T135534Z
LAST-MODIFIED:20231205T135734Z
UID:10001061-1772386200-1772397000@www.mission25cc.org
SUMMARY:Celebrate Recovery
DESCRIPTION:Join us for Celebrate Recovery on Sunday evenings. Bring your hurts\, habits and hang-ups into a safe environment with likeminded people. We have a time of fellowship between 5:30 PM – 6:00 PM (come for a freshly brewed cup of coffee) and then come together in a large group format beginning at 6:00 PM. We have small groups immediately following the large group time. \nCelebrate Recovery is led by CR Leaders from The Warehouse Church.
URL:https://www.mission25cc.org/event/celebrate-recovery-2/2026-03-01/
LOCATION:Columbia City\, IN\, 46725\, United States
END:VEVENT
BEGIN:VEVENT
DTSTART;TZID=America/Indiana/Indianapolis:20260308T173000
DTEND;TZID=America/Indiana/Indianapolis:20260308T203000
DTSTAMP:20260420T160443
CREATED:20231205T135534Z
LAST-MODIFIED:20231205T135734Z
UID:10001062-1772991000-1773001800@www.mission25cc.org
SUMMARY:Celebrate Recovery
DESCRIPTION:Join us for Celebrate Recovery on Sunday evenings. Bring your hurts\, habits and hang-ups into a safe environment with likeminded people. We have a time of fellowship between 5:30 PM – 6:00 PM (come for a freshly brewed cup of coffee) and then come together in a large group format beginning at 6:00 PM. We have small groups immediately following the large group time. \nCelebrate Recovery is led by CR Leaders from The Warehouse Church.
URL:https://www.mission25cc.org/event/celebrate-recovery-2/2026-03-08/
LOCATION:Columbia City\, IN\, 46725\, United States
END:VEVENT
BEGIN:VEVENT
DTSTART;TZID=America/Indiana/Indianapolis:20260315T173000
DTEND;TZID=America/Indiana/Indianapolis:20260315T203000
DTSTAMP:20260420T160443
CREATED:20231205T135534Z
LAST-MODIFIED:20231205T135734Z
UID:10001063-1773595800-1773606600@www.mission25cc.org
SUMMARY:Celebrate Recovery
DESCRIPTION:Join us for Celebrate Recovery on Sunday evenings. Bring your hurts\, habits and hang-ups into a safe environment with likeminded people. We have a time of fellowship between 5:30 PM – 6:00 PM (come for a freshly brewed cup of coffee) and then come together in a large group format beginning at 6:00 PM. We have small groups immediately following the large group time. \nCelebrate Recovery is led by CR Leaders from The Warehouse Church.
URL:https://www.mission25cc.org/event/celebrate-recovery-2/2026-03-15/
LOCATION:Columbia City\, IN\, 46725\, United States
END:VEVENT
BEGIN:VEVENT
DTSTART;TZID=America/Indiana/Indianapolis:20260322T173000
DTEND;TZID=America/Indiana/Indianapolis:20260322T203000
DTSTAMP:20260420T160443
CREATED:20231205T135534Z
LAST-MODIFIED:20231205T135734Z
UID:10001064-1774200600-1774211400@www.mission25cc.org
SUMMARY:Celebrate Recovery
DESCRIPTION:Join us for Celebrate Recovery on Sunday evenings. Bring your hurts\, habits and hang-ups into a safe environment with likeminded people. We have a time of fellowship between 5:30 PM – 6:00 PM (come for a freshly brewed cup of coffee) and then come together in a large group format beginning at 6:00 PM. We have small groups immediately following the large group time. \nCelebrate Recovery is led by CR Leaders from The Warehouse Church.
URL:https://www.mission25cc.org/event/celebrate-recovery-2/2026-03-22/
LOCATION:Columbia City\, IN\, 46725\, United States
END:VEVENT
BEGIN:VEVENT
DTSTART;TZID=America/Indiana/Indianapolis:20260329T173000
DTEND;TZID=America/Indiana/Indianapolis:20260329T203000
DTSTAMP:20260420T160443
CREATED:20231205T135534Z
LAST-MODIFIED:20231205T135734Z
UID:10001065-1774805400-1774816200@www.mission25cc.org
SUMMARY:Celebrate Recovery
DESCRIPTION:Join us for Celebrate Recovery on Sunday evenings. Bring your hurts\, habits and hang-ups into a safe environment with likeminded people. We have a time of fellowship between 5:30 PM – 6:00 PM (come for a freshly brewed cup of coffee) and then come together in a large group format beginning at 6:00 PM. We have small groups immediately following the large group time. \nCelebrate Recovery is led by CR Leaders from The Warehouse Church.
URL:https://www.mission25cc.org/event/celebrate-recovery-2/2026-03-29/
LOCATION:Columbia City\, IN\, 46725\, United States
END:VEVENT
BEGIN:VEVENT
DTSTART;TZID=America/Indiana/Indianapolis:20260302T093000
DTEND;TZID=America/Indiana/Indianapolis:20260302T103000
DTSTAMP:20260420T160443
CREATED:20231202T200711Z
LAST-MODIFIED:20231205T140111Z
UID:10001217-1772443800-1772447400@www.mission25cc.org
SUMMARY:Journaling Through Recovery
DESCRIPTION:Join us in a safe environment on Monday mornings at the Mission 25 Recovery Engagement Center as we journal our way through recovery. Explore journal writing and/or drawing as a recovery tool in expressing feelings in a healthy\, safe and non-judgmental way. We will provide prompts for those who choose to write or draw in their journals. The tools will be provided\, along with freshly brewed coffee.
URL:https://www.mission25cc.org/event/journaling-through-recovery/2026-03-02/
LOCATION:Columbia City\, IN\, 46725\, United States
END:VEVENT
BEGIN:VEVENT
DTSTART;TZID=America/Indiana/Indianapolis:20260309T093000
DTEND;TZID=America/Indiana/Indianapolis:20260309T103000
DTSTAMP:20260420T160443
CREATED:20231202T200711Z
LAST-MODIFIED:20231205T140111Z
UID:10001218-1773048600-1773052200@www.mission25cc.org
SUMMARY:Journaling Through Recovery
DESCRIPTION:Join us in a safe environment on Monday mornings at the Mission 25 Recovery Engagement Center as we journal our way through recovery. Explore journal writing and/or drawing as a recovery tool in expressing feelings in a healthy\, safe and non-judgmental way. We will provide prompts for those who choose to write or draw in their journals. The tools will be provided\, along with freshly brewed coffee.
URL:https://www.mission25cc.org/event/journaling-through-recovery/2026-03-09/
LOCATION:Columbia City\, IN\, 46725\, United States
END:VEVENT
BEGIN:VEVENT
DTSTART;TZID=America/Indiana/Indianapolis:20260316T093000
DTEND;TZID=America/Indiana/Indianapolis:20260316T103000
DTSTAMP:20260420T160443
CREATED:20231202T200711Z
LAST-MODIFIED:20231205T140111Z
UID:10001219-1773653400-1773657000@www.mission25cc.org
SUMMARY:Journaling Through Recovery
DESCRIPTION:Join us in a safe environment on Monday mornings at the Mission 25 Recovery Engagement Center as we journal our way through recovery. Explore journal writing and/or drawing as a recovery tool in expressing feelings in a healthy\, safe and non-judgmental way. We will provide prompts for those who choose to write or draw in their journals. The tools will be provided\, along with freshly brewed coffee.
URL:https://www.mission25cc.org/event/journaling-through-recovery/2026-03-16/
LOCATION:Columbia City\, IN\, 46725\, United States
END:VEVENT
BEGIN:VEVENT
DTSTART;TZID=America/Indiana/Indianapolis:20260323T093000
DTEND;TZID=America/Indiana/Indianapolis:20260323T103000
DTSTAMP:20260420T160443
CREATED:20231202T200711Z
LAST-MODIFIED:20231205T140111Z
UID:10001220-1774258200-1774261800@www.mission25cc.org
SUMMARY:Journaling Through Recovery
DESCRIPTION:Join us in a safe environment on Monday mornings at the Mission 25 Recovery Engagement Center as we journal our way through recovery. Explore journal writing and/or drawing as a recovery tool in expressing feelings in a healthy\, safe and non-judgmental way. We will provide prompts for those who choose to write or draw in their journals. The tools will be provided\, along with freshly brewed coffee.
URL:https://www.mission25cc.org/event/journaling-through-recovery/2026-03-23/
LOCATION:Columbia City\, IN\, 46725\, United States
END:VEVENT
BEGIN:VEVENT
DTSTART;TZID=America/Indiana/Indianapolis:20260330T093000
DTEND;TZID=America/Indiana/Indianapolis:20260330T103000
DTSTAMP:20260420T160443
CREATED:20231202T200711Z
LAST-MODIFIED:20231205T140111Z
UID:10001221-1774863000-1774866600@www.mission25cc.org
SUMMARY:Journaling Through Recovery
DESCRIPTION:Join us in a safe environment on Monday mornings at the Mission 25 Recovery Engagement Center as we journal our way through recovery. Explore journal writing and/or drawing as a recovery tool in expressing feelings in a healthy\, safe and non-judgmental way. We will provide prompts for those who choose to write or draw in their journals. The tools will be provided\, along with freshly brewed coffee.
URL:https://www.mission25cc.org/event/journaling-through-recovery/2026-03-30/
LOCATION:Columbia City\, IN\, 46725\, United States
END:VEVENT
BEGIN:VEVENT
DTSTART;TZID=America/Indiana/Indianapolis:20260303T193000
DTEND;TZID=America/Indiana/Indianapolis:20260303T203000
DTSTAMP:20260420T160443
CREATED:20251016T141538Z
LAST-MODIFIED:20251016T142135Z
UID:10001622-1772566200-1772569800@www.mission25cc.org
SUMMARY:Recovery Group
DESCRIPTION:
URL:https://www.mission25cc.org/event/recovery-group/2026-03-03/
LOCATION:Columbia City\, IN\, 46725\, United States
END:VEVENT
BEGIN:VEVENT
DTSTART;TZID=America/Indiana/Indianapolis:20260310T193000
DTEND;TZID=America/Indiana/Indianapolis:20260310T203000
DTSTAMP:20260420T160443
CREATED:20251016T141538Z
LAST-MODIFIED:20251016T142135Z
UID:10001623-1773171000-1773174600@www.mission25cc.org
SUMMARY:Recovery Group
DESCRIPTION:
URL:https://www.mission25cc.org/event/recovery-group/2026-03-10/
LOCATION:Columbia City\, IN\, 46725\, United States
END:VEVENT
BEGIN:VEVENT
DTSTART;TZID=America/Indiana/Indianapolis:20260317T193000
DTEND;TZID=America/Indiana/Indianapolis:20260317T203000
DTSTAMP:20260420T160443
CREATED:20251016T141538Z
LAST-MODIFIED:20251016T142135Z
UID:10001624-1773775800-1773779400@www.mission25cc.org
SUMMARY:Recovery Group
DESCRIPTION:
URL:https://www.mission25cc.org/event/recovery-group/2026-03-17/
LOCATION:Columbia City\, IN\, 46725\, United States
END:VEVENT
BEGIN:VEVENT
DTSTART;TZID=America/Indiana/Indianapolis:20260324T193000
DTEND;TZID=America/Indiana/Indianapolis:20260324T203000
DTSTAMP:20260420T160443
CREATED:20251016T141538Z
LAST-MODIFIED:20251016T142135Z
UID:10001625-1774380600-1774384200@www.mission25cc.org
SUMMARY:Recovery Group
DESCRIPTION:
URL:https://www.mission25cc.org/event/recovery-group/2026-03-24/
LOCATION:Columbia City\, IN\, 46725\, United States
END:VEVENT
BEGIN:VEVENT
DTSTART;TZID=America/Indiana/Indianapolis:20260331T193000
DTEND;TZID=America/Indiana/Indianapolis:20260331T203000
DTSTAMP:20260420T160443
CREATED:20251016T141538Z
LAST-MODIFIED:20251016T142135Z
UID:10001626-1774985400-1774989000@www.mission25cc.org
SUMMARY:Recovery Group
DESCRIPTION:
URL:https://www.mission25cc.org/event/recovery-group/2026-03-31/
LOCATION:Columbia City\, IN\, 46725\, United States
END:VEVENT
BEGIN:VEVENT
DTSTART;TZID=America/Indiana/Indianapolis:20260302T183000
DTEND;TZID=America/Indiana/Indianapolis:20260302T200000
DTSTAMP:20260420T160443
CREATED:20251215T210346Z
LAST-MODIFIED:20260122T155334Z
UID:10001772-1772476200-1772481600@www.mission25cc.org
SUMMARY:NA: Free to Be
DESCRIPTION:Hosted by Northeastern Indiana Area of Narcotics Anonymous\, Free to Be NA meets at Mission 25 Recovery Engagement Center. \nOpen to addicts and non-addicts alike\, beginner friendly\, discussion is invited by all attendees\, wheelchair accessible.
URL:https://www.mission25cc.org/event/na-free-to-be/2026-03-02/
LOCATION:Columbia City\, IN\, 46725\, United States
END:VEVENT
BEGIN:VEVENT
DTSTART;TZID=America/Indiana/Indianapolis:20260309T183000
DTEND;TZID=America/Indiana/Indianapolis:20260309T200000
DTSTAMP:20260420T160443
CREATED:20251215T210346Z
LAST-MODIFIED:20260122T155334Z
UID:10001773-1773081000-1773086400@www.mission25cc.org
SUMMARY:NA: Free to Be
DESCRIPTION:Hosted by Northeastern Indiana Area of Narcotics Anonymous\, Free to Be NA meets at Mission 25 Recovery Engagement Center. \nOpen to addicts and non-addicts alike\, beginner friendly\, discussion is invited by all attendees\, wheelchair accessible.
URL:https://www.mission25cc.org/event/na-free-to-be/2026-03-09/
LOCATION:Columbia City\, IN\, 46725\, United States
END:VEVENT
BEGIN:VEVENT
DTSTART;TZID=America/Indiana/Indianapolis:20260316T183000
DTEND;TZID=America/Indiana/Indianapolis:20260316T200000
DTSTAMP:20260420T160443
CREATED:20251215T210346Z
LAST-MODIFIED:20260122T155334Z
UID:10001774-1773685800-1773691200@www.mission25cc.org
SUMMARY:NA: Free to Be
DESCRIPTION:Hosted by Northeastern Indiana Area of Narcotics Anonymous\, Free to Be NA meets at Mission 25 Recovery Engagement Center. \nOpen to addicts and non-addicts alike\, beginner friendly\, discussion is invited by all attendees\, wheelchair accessible.
URL:https://www.mission25cc.org/event/na-free-to-be/2026-03-16/
LOCATION:Columbia City\, IN\, 46725\, United States
END:VEVENT
BEGIN:VEVENT
DTSTART;TZID=America/Indiana/Indianapolis:20260323T183000
DTEND;TZID=America/Indiana/Indianapolis:20260323T200000
DTSTAMP:20260420T160443
CREATED:20251215T210346Z
LAST-MODIFIED:20260122T155334Z
UID:10001775-1774290600-1774296000@www.mission25cc.org
SUMMARY:NA: Free to Be
DESCRIPTION:Hosted by Northeastern Indiana Area of Narcotics Anonymous\, Free to Be NA meets at Mission 25 Recovery Engagement Center. \nOpen to addicts and non-addicts alike\, beginner friendly\, discussion is invited by all attendees\, wheelchair accessible.
URL:https://www.mission25cc.org/event/na-free-to-be/2026-03-23/
LOCATION:Columbia City\, IN\, 46725\, United States
END:VEVENT
BEGIN:VEVENT
DTSTART;TZID=America/Indiana/Indianapolis:20260330T183000
DTEND;TZID=America/Indiana/Indianapolis:20260330T200000
DTSTAMP:20260420T160443
CREATED:20251215T210346Z
LAST-MODIFIED:20260122T155334Z
UID:10001776-1774895400-1774900800@www.mission25cc.org
SUMMARY:NA: Free to Be
DESCRIPTION:Hosted by Northeastern Indiana Area of Narcotics Anonymous\, Free to Be NA meets at Mission 25 Recovery Engagement Center. \nOpen to addicts and non-addicts alike\, beginner friendly\, discussion is invited by all attendees\, wheelchair accessible.
URL:https://www.mission25cc.org/event/na-free-to-be/2026-03-30/
LOCATION:Columbia City\, IN\, 46725\, United States
END:VEVENT
BEGIN:VEVENT
DTSTART;TZID=America/Indiana/Indianapolis:20260302T170000
DTEND;TZID=America/Indiana/Indianapolis:20260302T180000
DTSTAMP:20260420T160443
CREATED:20240213T192249Z
LAST-MODIFIED:20260204T223412Z
UID:10001950-1772470800-1772474400@www.mission25cc.org
SUMMARY:Parents/People of Addicted Loved Ones (PAL)
DESCRIPTION:Join other parents or people of addicted loved ones as we navigate coping with loved ones who are dealing with substance use disorder involving either drugs or alcohol. Find hope and support in this group.
URL:https://www.mission25cc.org/event/parents-people-of-addicted-loved-ones-pal/2026-03-02/
LOCATION:Columbia City\, IN\, 46725\, United States
ATTACH;FMTTYPE=image/png:https://www.mission25cc.org/wp-content/uploads/2023/12/Making-Connections-5.png
END:VEVENT
BEGIN:VEVENT
DTSTART;TZID=America/Indiana/Indianapolis:20260306T160000
DTEND;TZID=America/Indiana/Indianapolis:20260306T180000
DTSTAMP:20260420T160443
CREATED:20260206T141911Z
LAST-MODIFIED:20260206T173657Z
UID:10001986-1772812800-1772820000@www.mission25cc.org
SUMMARY:Fish Fry
DESCRIPTION:More details coming soon! Save the Date!
URL:https://www.mission25cc.org/event/fish-fry/
LOCATION:Columbia City\, IN\, 46725\, United States
END:VEVENT
BEGIN:VEVENT
DTSTART;TZID=America/Indiana/Indianapolis:20260327T183000
DTEND;TZID=America/Indiana/Indianapolis:20260327T203000
DTSTAMP:20260420T160443
CREATED:20260317T165810Z
LAST-MODIFIED:20260317T173213Z
UID:10001987-1774636200-1774643400@www.mission25cc.org
SUMMARY:Telling Your Story with Ciara Bolling and Jimmy Grindle
DESCRIPTION:Gather at the Recovery Engagement Center for small group storytelling and conversation with local leaders\, Ciara Bolling and Jimmy Grindle! Enjoy comfort foods served in an old-school classic Potluck dinner and relaxing table activities. This event is not meant for children under the age of 15.
URL:https://www.mission25cc.org/event/telling-your-story-with-ciara-bolling-and-jimmy-grindle/
LOCATION:Columbia City\, IN\, 46725\, United States
ATTACH;FMTTYPE=image/png:https://www.mission25cc.org/wp-content/uploads/2026/03/March-2026-1.png
END:VEVENT
END:VCALENDAR