BEGIN:VCALENDAR
VERSION:2.0
PRODID:-//Mission 25 - ECPv6.0.8//NONSGML v1.0//EN
CALSCALE:GREGORIAN
METHOD:PUBLISH
X-WR-CALNAME:Mission 25
X-ORIGINAL-URL:https://www.mission25cc.org
X-WR-CALDESC:Events for Mission 25
REFRESH-INTERVAL;VALUE=DURATION:PT1H
X-Robots-Tag:noindex
X-PUBLISHED-TTL:PT1H
BEGIN:VTIMEZONE
TZID:America/Indiana/Indianapolis
BEGIN:DAYLIGHT
TZOFFSETFROM:-0500
TZOFFSETTO:-0400
TZNAME:EDT
DTSTART:20260308T070000
END:DAYLIGHT
BEGIN:STANDARD
TZOFFSETFROM:-0400
TZOFFSETTO:-0500
TZNAME:EST
DTSTART:20261101T060000
END:STANDARD
END:VTIMEZONE
BEGIN:VEVENT
DTSTART;TZID=America/Indiana/Indianapolis:20260603T100000
DTEND;TZID=America/Indiana/Indianapolis:20260603T110000
DTSTAMP:20260425T115616
CREATED:20231204T035005Z
LAST-MODIFIED:20240424T213417Z
UID:10000292-1780480800-1780484400@www.mission25cc.org
SUMMARY:Making Connections Group
DESCRIPTION:Making Connections is a peer-led support group for women seeking the power of connection in their recovery. Join us in a safe space for a time of sharing\, connections and freshly brewed coffee.
URL:https://www.mission25cc.org/event/making-connections-group/2026-06-03/
LOCATION:Columbia City\, IN\, 46725\, United States
ATTACH;FMTTYPE=image/png:https://www.mission25cc.org/wp-content/uploads/2023/12/Making-Connections-1.png
END:VEVENT
BEGIN:VEVENT
DTSTART;TZID=America/Indiana/Indianapolis:20260610T100000
DTEND;TZID=America/Indiana/Indianapolis:20260610T110000
DTSTAMP:20260425T115616
CREATED:20231204T035005Z
LAST-MODIFIED:20240424T213417Z
UID:10000293-1781085600-1781089200@www.mission25cc.org
SUMMARY:Making Connections Group
DESCRIPTION:Making Connections is a peer-led support group for women seeking the power of connection in their recovery. Join us in a safe space for a time of sharing\, connections and freshly brewed coffee.
URL:https://www.mission25cc.org/event/making-connections-group/2026-06-10/
LOCATION:Columbia City\, IN\, 46725\, United States
ATTACH;FMTTYPE=image/png:https://www.mission25cc.org/wp-content/uploads/2023/12/Making-Connections-1.png
END:VEVENT
BEGIN:VEVENT
DTSTART;TZID=America/Indiana/Indianapolis:20260617T100000
DTEND;TZID=America/Indiana/Indianapolis:20260617T110000
DTSTAMP:20260425T115616
CREATED:20231204T035005Z
LAST-MODIFIED:20240424T213417Z
UID:10000294-1781690400-1781694000@www.mission25cc.org
SUMMARY:Making Connections Group
DESCRIPTION:Making Connections is a peer-led support group for women seeking the power of connection in their recovery. Join us in a safe space for a time of sharing\, connections and freshly brewed coffee.
URL:https://www.mission25cc.org/event/making-connections-group/2026-06-17/
LOCATION:Columbia City\, IN\, 46725\, United States
ATTACH;FMTTYPE=image/png:https://www.mission25cc.org/wp-content/uploads/2023/12/Making-Connections-1.png
END:VEVENT
BEGIN:VEVENT
DTSTART;TZID=America/Indiana/Indianapolis:20260624T100000
DTEND;TZID=America/Indiana/Indianapolis:20260624T110000
DTSTAMP:20260425T115616
CREATED:20231204T035005Z
LAST-MODIFIED:20240424T213417Z
UID:10000295-1782295200-1782298800@www.mission25cc.org
SUMMARY:Making Connections Group
DESCRIPTION:Making Connections is a peer-led support group for women seeking the power of connection in their recovery. Join us in a safe space for a time of sharing\, connections and freshly brewed coffee.
URL:https://www.mission25cc.org/event/making-connections-group/2026-06-24/
LOCATION:Columbia City\, IN\, 46725\, United States
ATTACH;FMTTYPE=image/png:https://www.mission25cc.org/wp-content/uploads/2023/12/Making-Connections-1.png
END:VEVENT
BEGIN:VEVENT
DTSTART;TZID=America/Indiana/Indianapolis:20260607T173000
DTEND;TZID=America/Indiana/Indianapolis:20260607T203000
DTSTAMP:20260425T115616
CREATED:20231205T135534Z
LAST-MODIFIED:20231205T135734Z
UID:10001075-1780853400-1780864200@www.mission25cc.org
SUMMARY:Celebrate Recovery
DESCRIPTION:Join us for Celebrate Recovery on Sunday evenings. Bring your hurts\, habits and hang-ups into a safe environment with likeminded people. We have a time of fellowship between 5:30 PM – 6:00 PM (come for a freshly brewed cup of coffee) and then come together in a large group format beginning at 6:00 PM. We have small groups immediately following the large group time. \nCelebrate Recovery is led by CR Leaders from The Warehouse Church.
URL:https://www.mission25cc.org/event/celebrate-recovery-2/2026-06-07/
LOCATION:Columbia City\, IN\, 46725\, United States
END:VEVENT
BEGIN:VEVENT
DTSTART;TZID=America/Indiana/Indianapolis:20260614T173000
DTEND;TZID=America/Indiana/Indianapolis:20260614T203000
DTSTAMP:20260425T115616
CREATED:20231205T135534Z
LAST-MODIFIED:20231205T135734Z
UID:10001076-1781458200-1781469000@www.mission25cc.org
SUMMARY:Celebrate Recovery
DESCRIPTION:Join us for Celebrate Recovery on Sunday evenings. Bring your hurts\, habits and hang-ups into a safe environment with likeminded people. We have a time of fellowship between 5:30 PM – 6:00 PM (come for a freshly brewed cup of coffee) and then come together in a large group format beginning at 6:00 PM. We have small groups immediately following the large group time. \nCelebrate Recovery is led by CR Leaders from The Warehouse Church.
URL:https://www.mission25cc.org/event/celebrate-recovery-2/2026-06-14/
LOCATION:Columbia City\, IN\, 46725\, United States
END:VEVENT
BEGIN:VEVENT
DTSTART;TZID=America/Indiana/Indianapolis:20260621T173000
DTEND;TZID=America/Indiana/Indianapolis:20260621T203000
DTSTAMP:20260425T115616
CREATED:20231205T135534Z
LAST-MODIFIED:20231205T135734Z
UID:10001077-1782063000-1782073800@www.mission25cc.org
SUMMARY:Celebrate Recovery
DESCRIPTION:Join us for Celebrate Recovery on Sunday evenings. Bring your hurts\, habits and hang-ups into a safe environment with likeminded people. We have a time of fellowship between 5:30 PM – 6:00 PM (come for a freshly brewed cup of coffee) and then come together in a large group format beginning at 6:00 PM. We have small groups immediately following the large group time. \nCelebrate Recovery is led by CR Leaders from The Warehouse Church.
URL:https://www.mission25cc.org/event/celebrate-recovery-2/2026-06-21/
LOCATION:Columbia City\, IN\, 46725\, United States
END:VEVENT
BEGIN:VEVENT
DTSTART;TZID=America/Indiana/Indianapolis:20260628T173000
DTEND;TZID=America/Indiana/Indianapolis:20260628T203000
DTSTAMP:20260425T115616
CREATED:20231205T135534Z
LAST-MODIFIED:20231205T135734Z
UID:10001078-1782667800-1782678600@www.mission25cc.org
SUMMARY:Celebrate Recovery
DESCRIPTION:Join us for Celebrate Recovery on Sunday evenings. Bring your hurts\, habits and hang-ups into a safe environment with likeminded people. We have a time of fellowship between 5:30 PM – 6:00 PM (come for a freshly brewed cup of coffee) and then come together in a large group format beginning at 6:00 PM. We have small groups immediately following the large group time. \nCelebrate Recovery is led by CR Leaders from The Warehouse Church.
URL:https://www.mission25cc.org/event/celebrate-recovery-2/2026-06-28/
LOCATION:Columbia City\, IN\, 46725\, United States
END:VEVENT
BEGIN:VEVENT
DTSTART;TZID=America/Indiana/Indianapolis:20260601T093000
DTEND;TZID=America/Indiana/Indianapolis:20260601T103000
DTSTAMP:20260425T115616
CREATED:20231202T200711Z
LAST-MODIFIED:20231205T140111Z
UID:10001230-1780306200-1780309800@www.mission25cc.org
SUMMARY:Journaling Through Recovery
DESCRIPTION:Join us in a safe environment on Monday mornings at the Mission 25 Recovery Engagement Center as we journal our way through recovery. Explore journal writing and/or drawing as a recovery tool in expressing feelings in a healthy\, safe and non-judgmental way. We will provide prompts for those who choose to write or draw in their journals. The tools will be provided\, along with freshly brewed coffee.
URL:https://www.mission25cc.org/event/journaling-through-recovery/2026-06-01/
LOCATION:Columbia City\, IN\, 46725\, United States
END:VEVENT
BEGIN:VEVENT
DTSTART;TZID=America/Indiana/Indianapolis:20260608T093000
DTEND;TZID=America/Indiana/Indianapolis:20260608T103000
DTSTAMP:20260425T115616
CREATED:20231202T200711Z
LAST-MODIFIED:20231205T140111Z
UID:10001231-1780911000-1780914600@www.mission25cc.org
SUMMARY:Journaling Through Recovery
DESCRIPTION:Join us in a safe environment on Monday mornings at the Mission 25 Recovery Engagement Center as we journal our way through recovery. Explore journal writing and/or drawing as a recovery tool in expressing feelings in a healthy\, safe and non-judgmental way. We will provide prompts for those who choose to write or draw in their journals. The tools will be provided\, along with freshly brewed coffee.
URL:https://www.mission25cc.org/event/journaling-through-recovery/2026-06-08/
LOCATION:Columbia City\, IN\, 46725\, United States
END:VEVENT
BEGIN:VEVENT
DTSTART;TZID=America/Indiana/Indianapolis:20260615T093000
DTEND;TZID=America/Indiana/Indianapolis:20260615T103000
DTSTAMP:20260425T115616
CREATED:20231202T200711Z
LAST-MODIFIED:20231205T140111Z
UID:10001232-1781515800-1781519400@www.mission25cc.org
SUMMARY:Journaling Through Recovery
DESCRIPTION:Join us in a safe environment on Monday mornings at the Mission 25 Recovery Engagement Center as we journal our way through recovery. Explore journal writing and/or drawing as a recovery tool in expressing feelings in a healthy\, safe and non-judgmental way. We will provide prompts for those who choose to write or draw in their journals. The tools will be provided\, along with freshly brewed coffee.
URL:https://www.mission25cc.org/event/journaling-through-recovery/2026-06-15/
LOCATION:Columbia City\, IN\, 46725\, United States
END:VEVENT
BEGIN:VEVENT
DTSTART;TZID=America/Indiana/Indianapolis:20260622T093000
DTEND;TZID=America/Indiana/Indianapolis:20260622T103000
DTSTAMP:20260425T115616
CREATED:20231202T200711Z
LAST-MODIFIED:20231205T140111Z
UID:10001233-1782120600-1782124200@www.mission25cc.org
SUMMARY:Journaling Through Recovery
DESCRIPTION:Join us in a safe environment on Monday mornings at the Mission 25 Recovery Engagement Center as we journal our way through recovery. Explore journal writing and/or drawing as a recovery tool in expressing feelings in a healthy\, safe and non-judgmental way. We will provide prompts for those who choose to write or draw in their journals. The tools will be provided\, along with freshly brewed coffee.
URL:https://www.mission25cc.org/event/journaling-through-recovery/2026-06-22/
LOCATION:Columbia City\, IN\, 46725\, United States
END:VEVENT
BEGIN:VEVENT
DTSTART;TZID=America/Indiana/Indianapolis:20260629T093000
DTEND;TZID=America/Indiana/Indianapolis:20260629T103000
DTSTAMP:20260425T115616
CREATED:20231202T200711Z
LAST-MODIFIED:20231205T140111Z
UID:10001234-1782725400-1782729000@www.mission25cc.org
SUMMARY:Journaling Through Recovery
DESCRIPTION:Join us in a safe environment on Monday mornings at the Mission 25 Recovery Engagement Center as we journal our way through recovery. Explore journal writing and/or drawing as a recovery tool in expressing feelings in a healthy\, safe and non-judgmental way. We will provide prompts for those who choose to write or draw in their journals. The tools will be provided\, along with freshly brewed coffee.
URL:https://www.mission25cc.org/event/journaling-through-recovery/2026-06-29/
LOCATION:Columbia City\, IN\, 46725\, United States
END:VEVENT
BEGIN:VEVENT
DTSTART;TZID=America/Indiana/Indianapolis:20260602T193000
DTEND;TZID=America/Indiana/Indianapolis:20260602T203000
DTSTAMP:20260425T115616
CREATED:20251016T141538Z
LAST-MODIFIED:20251016T142135Z
UID:10001635-1780428600-1780432200@www.mission25cc.org
SUMMARY:Recovery Group
DESCRIPTION:
URL:https://www.mission25cc.org/event/recovery-group/2026-06-02/
LOCATION:Columbia City\, IN\, 46725\, United States
END:VEVENT
BEGIN:VEVENT
DTSTART;TZID=America/Indiana/Indianapolis:20260609T193000
DTEND;TZID=America/Indiana/Indianapolis:20260609T203000
DTSTAMP:20260425T115616
CREATED:20251016T141538Z
LAST-MODIFIED:20251016T142135Z
UID:10001636-1781033400-1781037000@www.mission25cc.org
SUMMARY:Recovery Group
DESCRIPTION:
URL:https://www.mission25cc.org/event/recovery-group/2026-06-09/
LOCATION:Columbia City\, IN\, 46725\, United States
END:VEVENT
BEGIN:VEVENT
DTSTART;TZID=America/Indiana/Indianapolis:20260616T193000
DTEND;TZID=America/Indiana/Indianapolis:20260616T203000
DTSTAMP:20260425T115616
CREATED:20251016T141538Z
LAST-MODIFIED:20251016T142135Z
UID:10001637-1781638200-1781641800@www.mission25cc.org
SUMMARY:Recovery Group
DESCRIPTION:
URL:https://www.mission25cc.org/event/recovery-group/2026-06-16/
LOCATION:Columbia City\, IN\, 46725\, United States
END:VEVENT
BEGIN:VEVENT
DTSTART;TZID=America/Indiana/Indianapolis:20260623T193000
DTEND;TZID=America/Indiana/Indianapolis:20260623T203000
DTSTAMP:20260425T115616
CREATED:20251016T141538Z
LAST-MODIFIED:20251016T142135Z
UID:10001638-1782243000-1782246600@www.mission25cc.org
SUMMARY:Recovery Group
DESCRIPTION:
URL:https://www.mission25cc.org/event/recovery-group/2026-06-23/
LOCATION:Columbia City\, IN\, 46725\, United States
END:VEVENT
BEGIN:VEVENT
DTSTART;TZID=America/Indiana/Indianapolis:20260630T193000
DTEND;TZID=America/Indiana/Indianapolis:20260630T203000
DTSTAMP:20260425T115616
CREATED:20251016T141538Z
LAST-MODIFIED:20251016T142135Z
UID:10001639-1782847800-1782851400@www.mission25cc.org
SUMMARY:Recovery Group
DESCRIPTION:
URL:https://www.mission25cc.org/event/recovery-group/2026-06-30/
LOCATION:Columbia City\, IN\, 46725\, United States
END:VEVENT
BEGIN:VEVENT
DTSTART;TZID=America/Indiana/Indianapolis:20260601T183000
DTEND;TZID=America/Indiana/Indianapolis:20260601T200000
DTSTAMP:20260425T115616
CREATED:20251215T210346Z
LAST-MODIFIED:20260122T155334Z
UID:10001785-1780338600-1780344000@www.mission25cc.org
SUMMARY:NA: Free to Be
DESCRIPTION:Hosted by Northeastern Indiana Area of Narcotics Anonymous\, Free to Be NA meets at Mission 25 Recovery Engagement Center. \nOpen to addicts and non-addicts alike\, beginner friendly\, discussion is invited by all attendees\, wheelchair accessible.
URL:https://www.mission25cc.org/event/na-free-to-be/2026-06-01/
LOCATION:Columbia City\, IN\, 46725\, United States
END:VEVENT
BEGIN:VEVENT
DTSTART;TZID=America/Indiana/Indianapolis:20260608T183000
DTEND;TZID=America/Indiana/Indianapolis:20260608T200000
DTSTAMP:20260425T115616
CREATED:20251215T210346Z
LAST-MODIFIED:20260122T155334Z
UID:10001786-1780943400-1780948800@www.mission25cc.org
SUMMARY:NA: Free to Be
DESCRIPTION:Hosted by Northeastern Indiana Area of Narcotics Anonymous\, Free to Be NA meets at Mission 25 Recovery Engagement Center. \nOpen to addicts and non-addicts alike\, beginner friendly\, discussion is invited by all attendees\, wheelchair accessible.
URL:https://www.mission25cc.org/event/na-free-to-be/2026-06-08/
LOCATION:Columbia City\, IN\, 46725\, United States
END:VEVENT
BEGIN:VEVENT
DTSTART;TZID=America/Indiana/Indianapolis:20260615T183000
DTEND;TZID=America/Indiana/Indianapolis:20260615T200000
DTSTAMP:20260425T115616
CREATED:20251215T210346Z
LAST-MODIFIED:20260122T155334Z
UID:10001787-1781548200-1781553600@www.mission25cc.org
SUMMARY:NA: Free to Be
DESCRIPTION:Hosted by Northeastern Indiana Area of Narcotics Anonymous\, Free to Be NA meets at Mission 25 Recovery Engagement Center. \nOpen to addicts and non-addicts alike\, beginner friendly\, discussion is invited by all attendees\, wheelchair accessible.
URL:https://www.mission25cc.org/event/na-free-to-be/2026-06-15/
LOCATION:Columbia City\, IN\, 46725\, United States
END:VEVENT
BEGIN:VEVENT
DTSTART;TZID=America/Indiana/Indianapolis:20260622T183000
DTEND;TZID=America/Indiana/Indianapolis:20260622T200000
DTSTAMP:20260425T115616
CREATED:20251215T210346Z
LAST-MODIFIED:20260122T155334Z
UID:10001788-1782153000-1782158400@www.mission25cc.org
SUMMARY:NA: Free to Be
DESCRIPTION:Hosted by Northeastern Indiana Area of Narcotics Anonymous\, Free to Be NA meets at Mission 25 Recovery Engagement Center. \nOpen to addicts and non-addicts alike\, beginner friendly\, discussion is invited by all attendees\, wheelchair accessible.
URL:https://www.mission25cc.org/event/na-free-to-be/2026-06-22/
LOCATION:Columbia City\, IN\, 46725\, United States
END:VEVENT
BEGIN:VEVENT
DTSTART;TZID=America/Indiana/Indianapolis:20260629T183000
DTEND;TZID=America/Indiana/Indianapolis:20260629T200000
DTSTAMP:20260425T115616
CREATED:20251215T210346Z
LAST-MODIFIED:20260122T155334Z
UID:10001789-1782757800-1782763200@www.mission25cc.org
SUMMARY:NA: Free to Be
DESCRIPTION:Hosted by Northeastern Indiana Area of Narcotics Anonymous\, Free to Be NA meets at Mission 25 Recovery Engagement Center. \nOpen to addicts and non-addicts alike\, beginner friendly\, discussion is invited by all attendees\, wheelchair accessible.
URL:https://www.mission25cc.org/event/na-free-to-be/2026-06-29/
LOCATION:Columbia City\, IN\, 46725\, United States
END:VEVENT
BEGIN:VEVENT
DTSTART;TZID=America/Indiana/Indianapolis:20260601T170000
DTEND;TZID=America/Indiana/Indianapolis:20260601T180000
DTSTAMP:20260425T115616
CREATED:20240213T192249Z
LAST-MODIFIED:20260204T223412Z
UID:10001953-1780333200-1780336800@www.mission25cc.org
SUMMARY:Parents/People of Addicted Loved Ones (PAL)
DESCRIPTION:Join other parents or people of addicted loved ones as we navigate coping with loved ones who are dealing with substance use disorder involving either drugs or alcohol. Find hope and support in this group.
URL:https://www.mission25cc.org/event/parents-people-of-addicted-loved-ones-pal/2026-06-01/
LOCATION:Columbia City\, IN\, 46725\, United States
ATTACH;FMTTYPE=image/png:https://www.mission25cc.org/wp-content/uploads/2023/12/Making-Connections-5.png
END:VEVENT
END:VCALENDAR