BEGIN:VCALENDAR
VERSION:2.0
PRODID:-//Mission 25 - ECPv6.0.8//NONSGML v1.0//EN
CALSCALE:GREGORIAN
METHOD:PUBLISH
X-ORIGINAL-URL:https://www.mission25cc.org
X-WR-CALDESC:Events for Mission 25
REFRESH-INTERVAL;VALUE=DURATION:PT1H
X-Robots-Tag:noindex
X-PUBLISHED-TTL:PT1H
BEGIN:VTIMEZONE
TZID:America/Indiana/Indianapolis
BEGIN:DAYLIGHT
TZOFFSETFROM:-0500
TZOFFSETTO:-0400
TZNAME:EDT
DTSTART:20260308T070000
END:DAYLIGHT
BEGIN:STANDARD
TZOFFSETFROM:-0400
TZOFFSETTO:-0500
TZNAME:EST
DTSTART:20261101T060000
END:STANDARD
END:VTIMEZONE
BEGIN:VEVENT
DTSTART;TZID=America/Indiana/Indianapolis:20260701T100000
DTEND;TZID=America/Indiana/Indianapolis:20260701T110000
DTSTAMP:20260425T133820
CREATED:20231204T035005Z
LAST-MODIFIED:20240424T213417Z
UID:10000296-1782900000-1782903600@www.mission25cc.org
SUMMARY:Making Connections Group
DESCRIPTION:Making Connections is a peer-led support group for women seeking the power of connection in their recovery. Join us in a safe space for a time of sharing\, connections and freshly brewed coffee.
URL:https://www.mission25cc.org/event/making-connections-group/2026-07-01/
LOCATION:Columbia City\, IN\, 46725\, United States
ATTACH;FMTTYPE=image/png:https://www.mission25cc.org/wp-content/uploads/2023/12/Making-Connections-1.png
END:VEVENT
BEGIN:VEVENT
DTSTART;TZID=America/Indiana/Indianapolis:20260708T100000
DTEND;TZID=America/Indiana/Indianapolis:20260708T110000
DTSTAMP:20260425T133820
CREATED:20231204T035005Z
LAST-MODIFIED:20240424T213417Z
UID:10000297-1783504800-1783508400@www.mission25cc.org
SUMMARY:Making Connections Group
DESCRIPTION:Making Connections is a peer-led support group for women seeking the power of connection in their recovery. Join us in a safe space for a time of sharing\, connections and freshly brewed coffee.
URL:https://www.mission25cc.org/event/making-connections-group/2026-07-08/
LOCATION:Columbia City\, IN\, 46725\, United States
ATTACH;FMTTYPE=image/png:https://www.mission25cc.org/wp-content/uploads/2023/12/Making-Connections-1.png
END:VEVENT
BEGIN:VEVENT
DTSTART;TZID=America/Indiana/Indianapolis:20260715T100000
DTEND;TZID=America/Indiana/Indianapolis:20260715T110000
DTSTAMP:20260425T133820
CREATED:20231204T035005Z
LAST-MODIFIED:20240424T213417Z
UID:10000298-1784109600-1784113200@www.mission25cc.org
SUMMARY:Making Connections Group
DESCRIPTION:Making Connections is a peer-led support group for women seeking the power of connection in their recovery. Join us in a safe space for a time of sharing\, connections and freshly brewed coffee.
URL:https://www.mission25cc.org/event/making-connections-group/2026-07-15/
LOCATION:Columbia City\, IN\, 46725\, United States
ATTACH;FMTTYPE=image/png:https://www.mission25cc.org/wp-content/uploads/2023/12/Making-Connections-1.png
END:VEVENT
BEGIN:VEVENT
DTSTART;TZID=America/Indiana/Indianapolis:20260722T100000
DTEND;TZID=America/Indiana/Indianapolis:20260722T110000
DTSTAMP:20260425T133820
CREATED:20231204T035005Z
LAST-MODIFIED:20240424T213417Z
UID:10000299-1784714400-1784718000@www.mission25cc.org
SUMMARY:Making Connections Group
DESCRIPTION:Making Connections is a peer-led support group for women seeking the power of connection in their recovery. Join us in a safe space for a time of sharing\, connections and freshly brewed coffee.
URL:https://www.mission25cc.org/event/making-connections-group/2026-07-22/
LOCATION:Columbia City\, IN\, 46725\, United States
ATTACH;FMTTYPE=image/png:https://www.mission25cc.org/wp-content/uploads/2023/12/Making-Connections-1.png
END:VEVENT
BEGIN:VEVENT
DTSTART;TZID=America/Indiana/Indianapolis:20260729T100000
DTEND;TZID=America/Indiana/Indianapolis:20260729T110000
DTSTAMP:20260425T133820
CREATED:20231204T035005Z
LAST-MODIFIED:20240424T213417Z
UID:10000300-1785319200-1785322800@www.mission25cc.org
SUMMARY:Making Connections Group
DESCRIPTION:Making Connections is a peer-led support group for women seeking the power of connection in their recovery. Join us in a safe space for a time of sharing\, connections and freshly brewed coffee.
URL:https://www.mission25cc.org/event/making-connections-group/2026-07-29/
LOCATION:Columbia City\, IN\, 46725\, United States
ATTACH;FMTTYPE=image/png:https://www.mission25cc.org/wp-content/uploads/2023/12/Making-Connections-1.png
END:VEVENT
BEGIN:VEVENT
DTSTART;TZID=America/Indiana/Indianapolis:20260705T173000
DTEND;TZID=America/Indiana/Indianapolis:20260705T203000
DTSTAMP:20260425T133820
CREATED:20231205T135534Z
LAST-MODIFIED:20231205T135734Z
UID:10001079-1783272600-1783283400@www.mission25cc.org
SUMMARY:Celebrate Recovery
DESCRIPTION:Join us for Celebrate Recovery on Sunday evenings. Bring your hurts\, habits and hang-ups into a safe environment with likeminded people. We have a time of fellowship between 5:30 PM – 6:00 PM (come for a freshly brewed cup of coffee) and then come together in a large group format beginning at 6:00 PM. We have small groups immediately following the large group time. \nCelebrate Recovery is led by CR Leaders from The Warehouse Church.
URL:https://www.mission25cc.org/event/celebrate-recovery-2/2026-07-05/
LOCATION:Columbia City\, IN\, 46725\, United States
END:VEVENT
BEGIN:VEVENT
DTSTART;TZID=America/Indiana/Indianapolis:20260712T173000
DTEND;TZID=America/Indiana/Indianapolis:20260712T203000
DTSTAMP:20260425T133820
CREATED:20231205T135534Z
LAST-MODIFIED:20231205T135734Z
UID:10001080-1783877400-1783888200@www.mission25cc.org
SUMMARY:Celebrate Recovery
DESCRIPTION:Join us for Celebrate Recovery on Sunday evenings. Bring your hurts\, habits and hang-ups into a safe environment with likeminded people. We have a time of fellowship between 5:30 PM – 6:00 PM (come for a freshly brewed cup of coffee) and then come together in a large group format beginning at 6:00 PM. We have small groups immediately following the large group time. \nCelebrate Recovery is led by CR Leaders from The Warehouse Church.
URL:https://www.mission25cc.org/event/celebrate-recovery-2/2026-07-12/
LOCATION:Columbia City\, IN\, 46725\, United States
END:VEVENT
BEGIN:VEVENT
DTSTART;TZID=America/Indiana/Indianapolis:20260719T173000
DTEND;TZID=America/Indiana/Indianapolis:20260719T203000
DTSTAMP:20260425T133820
CREATED:20231205T135534Z
LAST-MODIFIED:20231205T135734Z
UID:10001081-1784482200-1784493000@www.mission25cc.org
SUMMARY:Celebrate Recovery
DESCRIPTION:Join us for Celebrate Recovery on Sunday evenings. Bring your hurts\, habits and hang-ups into a safe environment with likeminded people. We have a time of fellowship between 5:30 PM – 6:00 PM (come for a freshly brewed cup of coffee) and then come together in a large group format beginning at 6:00 PM. We have small groups immediately following the large group time. \nCelebrate Recovery is led by CR Leaders from The Warehouse Church.
URL:https://www.mission25cc.org/event/celebrate-recovery-2/2026-07-19/
LOCATION:Columbia City\, IN\, 46725\, United States
END:VEVENT
BEGIN:VEVENT
DTSTART;TZID=America/Indiana/Indianapolis:20260726T173000
DTEND;TZID=America/Indiana/Indianapolis:20260726T203000
DTSTAMP:20260425T133820
CREATED:20231205T135534Z
LAST-MODIFIED:20231205T135734Z
UID:10001082-1785087000-1785097800@www.mission25cc.org
SUMMARY:Celebrate Recovery
DESCRIPTION:Join us for Celebrate Recovery on Sunday evenings. Bring your hurts\, habits and hang-ups into a safe environment with likeminded people. We have a time of fellowship between 5:30 PM – 6:00 PM (come for a freshly brewed cup of coffee) and then come together in a large group format beginning at 6:00 PM. We have small groups immediately following the large group time. \nCelebrate Recovery is led by CR Leaders from The Warehouse Church.
URL:https://www.mission25cc.org/event/celebrate-recovery-2/2026-07-26/
LOCATION:Columbia City\, IN\, 46725\, United States
END:VEVENT
BEGIN:VEVENT
DTSTART;TZID=America/Indiana/Indianapolis:20260706T093000
DTEND;TZID=America/Indiana/Indianapolis:20260706T103000
DTSTAMP:20260425T133820
CREATED:20231202T200711Z
LAST-MODIFIED:20231205T140111Z
UID:10001235-1783330200-1783333800@www.mission25cc.org
SUMMARY:Journaling Through Recovery
DESCRIPTION:Join us in a safe environment on Monday mornings at the Mission 25 Recovery Engagement Center as we journal our way through recovery. Explore journal writing and/or drawing as a recovery tool in expressing feelings in a healthy\, safe and non-judgmental way. We will provide prompts for those who choose to write or draw in their journals. The tools will be provided\, along with freshly brewed coffee.
URL:https://www.mission25cc.org/event/journaling-through-recovery/2026-07-06/
LOCATION:Columbia City\, IN\, 46725\, United States
END:VEVENT
BEGIN:VEVENT
DTSTART;TZID=America/Indiana/Indianapolis:20260713T093000
DTEND;TZID=America/Indiana/Indianapolis:20260713T103000
DTSTAMP:20260425T133820
CREATED:20231202T200711Z
LAST-MODIFIED:20231205T140111Z
UID:10001236-1783935000-1783938600@www.mission25cc.org
SUMMARY:Journaling Through Recovery
DESCRIPTION:Join us in a safe environment on Monday mornings at the Mission 25 Recovery Engagement Center as we journal our way through recovery. Explore journal writing and/or drawing as a recovery tool in expressing feelings in a healthy\, safe and non-judgmental way. We will provide prompts for those who choose to write or draw in their journals. The tools will be provided\, along with freshly brewed coffee.
URL:https://www.mission25cc.org/event/journaling-through-recovery/2026-07-13/
LOCATION:Columbia City\, IN\, 46725\, United States
END:VEVENT
BEGIN:VEVENT
DTSTART;TZID=America/Indiana/Indianapolis:20260720T093000
DTEND;TZID=America/Indiana/Indianapolis:20260720T103000
DTSTAMP:20260425T133820
CREATED:20231202T200711Z
LAST-MODIFIED:20231205T140111Z
UID:10001237-1784539800-1784543400@www.mission25cc.org
SUMMARY:Journaling Through Recovery
DESCRIPTION:Join us in a safe environment on Monday mornings at the Mission 25 Recovery Engagement Center as we journal our way through recovery. Explore journal writing and/or drawing as a recovery tool in expressing feelings in a healthy\, safe and non-judgmental way. We will provide prompts for those who choose to write or draw in their journals. The tools will be provided\, along with freshly brewed coffee.
URL:https://www.mission25cc.org/event/journaling-through-recovery/2026-07-20/
LOCATION:Columbia City\, IN\, 46725\, United States
END:VEVENT
BEGIN:VEVENT
DTSTART;TZID=America/Indiana/Indianapolis:20260727T093000
DTEND;TZID=America/Indiana/Indianapolis:20260727T103000
DTSTAMP:20260425T133820
CREATED:20231202T200711Z
LAST-MODIFIED:20231205T140111Z
UID:10001238-1785144600-1785148200@www.mission25cc.org
SUMMARY:Journaling Through Recovery
DESCRIPTION:Join us in a safe environment on Monday mornings at the Mission 25 Recovery Engagement Center as we journal our way through recovery. Explore journal writing and/or drawing as a recovery tool in expressing feelings in a healthy\, safe and non-judgmental way. We will provide prompts for those who choose to write or draw in their journals. The tools will be provided\, along with freshly brewed coffee.
URL:https://www.mission25cc.org/event/journaling-through-recovery/2026-07-27/
LOCATION:Columbia City\, IN\, 46725\, United States
END:VEVENT
BEGIN:VEVENT
DTSTART;TZID=America/Indiana/Indianapolis:20260707T193000
DTEND;TZID=America/Indiana/Indianapolis:20260707T203000
DTSTAMP:20260425T133820
CREATED:20251016T141538Z
LAST-MODIFIED:20251016T142135Z
UID:10001640-1783452600-1783456200@www.mission25cc.org
SUMMARY:Recovery Group
DESCRIPTION:
URL:https://www.mission25cc.org/event/recovery-group/2026-07-07/
LOCATION:Columbia City\, IN\, 46725\, United States
END:VEVENT
BEGIN:VEVENT
DTSTART;TZID=America/Indiana/Indianapolis:20260714T193000
DTEND;TZID=America/Indiana/Indianapolis:20260714T203000
DTSTAMP:20260425T133820
CREATED:20251016T141538Z
LAST-MODIFIED:20251016T142135Z
UID:10001641-1784057400-1784061000@www.mission25cc.org
SUMMARY:Recovery Group
DESCRIPTION:
URL:https://www.mission25cc.org/event/recovery-group/2026-07-14/
LOCATION:Columbia City\, IN\, 46725\, United States
END:VEVENT
BEGIN:VEVENT
DTSTART;TZID=America/Indiana/Indianapolis:20260721T193000
DTEND;TZID=America/Indiana/Indianapolis:20260721T203000
DTSTAMP:20260425T133820
CREATED:20251016T141538Z
LAST-MODIFIED:20251016T142135Z
UID:10001642-1784662200-1784665800@www.mission25cc.org
SUMMARY:Recovery Group
DESCRIPTION:
URL:https://www.mission25cc.org/event/recovery-group/2026-07-21/
LOCATION:Columbia City\, IN\, 46725\, United States
END:VEVENT
BEGIN:VEVENT
DTSTART;TZID=America/Indiana/Indianapolis:20260728T193000
DTEND;TZID=America/Indiana/Indianapolis:20260728T203000
DTSTAMP:20260425T133820
CREATED:20251016T141538Z
LAST-MODIFIED:20251016T142135Z
UID:10001643-1785267000-1785270600@www.mission25cc.org
SUMMARY:Recovery Group
DESCRIPTION:
URL:https://www.mission25cc.org/event/recovery-group/2026-07-28/
LOCATION:Columbia City\, IN\, 46725\, United States
END:VEVENT
BEGIN:VEVENT
DTSTART;TZID=America/Indiana/Indianapolis:20260706T183000
DTEND;TZID=America/Indiana/Indianapolis:20260706T200000
DTSTAMP:20260425T133820
CREATED:20251215T210346Z
LAST-MODIFIED:20260122T155334Z
UID:10001790-1783362600-1783368000@www.mission25cc.org
SUMMARY:NA: Free to Be
DESCRIPTION:Hosted by Northeastern Indiana Area of Narcotics Anonymous\, Free to Be NA meets at Mission 25 Recovery Engagement Center. \nOpen to addicts and non-addicts alike\, beginner friendly\, discussion is invited by all attendees\, wheelchair accessible.
URL:https://www.mission25cc.org/event/na-free-to-be/2026-07-06/
LOCATION:Columbia City\, IN\, 46725\, United States
END:VEVENT
BEGIN:VEVENT
DTSTART;TZID=America/Indiana/Indianapolis:20260713T183000
DTEND;TZID=America/Indiana/Indianapolis:20260713T200000
DTSTAMP:20260425T133820
CREATED:20251215T210346Z
LAST-MODIFIED:20260122T155334Z
UID:10001791-1783967400-1783972800@www.mission25cc.org
SUMMARY:NA: Free to Be
DESCRIPTION:Hosted by Northeastern Indiana Area of Narcotics Anonymous\, Free to Be NA meets at Mission 25 Recovery Engagement Center. \nOpen to addicts and non-addicts alike\, beginner friendly\, discussion is invited by all attendees\, wheelchair accessible.
URL:https://www.mission25cc.org/event/na-free-to-be/2026-07-13/
LOCATION:Columbia City\, IN\, 46725\, United States
END:VEVENT
BEGIN:VEVENT
DTSTART;TZID=America/Indiana/Indianapolis:20260720T183000
DTEND;TZID=America/Indiana/Indianapolis:20260720T200000
DTSTAMP:20260425T133820
CREATED:20251215T210346Z
LAST-MODIFIED:20260122T155334Z
UID:10001792-1784572200-1784577600@www.mission25cc.org
SUMMARY:NA: Free to Be
DESCRIPTION:Hosted by Northeastern Indiana Area of Narcotics Anonymous\, Free to Be NA meets at Mission 25 Recovery Engagement Center. \nOpen to addicts and non-addicts alike\, beginner friendly\, discussion is invited by all attendees\, wheelchair accessible.
URL:https://www.mission25cc.org/event/na-free-to-be/2026-07-20/
LOCATION:Columbia City\, IN\, 46725\, United States
END:VEVENT
BEGIN:VEVENT
DTSTART;TZID=America/Indiana/Indianapolis:20260727T183000
DTEND;TZID=America/Indiana/Indianapolis:20260727T200000
DTSTAMP:20260425T133820
CREATED:20251215T210346Z
LAST-MODIFIED:20260122T155334Z
UID:10001793-1785177000-1785182400@www.mission25cc.org
SUMMARY:NA: Free to Be
DESCRIPTION:Hosted by Northeastern Indiana Area of Narcotics Anonymous\, Free to Be NA meets at Mission 25 Recovery Engagement Center. \nOpen to addicts and non-addicts alike\, beginner friendly\, discussion is invited by all attendees\, wheelchair accessible.
URL:https://www.mission25cc.org/event/na-free-to-be/2026-07-27/
LOCATION:Columbia City\, IN\, 46725\, United States
END:VEVENT
BEGIN:VEVENT
DTSTART;TZID=America/Indiana/Indianapolis:20260706T170000
DTEND;TZID=America/Indiana/Indianapolis:20260706T180000
DTSTAMP:20260425T133820
CREATED:20240213T192249Z
LAST-MODIFIED:20260204T223412Z
UID:10001954-1783357200-1783360800@www.mission25cc.org
SUMMARY:Parents/People of Addicted Loved Ones (PAL)
DESCRIPTION:Join other parents or people of addicted loved ones as we navigate coping with loved ones who are dealing with substance use disorder involving either drugs or alcohol. Find hope and support in this group.
URL:https://www.mission25cc.org/event/parents-people-of-addicted-loved-ones-pal/2026-07-06/
LOCATION:Columbia City\, IN\, 46725\, United States
ATTACH;FMTTYPE=image/png:https://www.mission25cc.org/wp-content/uploads/2023/12/Making-Connections-5.png
END:VEVENT
END:VCALENDAR