BEGIN:VCALENDAR
VERSION:2.0
PRODID:-//Mission 25 - ECPv6.0.8//NONSGML v1.0//EN
CALSCALE:GREGORIAN
METHOD:PUBLISH
X-WR-CALNAME:Mission 25
X-ORIGINAL-URL:https://www.mission25cc.org
X-WR-CALDESC:Events for Mission 25
REFRESH-INTERVAL;VALUE=DURATION:PT1H
X-Robots-Tag:noindex
X-PUBLISHED-TTL:PT1H
BEGIN:VTIMEZONE
TZID:America/Indiana/Indianapolis
BEGIN:DAYLIGHT
TZOFFSETFROM:-0500
TZOFFSETTO:-0400
TZNAME:EDT
DTSTART:20260308T070000
END:DAYLIGHT
BEGIN:STANDARD
TZOFFSETFROM:-0400
TZOFFSETTO:-0500
TZNAME:EST
DTSTART:20261101T060000
END:STANDARD
END:VTIMEZONE
BEGIN:VEVENT
DTSTART;TZID=America/Indiana/Indianapolis:20261007T100000
DTEND;TZID=America/Indiana/Indianapolis:20261007T110000
DTSTAMP:20260425T194123
CREATED:20231204T035005Z
LAST-MODIFIED:20240424T213417Z
UID:10000310-1791367200-1791370800@www.mission25cc.org
SUMMARY:Making Connections Group
DESCRIPTION:Making Connections is a peer-led support group for women seeking the power of connection in their recovery. Join us in a safe space for a time of sharing\, connections and freshly brewed coffee.
URL:https://www.mission25cc.org/event/making-connections-group/2026-10-07/
LOCATION:Columbia City\, IN\, 46725\, United States
ATTACH;FMTTYPE=image/png:https://www.mission25cc.org/wp-content/uploads/2023/12/Making-Connections-1.png
END:VEVENT
BEGIN:VEVENT
DTSTART;TZID=America/Indiana/Indianapolis:20261014T100000
DTEND;TZID=America/Indiana/Indianapolis:20261014T110000
DTSTAMP:20260425T194123
CREATED:20231204T035005Z
LAST-MODIFIED:20240424T213417Z
UID:10000311-1791972000-1791975600@www.mission25cc.org
SUMMARY:Making Connections Group
DESCRIPTION:Making Connections is a peer-led support group for women seeking the power of connection in their recovery. Join us in a safe space for a time of sharing\, connections and freshly brewed coffee.
URL:https://www.mission25cc.org/event/making-connections-group/2026-10-14/
LOCATION:Columbia City\, IN\, 46725\, United States
ATTACH;FMTTYPE=image/png:https://www.mission25cc.org/wp-content/uploads/2023/12/Making-Connections-1.png
END:VEVENT
BEGIN:VEVENT
DTSTART;TZID=America/Indiana/Indianapolis:20261021T100000
DTEND;TZID=America/Indiana/Indianapolis:20261021T110000
DTSTAMP:20260425T194123
CREATED:20231204T035005Z
LAST-MODIFIED:20240424T213417Z
UID:10000312-1792576800-1792580400@www.mission25cc.org
SUMMARY:Making Connections Group
DESCRIPTION:Making Connections is a peer-led support group for women seeking the power of connection in their recovery. Join us in a safe space for a time of sharing\, connections and freshly brewed coffee.
URL:https://www.mission25cc.org/event/making-connections-group/2026-10-21/
LOCATION:Columbia City\, IN\, 46725\, United States
ATTACH;FMTTYPE=image/png:https://www.mission25cc.org/wp-content/uploads/2023/12/Making-Connections-1.png
END:VEVENT
BEGIN:VEVENT
DTSTART;TZID=America/Indiana/Indianapolis:20261028T100000
DTEND;TZID=America/Indiana/Indianapolis:20261028T110000
DTSTAMP:20260425T194123
CREATED:20231204T035005Z
LAST-MODIFIED:20240424T213417Z
UID:10000313-1793181600-1793185200@www.mission25cc.org
SUMMARY:Making Connections Group
DESCRIPTION:Making Connections is a peer-led support group for women seeking the power of connection in their recovery. Join us in a safe space for a time of sharing\, connections and freshly brewed coffee.
URL:https://www.mission25cc.org/event/making-connections-group/2026-10-28/
LOCATION:Columbia City\, IN\, 46725\, United States
ATTACH;FMTTYPE=image/png:https://www.mission25cc.org/wp-content/uploads/2023/12/Making-Connections-1.png
END:VEVENT
BEGIN:VEVENT
DTSTART;TZID=America/Indiana/Indianapolis:20261004T173000
DTEND;TZID=America/Indiana/Indianapolis:20261004T203000
DTSTAMP:20260425T194123
CREATED:20231205T135534Z
LAST-MODIFIED:20231205T135734Z
UID:10001092-1791135000-1791145800@www.mission25cc.org
SUMMARY:Celebrate Recovery
DESCRIPTION:Join us for Celebrate Recovery on Sunday evenings. Bring your hurts\, habits and hang-ups into a safe environment with likeminded people. We have a time of fellowship between 5:30 PM – 6:00 PM (come for a freshly brewed cup of coffee) and then come together in a large group format beginning at 6:00 PM. We have small groups immediately following the large group time. \nCelebrate Recovery is led by CR Leaders from The Warehouse Church.
URL:https://www.mission25cc.org/event/celebrate-recovery-2/2026-10-04/
LOCATION:Columbia City\, IN\, 46725\, United States
END:VEVENT
BEGIN:VEVENT
DTSTART;TZID=America/Indiana/Indianapolis:20261011T173000
DTEND;TZID=America/Indiana/Indianapolis:20261011T203000
DTSTAMP:20260425T194123
CREATED:20231205T135534Z
LAST-MODIFIED:20231205T135734Z
UID:10001093-1791739800-1791750600@www.mission25cc.org
SUMMARY:Celebrate Recovery
DESCRIPTION:Join us for Celebrate Recovery on Sunday evenings. Bring your hurts\, habits and hang-ups into a safe environment with likeminded people. We have a time of fellowship between 5:30 PM – 6:00 PM (come for a freshly brewed cup of coffee) and then come together in a large group format beginning at 6:00 PM. We have small groups immediately following the large group time. \nCelebrate Recovery is led by CR Leaders from The Warehouse Church.
URL:https://www.mission25cc.org/event/celebrate-recovery-2/2026-10-11/
LOCATION:Columbia City\, IN\, 46725\, United States
END:VEVENT
BEGIN:VEVENT
DTSTART;TZID=America/Indiana/Indianapolis:20261018T173000
DTEND;TZID=America/Indiana/Indianapolis:20261018T203000
DTSTAMP:20260425T194123
CREATED:20231205T135534Z
LAST-MODIFIED:20231205T135734Z
UID:10001094-1792344600-1792355400@www.mission25cc.org
SUMMARY:Celebrate Recovery
DESCRIPTION:Join us for Celebrate Recovery on Sunday evenings. Bring your hurts\, habits and hang-ups into a safe environment with likeminded people. We have a time of fellowship between 5:30 PM – 6:00 PM (come for a freshly brewed cup of coffee) and then come together in a large group format beginning at 6:00 PM. We have small groups immediately following the large group time. \nCelebrate Recovery is led by CR Leaders from The Warehouse Church.
URL:https://www.mission25cc.org/event/celebrate-recovery-2/2026-10-18/
LOCATION:Columbia City\, IN\, 46725\, United States
END:VEVENT
BEGIN:VEVENT
DTSTART;TZID=America/Indiana/Indianapolis:20261025T173000
DTEND;TZID=America/Indiana/Indianapolis:20261025T203000
DTSTAMP:20260425T194123
CREATED:20231205T135534Z
LAST-MODIFIED:20231205T135734Z
UID:10001095-1792949400-1792960200@www.mission25cc.org
SUMMARY:Celebrate Recovery
DESCRIPTION:Join us for Celebrate Recovery on Sunday evenings. Bring your hurts\, habits and hang-ups into a safe environment with likeminded people. We have a time of fellowship between 5:30 PM – 6:00 PM (come for a freshly brewed cup of coffee) and then come together in a large group format beginning at 6:00 PM. We have small groups immediately following the large group time. \nCelebrate Recovery is led by CR Leaders from The Warehouse Church.
URL:https://www.mission25cc.org/event/celebrate-recovery-2/2026-10-25/
LOCATION:Columbia City\, IN\, 46725\, United States
END:VEVENT
BEGIN:VEVENT
DTSTART;TZID=America/Indiana/Indianapolis:20261005T093000
DTEND;TZID=America/Indiana/Indianapolis:20261005T103000
DTSTAMP:20260425T194123
CREATED:20231202T200711Z
LAST-MODIFIED:20231205T140111Z
UID:10001248-1791192600-1791196200@www.mission25cc.org
SUMMARY:Journaling Through Recovery
DESCRIPTION:Join us in a safe environment on Monday mornings at the Mission 25 Recovery Engagement Center as we journal our way through recovery. Explore journal writing and/or drawing as a recovery tool in expressing feelings in a healthy\, safe and non-judgmental way. We will provide prompts for those who choose to write or draw in their journals. The tools will be provided\, along with freshly brewed coffee.
URL:https://www.mission25cc.org/event/journaling-through-recovery/2026-10-05/
LOCATION:Columbia City\, IN\, 46725\, United States
END:VEVENT
BEGIN:VEVENT
DTSTART;TZID=America/Indiana/Indianapolis:20261012T093000
DTEND;TZID=America/Indiana/Indianapolis:20261012T103000
DTSTAMP:20260425T194123
CREATED:20231202T200711Z
LAST-MODIFIED:20231205T140111Z
UID:10001249-1791797400-1791801000@www.mission25cc.org
SUMMARY:Journaling Through Recovery
DESCRIPTION:Join us in a safe environment on Monday mornings at the Mission 25 Recovery Engagement Center as we journal our way through recovery. Explore journal writing and/or drawing as a recovery tool in expressing feelings in a healthy\, safe and non-judgmental way. We will provide prompts for those who choose to write or draw in their journals. The tools will be provided\, along with freshly brewed coffee.
URL:https://www.mission25cc.org/event/journaling-through-recovery/2026-10-12/
LOCATION:Columbia City\, IN\, 46725\, United States
END:VEVENT
BEGIN:VEVENT
DTSTART;TZID=America/Indiana/Indianapolis:20261019T093000
DTEND;TZID=America/Indiana/Indianapolis:20261019T103000
DTSTAMP:20260425T194123
CREATED:20231202T200711Z
LAST-MODIFIED:20231205T140111Z
UID:10001250-1792402200-1792405800@www.mission25cc.org
SUMMARY:Journaling Through Recovery
DESCRIPTION:Join us in a safe environment on Monday mornings at the Mission 25 Recovery Engagement Center as we journal our way through recovery. Explore journal writing and/or drawing as a recovery tool in expressing feelings in a healthy\, safe and non-judgmental way. We will provide prompts for those who choose to write or draw in their journals. The tools will be provided\, along with freshly brewed coffee.
URL:https://www.mission25cc.org/event/journaling-through-recovery/2026-10-19/
LOCATION:Columbia City\, IN\, 46725\, United States
END:VEVENT
BEGIN:VEVENT
DTSTART;TZID=America/Indiana/Indianapolis:20261026T093000
DTEND;TZID=America/Indiana/Indianapolis:20261026T103000
DTSTAMP:20260425T194123
CREATED:20231202T200711Z
LAST-MODIFIED:20231205T140111Z
UID:10001251-1793007000-1793010600@www.mission25cc.org
SUMMARY:Journaling Through Recovery
DESCRIPTION:Join us in a safe environment on Monday mornings at the Mission 25 Recovery Engagement Center as we journal our way through recovery. Explore journal writing and/or drawing as a recovery tool in expressing feelings in a healthy\, safe and non-judgmental way. We will provide prompts for those who choose to write or draw in their journals. The tools will be provided\, along with freshly brewed coffee.
URL:https://www.mission25cc.org/event/journaling-through-recovery/2026-10-26/
LOCATION:Columbia City\, IN\, 46725\, United States
END:VEVENT
BEGIN:VEVENT
DTSTART;TZID=America/Indiana/Indianapolis:20261006T193000
DTEND;TZID=America/Indiana/Indianapolis:20261006T203000
DTSTAMP:20260425T194123
CREATED:20251016T141538Z
LAST-MODIFIED:20251016T142135Z
UID:10001653-1791315000-1791318600@www.mission25cc.org
SUMMARY:Recovery Group
DESCRIPTION:
URL:https://www.mission25cc.org/event/recovery-group/2026-10-06/
LOCATION:Columbia City\, IN\, 46725\, United States
END:VEVENT
BEGIN:VEVENT
DTSTART;TZID=America/Indiana/Indianapolis:20261013T193000
DTEND;TZID=America/Indiana/Indianapolis:20261013T203000
DTSTAMP:20260425T194123
CREATED:20251016T141538Z
LAST-MODIFIED:20251016T142135Z
UID:10001654-1791919800-1791923400@www.mission25cc.org
SUMMARY:Recovery Group
DESCRIPTION:
URL:https://www.mission25cc.org/event/recovery-group/2026-10-13/
LOCATION:Columbia City\, IN\, 46725\, United States
END:VEVENT
BEGIN:VEVENT
DTSTART;TZID=America/Indiana/Indianapolis:20261020T193000
DTEND;TZID=America/Indiana/Indianapolis:20261020T203000
DTSTAMP:20260425T194123
CREATED:20251016T141538Z
LAST-MODIFIED:20251016T142135Z
UID:10001655-1792524600-1792528200@www.mission25cc.org
SUMMARY:Recovery Group
DESCRIPTION:
URL:https://www.mission25cc.org/event/recovery-group/2026-10-20/
LOCATION:Columbia City\, IN\, 46725\, United States
END:VEVENT
BEGIN:VEVENT
DTSTART;TZID=America/Indiana/Indianapolis:20261027T193000
DTEND;TZID=America/Indiana/Indianapolis:20261027T203000
DTSTAMP:20260425T194123
CREATED:20251016T141538Z
LAST-MODIFIED:20251016T142135Z
UID:10001656-1793129400-1793133000@www.mission25cc.org
SUMMARY:Recovery Group
DESCRIPTION:
URL:https://www.mission25cc.org/event/recovery-group/2026-10-27/
LOCATION:Columbia City\, IN\, 46725\, United States
END:VEVENT
BEGIN:VEVENT
DTSTART;TZID=America/Indiana/Indianapolis:20261005T183000
DTEND;TZID=America/Indiana/Indianapolis:20261005T200000
DTSTAMP:20260425T194123
CREATED:20251215T210346Z
LAST-MODIFIED:20260122T155334Z
UID:10001803-1791225000-1791230400@www.mission25cc.org
SUMMARY:NA: Free to Be
DESCRIPTION:Hosted by Northeastern Indiana Area of Narcotics Anonymous\, Free to Be NA meets at Mission 25 Recovery Engagement Center. \nOpen to addicts and non-addicts alike\, beginner friendly\, discussion is invited by all attendees\, wheelchair accessible.
URL:https://www.mission25cc.org/event/na-free-to-be/2026-10-05/
LOCATION:Columbia City\, IN\, 46725\, United States
END:VEVENT
BEGIN:VEVENT
DTSTART;TZID=America/Indiana/Indianapolis:20261012T183000
DTEND;TZID=America/Indiana/Indianapolis:20261012T200000
DTSTAMP:20260425T194123
CREATED:20251215T210346Z
LAST-MODIFIED:20260122T155334Z
UID:10001804-1791829800-1791835200@www.mission25cc.org
SUMMARY:NA: Free to Be
DESCRIPTION:Hosted by Northeastern Indiana Area of Narcotics Anonymous\, Free to Be NA meets at Mission 25 Recovery Engagement Center. \nOpen to addicts and non-addicts alike\, beginner friendly\, discussion is invited by all attendees\, wheelchair accessible.
URL:https://www.mission25cc.org/event/na-free-to-be/2026-10-12/
LOCATION:Columbia City\, IN\, 46725\, United States
END:VEVENT
BEGIN:VEVENT
DTSTART;TZID=America/Indiana/Indianapolis:20261019T183000
DTEND;TZID=America/Indiana/Indianapolis:20261019T200000
DTSTAMP:20260425T194123
CREATED:20251215T210346Z
LAST-MODIFIED:20260122T155334Z
UID:10001805-1792434600-1792440000@www.mission25cc.org
SUMMARY:NA: Free to Be
DESCRIPTION:Hosted by Northeastern Indiana Area of Narcotics Anonymous\, Free to Be NA meets at Mission 25 Recovery Engagement Center. \nOpen to addicts and non-addicts alike\, beginner friendly\, discussion is invited by all attendees\, wheelchair accessible.
URL:https://www.mission25cc.org/event/na-free-to-be/2026-10-19/
LOCATION:Columbia City\, IN\, 46725\, United States
END:VEVENT
BEGIN:VEVENT
DTSTART;TZID=America/Indiana/Indianapolis:20261026T183000
DTEND;TZID=America/Indiana/Indianapolis:20261026T200000
DTSTAMP:20260425T194123
CREATED:20251215T210346Z
LAST-MODIFIED:20260122T155334Z
UID:10001806-1793039400-1793044800@www.mission25cc.org
SUMMARY:NA: Free to Be
DESCRIPTION:Hosted by Northeastern Indiana Area of Narcotics Anonymous\, Free to Be NA meets at Mission 25 Recovery Engagement Center. \nOpen to addicts and non-addicts alike\, beginner friendly\, discussion is invited by all attendees\, wheelchair accessible.
URL:https://www.mission25cc.org/event/na-free-to-be/2026-10-26/
LOCATION:Columbia City\, IN\, 46725\, United States
END:VEVENT
BEGIN:VEVENT
DTSTART;TZID=America/Indiana/Indianapolis:20261005T170000
DTEND;TZID=America/Indiana/Indianapolis:20261005T180000
DTSTAMP:20260425T194123
CREATED:20240213T192249Z
LAST-MODIFIED:20260204T223412Z
UID:10001957-1791219600-1791223200@www.mission25cc.org
SUMMARY:Parents/People of Addicted Loved Ones (PAL)
DESCRIPTION:Join other parents or people of addicted loved ones as we navigate coping with loved ones who are dealing with substance use disorder involving either drugs or alcohol. Find hope and support in this group.
URL:https://www.mission25cc.org/event/parents-people-of-addicted-loved-ones-pal/2026-10-05/
LOCATION:Columbia City\, IN\, 46725\, United States
ATTACH;FMTTYPE=image/png:https://www.mission25cc.org/wp-content/uploads/2023/12/Making-Connections-5.png
END:VEVENT
END:VCALENDAR