BEGIN:VCALENDAR
VERSION:2.0
PRODID:-//Mission 25 - ECPv6.0.8//NONSGML v1.0//EN
CALSCALE:GREGORIAN
METHOD:PUBLISH
X-ORIGINAL-URL:https://www.mission25cc.org
X-WR-CALDESC:Events for Mission 25
REFRESH-INTERVAL;VALUE=DURATION:PT1H
X-Robots-Tag:noindex
X-PUBLISHED-TTL:PT1H
BEGIN:VTIMEZONE
TZID:America/Indiana/Indianapolis
BEGIN:DAYLIGHT
TZOFFSETFROM:-0500
TZOFFSETTO:-0400
TZNAME:EDT
DTSTART:20260308T070000
END:DAYLIGHT
BEGIN:STANDARD
TZOFFSETFROM:-0400
TZOFFSETTO:-0500
TZNAME:EST
DTSTART:20261101T060000
END:STANDARD
END:VTIMEZONE
BEGIN:VEVENT
DTSTART;TZID=America/Indiana/Indianapolis:20260421T193000
DTEND;TZID=America/Indiana/Indianapolis:20260421T203000
DTSTAMP:20260421T015534
CREATED:20251016T141538Z
LAST-MODIFIED:20251016T142135Z
UID:10001629-1776799800-1776803400@www.mission25cc.org
SUMMARY:Recovery Group
DESCRIPTION:
URL:https://www.mission25cc.org/event/recovery-group/2026-04-21/
LOCATION:Columbia City\, IN\, 46725\, United States
END:VEVENT
BEGIN:VEVENT
DTSTART;TZID=America/Indiana/Indianapolis:20260428T193000
DTEND;TZID=America/Indiana/Indianapolis:20260428T203000
DTSTAMP:20260421T015534
CREATED:20251016T141538Z
LAST-MODIFIED:20251016T142135Z
UID:10001630-1777404600-1777408200@www.mission25cc.org
SUMMARY:Recovery Group
DESCRIPTION:
URL:https://www.mission25cc.org/event/recovery-group/2026-04-28/
LOCATION:Columbia City\, IN\, 46725\, United States
END:VEVENT
BEGIN:VEVENT
DTSTART;TZID=America/Indiana/Indianapolis:20260505T193000
DTEND;TZID=America/Indiana/Indianapolis:20260505T203000
DTSTAMP:20260421T015534
CREATED:20251016T141538Z
LAST-MODIFIED:20251016T142135Z
UID:10001631-1778009400-1778013000@www.mission25cc.org
SUMMARY:Recovery Group
DESCRIPTION:
URL:https://www.mission25cc.org/event/recovery-group/2026-05-05/
LOCATION:Columbia City\, IN\, 46725\, United States
END:VEVENT
BEGIN:VEVENT
DTSTART;TZID=America/Indiana/Indianapolis:20260512T193000
DTEND;TZID=America/Indiana/Indianapolis:20260512T203000
DTSTAMP:20260421T015534
CREATED:20251016T141538Z
LAST-MODIFIED:20251016T142135Z
UID:10001632-1778614200-1778617800@www.mission25cc.org
SUMMARY:Recovery Group
DESCRIPTION:
URL:https://www.mission25cc.org/event/recovery-group/2026-05-12/
LOCATION:Columbia City\, IN\, 46725\, United States
END:VEVENT
BEGIN:VEVENT
DTSTART;TZID=America/Indiana/Indianapolis:20260519T193000
DTEND;TZID=America/Indiana/Indianapolis:20260519T203000
DTSTAMP:20260421T015534
CREATED:20251016T141538Z
LAST-MODIFIED:20251016T142135Z
UID:10001633-1779219000-1779222600@www.mission25cc.org
SUMMARY:Recovery Group
DESCRIPTION:
URL:https://www.mission25cc.org/event/recovery-group/2026-05-19/
LOCATION:Columbia City\, IN\, 46725\, United States
END:VEVENT
BEGIN:VEVENT
DTSTART;TZID=America/Indiana/Indianapolis:20260526T193000
DTEND;TZID=America/Indiana/Indianapolis:20260526T203000
DTSTAMP:20260421T015534
CREATED:20251016T141538Z
LAST-MODIFIED:20251016T142135Z
UID:10001634-1779823800-1779827400@www.mission25cc.org
SUMMARY:Recovery Group
DESCRIPTION:
URL:https://www.mission25cc.org/event/recovery-group/2026-05-26/
LOCATION:Columbia City\, IN\, 46725\, United States
END:VEVENT
BEGIN:VEVENT
DTSTART;TZID=America/Indiana/Indianapolis:20260602T193000
DTEND;TZID=America/Indiana/Indianapolis:20260602T203000
DTSTAMP:20260421T015534
CREATED:20251016T141538Z
LAST-MODIFIED:20251016T142135Z
UID:10001635-1780428600-1780432200@www.mission25cc.org
SUMMARY:Recovery Group
DESCRIPTION:
URL:https://www.mission25cc.org/event/recovery-group/2026-06-02/
LOCATION:Columbia City\, IN\, 46725\, United States
END:VEVENT
BEGIN:VEVENT
DTSTART;TZID=America/Indiana/Indianapolis:20260609T193000
DTEND;TZID=America/Indiana/Indianapolis:20260609T203000
DTSTAMP:20260421T015534
CREATED:20251016T141538Z
LAST-MODIFIED:20251016T142135Z
UID:10001636-1781033400-1781037000@www.mission25cc.org
SUMMARY:Recovery Group
DESCRIPTION:
URL:https://www.mission25cc.org/event/recovery-group/2026-06-09/
LOCATION:Columbia City\, IN\, 46725\, United States
END:VEVENT
BEGIN:VEVENT
DTSTART;TZID=America/Indiana/Indianapolis:20260616T193000
DTEND;TZID=America/Indiana/Indianapolis:20260616T203000
DTSTAMP:20260421T015534
CREATED:20251016T141538Z
LAST-MODIFIED:20251016T142135Z
UID:10001637-1781638200-1781641800@www.mission25cc.org
SUMMARY:Recovery Group
DESCRIPTION:
URL:https://www.mission25cc.org/event/recovery-group/2026-06-16/
LOCATION:Columbia City\, IN\, 46725\, United States
END:VEVENT
BEGIN:VEVENT
DTSTART;TZID=America/Indiana/Indianapolis:20260623T193000
DTEND;TZID=America/Indiana/Indianapolis:20260623T203000
DTSTAMP:20260421T015534
CREATED:20251016T141538Z
LAST-MODIFIED:20251016T142135Z
UID:10001638-1782243000-1782246600@www.mission25cc.org
SUMMARY:Recovery Group
DESCRIPTION:
URL:https://www.mission25cc.org/event/recovery-group/2026-06-23/
LOCATION:Columbia City\, IN\, 46725\, United States
END:VEVENT
BEGIN:VEVENT
DTSTART;TZID=America/Indiana/Indianapolis:20260630T193000
DTEND;TZID=America/Indiana/Indianapolis:20260630T203000
DTSTAMP:20260421T015534
CREATED:20251016T141538Z
LAST-MODIFIED:20251016T142135Z
UID:10001639-1782847800-1782851400@www.mission25cc.org
SUMMARY:Recovery Group
DESCRIPTION:
URL:https://www.mission25cc.org/event/recovery-group/2026-06-30/
LOCATION:Columbia City\, IN\, 46725\, United States
END:VEVENT
BEGIN:VEVENT
DTSTART;TZID=America/Indiana/Indianapolis:20260707T193000
DTEND;TZID=America/Indiana/Indianapolis:20260707T203000
DTSTAMP:20260421T015534
CREATED:20251016T141538Z
LAST-MODIFIED:20251016T142135Z
UID:10001640-1783452600-1783456200@www.mission25cc.org
SUMMARY:Recovery Group
DESCRIPTION:
URL:https://www.mission25cc.org/event/recovery-group/2026-07-07/
LOCATION:Columbia City\, IN\, 46725\, United States
END:VEVENT
BEGIN:VEVENT
DTSTART;TZID=America/Indiana/Indianapolis:20260714T193000
DTEND;TZID=America/Indiana/Indianapolis:20260714T203000
DTSTAMP:20260421T015534
CREATED:20251016T141538Z
LAST-MODIFIED:20251016T142135Z
UID:10001641-1784057400-1784061000@www.mission25cc.org
SUMMARY:Recovery Group
DESCRIPTION:
URL:https://www.mission25cc.org/event/recovery-group/2026-07-14/
LOCATION:Columbia City\, IN\, 46725\, United States
END:VEVENT
BEGIN:VEVENT
DTSTART;TZID=America/Indiana/Indianapolis:20260721T193000
DTEND;TZID=America/Indiana/Indianapolis:20260721T203000
DTSTAMP:20260421T015534
CREATED:20251016T141538Z
LAST-MODIFIED:20251016T142135Z
UID:10001642-1784662200-1784665800@www.mission25cc.org
SUMMARY:Recovery Group
DESCRIPTION:
URL:https://www.mission25cc.org/event/recovery-group/2026-07-21/
LOCATION:Columbia City\, IN\, 46725\, United States
END:VEVENT
BEGIN:VEVENT
DTSTART;TZID=America/Indiana/Indianapolis:20260728T193000
DTEND;TZID=America/Indiana/Indianapolis:20260728T203000
DTSTAMP:20260421T015534
CREATED:20251016T141538Z
LAST-MODIFIED:20251016T142135Z
UID:10001643-1785267000-1785270600@www.mission25cc.org
SUMMARY:Recovery Group
DESCRIPTION:
URL:https://www.mission25cc.org/event/recovery-group/2026-07-28/
LOCATION:Columbia City\, IN\, 46725\, United States
END:VEVENT
BEGIN:VEVENT
DTSTART;TZID=America/Indiana/Indianapolis:20260804T193000
DTEND;TZID=America/Indiana/Indianapolis:20260804T203000
DTSTAMP:20260421T015534
CREATED:20251016T141538Z
LAST-MODIFIED:20251016T142135Z
UID:10001644-1785871800-1785875400@www.mission25cc.org
SUMMARY:Recovery Group
DESCRIPTION:
URL:https://www.mission25cc.org/event/recovery-group/2026-08-04/
LOCATION:Columbia City\, IN\, 46725\, United States
END:VEVENT
BEGIN:VEVENT
DTSTART;TZID=America/Indiana/Indianapolis:20260811T193000
DTEND;TZID=America/Indiana/Indianapolis:20260811T203000
DTSTAMP:20260421T015534
CREATED:20251016T141538Z
LAST-MODIFIED:20251016T142135Z
UID:10001645-1786476600-1786480200@www.mission25cc.org
SUMMARY:Recovery Group
DESCRIPTION:
URL:https://www.mission25cc.org/event/recovery-group/2026-08-11/
LOCATION:Columbia City\, IN\, 46725\, United States
END:VEVENT
BEGIN:VEVENT
DTSTART;TZID=America/Indiana/Indianapolis:20260818T193000
DTEND;TZID=America/Indiana/Indianapolis:20260818T203000
DTSTAMP:20260421T015534
CREATED:20251016T141538Z
LAST-MODIFIED:20251016T142135Z
UID:10001646-1787081400-1787085000@www.mission25cc.org
SUMMARY:Recovery Group
DESCRIPTION:
URL:https://www.mission25cc.org/event/recovery-group/2026-08-18/
LOCATION:Columbia City\, IN\, 46725\, United States
END:VEVENT
BEGIN:VEVENT
DTSTART;TZID=America/Indiana/Indianapolis:20260825T193000
DTEND;TZID=America/Indiana/Indianapolis:20260825T203000
DTSTAMP:20260421T015534
CREATED:20251016T141538Z
LAST-MODIFIED:20251016T142135Z
UID:10001647-1787686200-1787689800@www.mission25cc.org
SUMMARY:Recovery Group
DESCRIPTION:
URL:https://www.mission25cc.org/event/recovery-group/2026-08-25/
LOCATION:Columbia City\, IN\, 46725\, United States
END:VEVENT
BEGIN:VEVENT
DTSTART;TZID=America/Indiana/Indianapolis:20260901T193000
DTEND;TZID=America/Indiana/Indianapolis:20260901T203000
DTSTAMP:20260421T015534
CREATED:20251016T141538Z
LAST-MODIFIED:20251016T142135Z
UID:10001648-1788291000-1788294600@www.mission25cc.org
SUMMARY:Recovery Group
DESCRIPTION:
URL:https://www.mission25cc.org/event/recovery-group/2026-09-01/
LOCATION:Columbia City\, IN\, 46725\, United States
END:VEVENT
BEGIN:VEVENT
DTSTART;TZID=America/Indiana/Indianapolis:20260908T193000
DTEND;TZID=America/Indiana/Indianapolis:20260908T203000
DTSTAMP:20260421T015534
CREATED:20251016T141538Z
LAST-MODIFIED:20251016T142135Z
UID:10001649-1788895800-1788899400@www.mission25cc.org
SUMMARY:Recovery Group
DESCRIPTION:
URL:https://www.mission25cc.org/event/recovery-group/2026-09-08/
LOCATION:Columbia City\, IN\, 46725\, United States
END:VEVENT
BEGIN:VEVENT
DTSTART;TZID=America/Indiana/Indianapolis:20260915T193000
DTEND;TZID=America/Indiana/Indianapolis:20260915T203000
DTSTAMP:20260421T015534
CREATED:20251016T141538Z
LAST-MODIFIED:20251016T142135Z
UID:10001650-1789500600-1789504200@www.mission25cc.org
SUMMARY:Recovery Group
DESCRIPTION:
URL:https://www.mission25cc.org/event/recovery-group/2026-09-15/
LOCATION:Columbia City\, IN\, 46725\, United States
END:VEVENT
BEGIN:VEVENT
DTSTART;TZID=America/Indiana/Indianapolis:20260922T193000
DTEND;TZID=America/Indiana/Indianapolis:20260922T203000
DTSTAMP:20260421T015534
CREATED:20251016T141538Z
LAST-MODIFIED:20251016T142135Z
UID:10001651-1790105400-1790109000@www.mission25cc.org
SUMMARY:Recovery Group
DESCRIPTION:
URL:https://www.mission25cc.org/event/recovery-group/2026-09-22/
LOCATION:Columbia City\, IN\, 46725\, United States
END:VEVENT
BEGIN:VEVENT
DTSTART;TZID=America/Indiana/Indianapolis:20260929T193000
DTEND;TZID=America/Indiana/Indianapolis:20260929T203000
DTSTAMP:20260421T015534
CREATED:20251016T141538Z
LAST-MODIFIED:20251016T142135Z
UID:10001652-1790710200-1790713800@www.mission25cc.org
SUMMARY:Recovery Group
DESCRIPTION:
URL:https://www.mission25cc.org/event/recovery-group/2026-09-29/
LOCATION:Columbia City\, IN\, 46725\, United States
END:VEVENT
BEGIN:VEVENT
DTSTART;TZID=America/Indiana/Indianapolis:20261006T193000
DTEND;TZID=America/Indiana/Indianapolis:20261006T203000
DTSTAMP:20260421T015534
CREATED:20251016T141538Z
LAST-MODIFIED:20251016T142135Z
UID:10001653-1791315000-1791318600@www.mission25cc.org
SUMMARY:Recovery Group
DESCRIPTION:
URL:https://www.mission25cc.org/event/recovery-group/2026-10-06/
LOCATION:Columbia City\, IN\, 46725\, United States
END:VEVENT
BEGIN:VEVENT
DTSTART;TZID=America/Indiana/Indianapolis:20261013T193000
DTEND;TZID=America/Indiana/Indianapolis:20261013T203000
DTSTAMP:20260421T015534
CREATED:20251016T141538Z
LAST-MODIFIED:20251016T142135Z
UID:10001654-1791919800-1791923400@www.mission25cc.org
SUMMARY:Recovery Group
DESCRIPTION:
URL:https://www.mission25cc.org/event/recovery-group/2026-10-13/
LOCATION:Columbia City\, IN\, 46725\, United States
END:VEVENT
BEGIN:VEVENT
DTSTART;TZID=America/Indiana/Indianapolis:20261020T193000
DTEND;TZID=America/Indiana/Indianapolis:20261020T203000
DTSTAMP:20260421T015534
CREATED:20251016T141538Z
LAST-MODIFIED:20251016T142135Z
UID:10001655-1792524600-1792528200@www.mission25cc.org
SUMMARY:Recovery Group
DESCRIPTION:
URL:https://www.mission25cc.org/event/recovery-group/2026-10-20/
LOCATION:Columbia City\, IN\, 46725\, United States
END:VEVENT
BEGIN:VEVENT
DTSTART;TZID=America/Indiana/Indianapolis:20261027T193000
DTEND;TZID=America/Indiana/Indianapolis:20261027T203000
DTSTAMP:20260421T015534
CREATED:20251016T141538Z
LAST-MODIFIED:20251016T142135Z
UID:10001656-1793129400-1793133000@www.mission25cc.org
SUMMARY:Recovery Group
DESCRIPTION:
URL:https://www.mission25cc.org/event/recovery-group/2026-10-27/
LOCATION:Columbia City\, IN\, 46725\, United States
END:VEVENT
BEGIN:VEVENT
DTSTART;TZID=America/Indiana/Indianapolis:20261103T193000
DTEND;TZID=America/Indiana/Indianapolis:20261103T203000
DTSTAMP:20260421T015534
CREATED:20251016T141538Z
LAST-MODIFIED:20251016T142135Z
UID:10001657-1793734200-1793737800@www.mission25cc.org
SUMMARY:Recovery Group
DESCRIPTION:
URL:https://www.mission25cc.org/event/recovery-group/2026-11-03/
LOCATION:Columbia City\, IN\, 46725\, United States
END:VEVENT
BEGIN:VEVENT
DTSTART;TZID=America/Indiana/Indianapolis:20261110T193000
DTEND;TZID=America/Indiana/Indianapolis:20261110T203000
DTSTAMP:20260421T015534
CREATED:20251016T141538Z
LAST-MODIFIED:20251016T142135Z
UID:10001658-1794339000-1794342600@www.mission25cc.org
SUMMARY:Recovery Group
DESCRIPTION:
URL:https://www.mission25cc.org/event/recovery-group/2026-11-10/
LOCATION:Columbia City\, IN\, 46725\, United States
END:VEVENT
END:VCALENDAR